BEGIN:VCALENDAR
PRODID:-//nuDatenautomaten//framework iCal4j //DE
VERSION:2.0
CALSCALE:GREGORIAN
BEGIN:VTIMEZONE
TZID:Europe/Berlin
LAST-MODIFIED:20260306T231828Z
TZURL:https://www.tzurl.org/zoneinfo/Europe/Berlin
X-LIC-LOCATION:Europe/Berlin
X-PROLEPTIC-TZNAME:LMT
BEGIN:STANDARD
TZNAME:CET
TZOFFSETFROM:+005328
TZOFFSETTO:+0100
DTSTART:18930401T000000
END:STANDARD
BEGIN:DAYLIGHT
TZNAME:CEST
TZOFFSETFROM:+0100
TZOFFSETTO:+0200
DTSTART:19160430T230000
RDATE:19400401T020000
RDATE:19430329T020000
RDATE:19460414T020000
RDATE:19470406T030000
RDATE:19480418T020000
RDATE:19490410T020000
RDATE:19800406T020000
END:DAYLIGHT
BEGIN:STANDARD
TZNAME:CET
TZOFFSETFROM:+0200
TZOFFSETTO:+0100
DTSTART:19161001T010000
RDATE:19421102T030000
RDATE:19431004T030000
RDATE:19441002T030000
RDATE:19451118T030000
RDATE:19461007T030000
END:STANDARD
BEGIN:DAYLIGHT
TZNAME:CEST
TZOFFSETFROM:+0100
TZOFFSETTO:+0200
DTSTART:19170416T020000
RRULE:FREQ=YEARLY;UNTIL=19180415T010000Z;BYMONTH=4;BYDAY=3MO
END:DAYLIGHT
BEGIN:STANDARD
TZNAME:CET
TZOFFSETFROM:+0200
TZOFFSETTO:+0100
DTSTART:19170917T030000
RRULE:FREQ=YEARLY;UNTIL=19180916T010000Z;BYMONTH=9;BYDAY=3MO
END:STANDARD
BEGIN:DAYLIGHT
TZNAME:CEST
TZOFFSETFROM:+0100
TZOFFSETTO:+0200
DTSTART:19440403T020000
RRULE:FREQ=YEARLY;UNTIL=19450402T010000Z;BYMONTH=4;BYDAY=1MO
END:DAYLIGHT
BEGIN:DAYLIGHT
TZNAME:CEMT
TZOFFSETFROM:+0200
TZOFFSETTO:+0300
DTSTART:19450524T020000
RDATE:19470511T030000
END:DAYLIGHT
BEGIN:DAYLIGHT
TZNAME:CEST
TZOFFSETFROM:+0300
TZOFFSETTO:+0200
DTSTART:19450924T030000
RDATE:19470629T030000
END:DAYLIGHT
BEGIN:STANDARD
TZNAME:CET
TZOFFSETFROM:+0100
TZOFFSETTO:+0100
DTSTART:19460101T000000
RDATE:19800101T000000
END:STANDARD
BEGIN:STANDARD
TZNAME:CET
TZOFFSETFROM:+0200
TZOFFSETTO:+0100
DTSTART:19471005T030000
RRULE:FREQ=YEARLY;UNTIL=19491002T010000Z;BYMONTH=10;BYDAY=1SU
END:STANDARD
BEGIN:STANDARD
TZNAME:CET
TZOFFSETFROM:+0200
TZOFFSETTO:+0100
DTSTART:19800928T030000
RRULE:FREQ=YEARLY;UNTIL=19950924T010000Z;BYMONTH=9;BYDAY=-1SU
END:STANDARD
BEGIN:DAYLIGHT
TZNAME:CEST
TZOFFSETFROM:+0100
TZOFFSETTO:+0200
DTSTART:19810329T020000
RRULE:FREQ=YEARLY;BYMONTH=3;BYDAY=-1SU
END:DAYLIGHT
BEGIN:STANDARD
TZNAME:CET
TZOFFSETFROM:+0200
TZOFFSETTO:+0100
DTSTART:19961027T030000
RRULE:FREQ=YEARLY;BYMONTH=10;BYDAY=-1SU
END:STANDARD
END:VTIMEZONE
BEGIN:VEVENT
DTSTAMP:20260421T202704Z
DTSTART;TZID=Europe/Berlin:20201102T194500
DTEND;TZID=Europe/Berlin:20201102T224500
SUMMARY:HE 3. Liga Gr. 2 Ittigen vs Burgdorf V (30)
UID:6831fc2e-05d1-4da2-9423-89ac0b0faccf
STATUS:CONFIRMED
LAST-MODIFIED:20200811T110518Z
DESCRIPTION:3. Liga Herren Gruppe 2\nBegegnungs-Nr: 30\nHeim: Ittigen\nGast: Burgdorf V\n\nAdresse: Fischrainweg 17\, 3048 Worblaufen\n
LOCATION:Fischrainweg 17\, 3048 Worblaufen
CATEGORIES:Saison 2020/21
END:VEVENT
BEGIN:VEVENT
DTSTAMP:20260421T202704Z
DTSTART;TZID=Europe/Berlin:20200831T194500
DTEND;TZID=Europe/Berlin:20200831T224500
SUMMARY:HE 3. Liga Gr. 2 Ittigen vs Langnau (2)
UID:d9f9f05c-2d5c-48ad-bd16-04d9c749e420
STATUS:CONFIRMED
LAST-MODIFIED:20200906T152216Z
DESCRIPTION:3. Liga Herren Gruppe 2\nBegegnungs-Nr: 2\nHeim: Ittigen\nGast: Langnau\n\nAdresse: Fischrainweg 17\, 3048 Worblaufen\n
LOCATION:Fischrainweg 17\, 3048 Worblaufen
CATEGORIES:Saison 2020/21
END:VEVENT
BEGIN:VEVENT
DTSTAMP:20260421T202704Z
DTSTART;TZID=Europe/Berlin:20201026T194500
DTEND;TZID=Europe/Berlin:20201026T224500
SUMMARY:HE 3. Liga Gr. 2 Ittigen vs Ostermundigen IV (18)
UID:bb76defd-6508-4f15-ba0a-413d57a367f4
STATUS:CONFIRMED
DESCRIPTION:3. Liga Herren Gruppe 2\nBegegnungs-Nr: 18\nHeim: Ittigen\nGast: Ostermundigen IV\n\nAdresse: Fischrainweg 17\, 3048 Worblaufen\n
LOCATION:Fischrainweg 17\, 3048 Worblaufen
CATEGORIES:Saison 2020/21
END:VEVENT
BEGIN:VEVENT
DTSTAMP:20260421T202704Z
DTSTART;TZID=Europe/Berlin:20201109T194500
DTEND;TZID=Europe/Berlin:20201109T224500
SUMMARY:HE 3. Liga Gr. 2 Ittigen vs Aarberg V (26)
UID:0856cc5e-5231-4036-aee0-65b1d30c5f83
STATUS:CONFIRMED
LAST-MODIFIED:20200811T104346Z
DESCRIPTION:3. Liga Herren Gruppe 2\nBegegnungs-Nr: 26\nHeim: Ittigen\nGast: Aarberg V\n\nAdresse: Fischrainweg 17\, 3048 Worblaufen\n
LOCATION:Fischrainweg 17\, 3048 Worblaufen
CATEGORIES:Saison 2020/21
END:VEVENT
BEGIN:VEVENT
DTSTAMP:20260421T202704Z
DTSTART;TZID=Europe/Berlin:20210111T194500
DTEND;TZID=Europe/Berlin:20210111T224500
SUMMARY:HE 3. Liga Gr. 2 Ittigen vs Thun IV (5)
UID:62037064-fcbe-4f4c-b378-a3bad084b3da
STATUS:CONFIRMED
DESCRIPTION:3. Liga Herren Gruppe 2\nBegegnungs-Nr: 5\nHeim: Ittigen\nGast: Thun IV\n\nAdresse: Fischrainweg 17\, 3048 Worblaufen\n
LOCATION:Fischrainweg 17\, 3048 Worblaufen
CATEGORIES:Saison 2020/21
END:VEVENT
BEGIN:VEVENT
DTSTAMP:20260421T202704Z
DTSTART;TZID=Europe/Berlin:20210215T194500
DTEND;TZID=Europe/Berlin:20210215T224500
SUMMARY:HE 3. Liga Gr. 2 Ittigen vs Regio Moossee (14)
UID:0520323b-72a8-42b8-b9d1-a901e6d7417d
STATUS:CONFIRMED
DESCRIPTION:3. Liga Herren Gruppe 2\nBegegnungs-Nr: 14\nHeim: Ittigen\nGast: Regio Moossee\n\nAdresse: Fischrainweg 17\, 3048 Worblaufen\n
LOCATION:Fischrainweg 17\, 3048 Worblaufen
CATEGORIES:Saison 2020/21
END:VEVENT
BEGIN:VEVENT
DTSTAMP:20260421T202704Z
DTSTART;TZID=Europe/Berlin:20210308T194500
DTEND;TZID=Europe/Berlin:20210308T224500
SUMMARY:HE 3. Liga Gr. 2 Ittigen vs Bern II (22)
UID:04ff4a14-e818-467d-9f50-170694b46fc8
STATUS:CONFIRMED
DESCRIPTION:3. Liga Herren Gruppe 2\nBegegnungs-Nr: 22\nHeim: Ittigen\nGast: Bern II\n\nAdresse: Fischrainweg 17\, 3048 Worblaufen\n
LOCATION:Fischrainweg 17\, 3048 Worblaufen
CATEGORIES:Saison 2020/21
END:VEVENT
BEGIN:VEVENT
DTSTAMP:20260421T202704Z
DTSTART;TZID=Europe/Berlin:20210322T194500
DTEND;TZID=Europe/Berlin:20210322T224500
SUMMARY:HE 3. Liga Gr. 2 Ittigen vs Wichtrach (33)
UID:ee330fa6-b1c2-47cd-8886-d1b986d74a66
STATUS:CONFIRMED
LAST-MODIFIED:20200814T073456Z
DESCRIPTION:3. Liga Herren Gruppe 2\nBegegnungs-Nr: 33\nHeim: Ittigen\nGast: Wichtrach\n\nAdresse: Fischrainweg 17\, 3048 Worblaufen\n
LOCATION:Fischrainweg 17\, 3048 Worblaufen
CATEGORIES:Saison 2020/21
END:VEVENT
BEGIN:VEVENT
DTSTAMP:20260421T202704Z
DTSTART;TZID=Europe/Berlin:20201211T200000
DTEND;TZID=Europe/Berlin:20201211T230000
SUMMARY:HE 3. Liga Gr. 2 Wichtrach vs Ittigen (33)
UID:708848e2-d636-4af1-b687-6ce355b0f5a4
STATUS:CONFIRMED
DESCRIPTION:3. Liga Herren Gruppe 2\nBegegnungs-Nr: 33\nHeim: Wichtrach\nGast: Ittigen\n\nAdresse: Hängertstrasse 4\, 3114 Wichtrach\n
LOCATION:Hängertstrasse 4\, 3114 Wichtrach
CATEGORIES:Saison 2020/21
END:VEVENT
BEGIN:VEVENT
DTSTAMP:20260421T202704Z
DTSTART;TZID=Europe/Berlin:20200905T130000
DTEND;TZID=Europe/Berlin:20200905T160000
SUMMARY:HE 3. Liga Gr. 2 Thun IV vs Ittigen (5)
UID:d401fd7d-4f50-4674-851f-627b88ee44fa
STATUS:CONFIRMED
LAST-MODIFIED:20200909T122657Z
DESCRIPTION:3. Liga Herren Gruppe 2\nBegegnungs-Nr: 5\nHeim: Thun IV\nGast: Ittigen\n\nAdresse: Hallerstrasse 28\, 3604 Thun\n
LOCATION:Hallerstrasse 28\, 3604 Thun
CATEGORIES:Saison 2020/21
END:VEVENT
BEGIN:VEVENT
DTSTAMP:20260421T202704Z
DTSTART;TZID=Europe/Berlin:20201006T200000
DTEND;TZID=Europe/Berlin:20201006T230000
SUMMARY:HE 3. Liga Gr. 2 Regio Moossee vs Ittigen (14)
UID:d4801763-3e80-4889-9d8c-68ecc680b138
STATUS:CONFIRMED
LAST-MODIFIED:20201008T092210Z
DESCRIPTION:3. Liga Herren Gruppe 2\nBegegnungs-Nr: 14\nHeim: Regio Moossee\nGast: Ittigen\n\nAdresse: Schulhausstrasse 23-25\, 3302 Moosseedorf\n
LOCATION:Schulhausstrasse 23-25\, 3302 Moosseedorf
CATEGORIES:Saison 2020/21
END:VEVENT
BEGIN:VEVENT
DTSTAMP:20260421T202704Z
DTSTART;TZID=Europe/Berlin:20201106T193000
DTEND;TZID=Europe/Berlin:20201106T223000
SUMMARY:HE 3. Liga Gr. 2 Bern II vs Ittigen (22)
UID:9165fb42-a35e-4d1c-93b6-1b597a4ce865
STATUS:CONFIRMED
DESCRIPTION:3. Liga Herren Gruppe 2\nBegegnungs-Nr: 22\nHeim: Bern II\nGast: Ittigen\n\nAdresse: Papiermühlestrasse 81\, 3014 Bern\n
LOCATION:Papiermühlestrasse 81\, 3014 Bern
CATEGORIES:Saison 2020/21
END:VEVENT
BEGIN:VEVENT
DTSTAMP:20260421T202704Z
DTSTART;TZID=Europe/Berlin:20210109T140000
DTEND;TZID=Europe/Berlin:20210109T170000
SUMMARY:HE 3. Liga Gr. 2 Langnau vs Ittigen (2)
UID:3724fa6e-85db-4d6c-8d22-91895366ad45
STATUS:CONFIRMED
LAST-MODIFIED:20200805T102144Z
DESCRIPTION:3. Liga Herren Gruppe 2\nBegegnungs-Nr: 2\nHeim: Langnau\nGast: Ittigen\n\nAdresse: Bleicheweg 11\, 3550 Langnau\n
LOCATION:Bleicheweg 11\, 3550 Langnau
CATEGORIES:Saison 2020/21
END:VEVENT
BEGIN:VEVENT
DTSTAMP:20260421T202704Z
DTSTART;TZID=Europe/Berlin:20210224T193000
DTEND;TZID=Europe/Berlin:20210224T223000
SUMMARY:HE 3. Liga Gr. 2 Ostermundigen IV vs Ittigen (18)
UID:b63acd70-f728-44d5-886f-9f9131921d18
STATUS:CONFIRMED
DESCRIPTION:3. Liga Herren Gruppe 2\nBegegnungs-Nr: 18\nHeim: Ostermundigen IV\nGast: Ittigen\n\nAdresse: Dennigkofenweg 169\, 3072 Ostermundigen\n
LOCATION:Dennigkofenweg 169\, 3072 Ostermundigen
CATEGORIES:Saison 2020/21
END:VEVENT
BEGIN:VEVENT
DTSTAMP:20260421T202704Z
DTSTART;TZID=Europe/Berlin:20210319T194500
DTEND;TZID=Europe/Berlin:20210319T224500
SUMMARY:HE 3. Liga Gr. 2 Aarberg V vs Ittigen (26)
UID:d2c4b763-cc43-4b84-8eb1-bca1940154d2
STATUS:CONFIRMED
LAST-MODIFIED:20200811T104346Z
DESCRIPTION:3. Liga Herren Gruppe 2\nBegegnungs-Nr: 26\nHeim: Aarberg V\nGast: Ittigen\n\nAdresse: Nidaustrasse 7\, 3270 Aarberg\n
LOCATION:Nidaustrasse 7\, 3270 Aarberg
CATEGORIES:Saison 2020/21
END:VEVENT
BEGIN:VEVENT
DTSTAMP:20260421T202704Z
DTSTART;TZID=Europe/Berlin:20210327T160000
DTEND;TZID=Europe/Berlin:20210327T190000
SUMMARY:HE 3. Liga Gr. 2 Burgdorf V vs Ittigen (30)
UID:bbe98a69-81a2-4ca9-83c6-82bbef1f2a0b
STATUS:CONFIRMED
LAST-MODIFIED:20200811T110518Z
DESCRIPTION:3. Liga Herren Gruppe 2\nBegegnungs-Nr: 30\nHeim: Burgdorf V\nGast: Ittigen\n\nAdresse: Pestalozzistrasse 69\, 3400 Burgdorf\n
LOCATION:Pestalozzistrasse 69\, 3400 Burgdorf
CATEGORIES:Saison 2020/21
END:VEVENT
END:VCALENDAR
