BEGIN:VCALENDAR
PRODID:-//nuDatenautomaten//framework iCal4j //DE
VERSION:2.0
CALSCALE:GREGORIAN
BEGIN:VTIMEZONE
TZID:Europe/Berlin
LAST-MODIFIED:20260306T231828Z
TZURL:https://www.tzurl.org/zoneinfo/Europe/Berlin
X-LIC-LOCATION:Europe/Berlin
X-PROLEPTIC-TZNAME:LMT
BEGIN:STANDARD
TZNAME:CET
TZOFFSETFROM:+005328
TZOFFSETTO:+0100
DTSTART:18930401T000000
END:STANDARD
BEGIN:DAYLIGHT
TZNAME:CEST
TZOFFSETFROM:+0100
TZOFFSETTO:+0200
DTSTART:19160430T230000
RDATE:19400401T020000
RDATE:19430329T020000
RDATE:19460414T020000
RDATE:19470406T030000
RDATE:19480418T020000
RDATE:19490410T020000
RDATE:19800406T020000
END:DAYLIGHT
BEGIN:STANDARD
TZNAME:CET
TZOFFSETFROM:+0200
TZOFFSETTO:+0100
DTSTART:19161001T010000
RDATE:19421102T030000
RDATE:19431004T030000
RDATE:19441002T030000
RDATE:19451118T030000
RDATE:19461007T030000
END:STANDARD
BEGIN:DAYLIGHT
TZNAME:CEST
TZOFFSETFROM:+0100
TZOFFSETTO:+0200
DTSTART:19170416T020000
RRULE:FREQ=YEARLY;UNTIL=19180415T010000Z;BYMONTH=4;BYDAY=3MO
END:DAYLIGHT
BEGIN:STANDARD
TZNAME:CET
TZOFFSETFROM:+0200
TZOFFSETTO:+0100
DTSTART:19170917T030000
RRULE:FREQ=YEARLY;UNTIL=19180916T010000Z;BYMONTH=9;BYDAY=3MO
END:STANDARD
BEGIN:DAYLIGHT
TZNAME:CEST
TZOFFSETFROM:+0100
TZOFFSETTO:+0200
DTSTART:19440403T020000
RRULE:FREQ=YEARLY;UNTIL=19450402T010000Z;BYMONTH=4;BYDAY=1MO
END:DAYLIGHT
BEGIN:DAYLIGHT
TZNAME:CEMT
TZOFFSETFROM:+0200
TZOFFSETTO:+0300
DTSTART:19450524T020000
RDATE:19470511T030000
END:DAYLIGHT
BEGIN:DAYLIGHT
TZNAME:CEST
TZOFFSETFROM:+0300
TZOFFSETTO:+0200
DTSTART:19450924T030000
RDATE:19470629T030000
END:DAYLIGHT
BEGIN:STANDARD
TZNAME:CET
TZOFFSETFROM:+0100
TZOFFSETTO:+0100
DTSTART:19460101T000000
RDATE:19800101T000000
END:STANDARD
BEGIN:STANDARD
TZNAME:CET
TZOFFSETFROM:+0200
TZOFFSETTO:+0100
DTSTART:19471005T030000
RRULE:FREQ=YEARLY;UNTIL=19491002T010000Z;BYMONTH=10;BYDAY=1SU
END:STANDARD
BEGIN:STANDARD
TZNAME:CET
TZOFFSETFROM:+0200
TZOFFSETTO:+0100
DTSTART:19800928T030000
RRULE:FREQ=YEARLY;UNTIL=19950924T010000Z;BYMONTH=9;BYDAY=-1SU
END:STANDARD
BEGIN:DAYLIGHT
TZNAME:CEST
TZOFFSETFROM:+0100
TZOFFSETTO:+0200
DTSTART:19810329T020000
RRULE:FREQ=YEARLY;BYMONTH=3;BYDAY=-1SU
END:DAYLIGHT
BEGIN:STANDARD
TZNAME:CET
TZOFFSETFROM:+0200
TZOFFSETTO:+0100
DTSTART:19961027T030000
RRULE:FREQ=YEARLY;BYMONTH=10;BYDAY=-1SU
END:STANDARD
END:VTIMEZONE
BEGIN:VEVENT
DTSTAMP:20260421T200944Z
DTSTART;TZID=Europe/Berlin:20200914T201500
DTEND;TZID=Europe/Berlin:20200914T231500
SUMMARY:O40 2. Liga Wynigen vs Worb (5)
UID:67c13709-2422-4c35-a5de-a09d41ae7b45
STATUS:CONFIRMED
LAST-MODIFIED:20200921T070133Z
DESCRIPTION:2. Liga O40 Gruppe 1\nBegegnungs-Nr: 5\nHeim: Wynigen\nGast: Worb\n\nAdresse: -\, 3472 Wynigen\n
LOCATION:-\, 3472 Wynigen
CATEGORIES:Saison 2020/21
END:VEVENT
BEGIN:VEVENT
DTSTAMP:20260421T200944Z
DTSTART;TZID=Europe/Berlin:20201029T201500
DTEND;TZID=Europe/Berlin:20201029T231500
SUMMARY:O40 2. Liga Wynigen vs Ittigen (15)
UID:07c4acb9-2cf7-4c85-b6e4-f909c6bfad21
STATUS:CONFIRMED
LAST-MODIFIED:20200929T085427Z
DESCRIPTION:2. Liga O40 Gruppe 1\nBegegnungs-Nr: 15\nHeim: Wynigen\nGast: Ittigen\n\nAdresse: -\, 3472 Wynigen\n
LOCATION:-\, 3472 Wynigen
CATEGORIES:Saison 2020/21
END:VEVENT
BEGIN:VEVENT
DTSTAMP:20260421T200944Z
DTSTART;TZID=Europe/Berlin:20201130T201500
DTEND;TZID=Europe/Berlin:20201130T231500
SUMMARY:O40 2. Liga Wynigen vs Belp (28)
UID:7dd520dc-2143-4c25-9205-e5d78ec783f5
STATUS:CONFIRMED
DESCRIPTION:2. Liga O40 Gruppe 1\nBegegnungs-Nr: 28\nHeim: Wynigen\nGast: Belp\n\nAdresse: -\, 3472 Wynigen\n
LOCATION:-\, 3472 Wynigen
CATEGORIES:Saison 2020/21
END:VEVENT
BEGIN:VEVENT
DTSTAMP:20260421T200944Z
DTSTART;TZID=Europe/Berlin:20201116T201500
DTEND;TZID=Europe/Berlin:20201116T231500
SUMMARY:O40 2. Liga Wynigen vs Langenthal (24)
UID:bd235495-bdd8-4d02-a004-b6372af3cd62
STATUS:CONFIRMED
DESCRIPTION:2. Liga O40 Gruppe 1\nBegegnungs-Nr: 24\nHeim: Wynigen\nGast: Langenthal\n\nAdresse: -\, 3472 Wynigen\n
LOCATION:-\, 3472 Wynigen
CATEGORIES:Saison 2020/21
END:VEVENT
BEGIN:VEVENT
DTSTAMP:20260421T200944Z
DTSTART;TZID=Europe/Berlin:20210104T201500
DTEND;TZID=Europe/Berlin:20210104T231500
SUMMARY:O40 2. Liga Wynigen vs Köniz (4)
UID:f0b43558-dbf6-47e6-963b-2ef6e6ce7490
STATUS:CONFIRMED
DESCRIPTION:2. Liga O40 Gruppe 1\nBegegnungs-Nr: 4\nHeim: Wynigen\nGast: Köniz\n\nAdresse: -\, 3472 Wynigen\n
LOCATION:-\, 3472 Wynigen
CATEGORIES:Saison 2020/21
END:VEVENT
BEGIN:VEVENT
DTSTAMP:20260421T200944Z
DTSTART;TZID=Europe/Berlin:20210208T201500
DTEND;TZID=Europe/Berlin:20210208T231500
SUMMARY:O40 2. Liga Wynigen vs Ostermundigen II (10)
UID:d826ef78-70a0-458f-9da8-890cd5b3767d
STATUS:CONFIRMED
DESCRIPTION:2. Liga O40 Gruppe 1\nBegegnungs-Nr: 10\nHeim: Wynigen\nGast: Ostermundigen II\n\nAdresse: -\, 3472 Wynigen\n
LOCATION:-\, 3472 Wynigen
CATEGORIES:Saison 2020/21
END:VEVENT
BEGIN:VEVENT
DTSTAMP:20260421T200944Z
DTSTART;TZID=Europe/Berlin:20210301T201500
DTEND;TZID=Europe/Berlin:20210301T231500
SUMMARY:O40 2. Liga Wynigen vs Langnau (19)
UID:f96169e4-3683-4663-86c6-0675de8aaf81
STATUS:CONFIRMED
LAST-MODIFIED:20200730T082652Z
DESCRIPTION:2. Liga O40 Gruppe 1\nBegegnungs-Nr: 19\nHeim: Wynigen\nGast: Langnau\n\nAdresse: -\, 3472 Wynigen\n
LOCATION:-\, 3472 Wynigen
CATEGORIES:Saison 2020/21
END:VEVENT
BEGIN:VEVENT
DTSTAMP:20260421T200944Z
DTSTART;TZID=Europe/Berlin:20200831T200000
DTEND;TZID=Europe/Berlin:20200831T230000
SUMMARY:O40 2. Liga Köniz vs Wynigen (4)
UID:a49d14f9-efb2-4181-a919-807823ffb11d
STATUS:CONFIRMED
LAST-MODIFIED:20200906T152927Z
DESCRIPTION:2. Liga O40 Gruppe 1\nBegegnungs-Nr: 4\nHeim: Köniz\nGast: Wynigen\n\nAdresse: Kirchstrasse 72-76\, 3084 Wabern\n
LOCATION:Kirchstrasse 72-76\, 3084 Wabern
CATEGORIES:Saison 2020/21
END:VEVENT
BEGIN:VEVENT
DTSTAMP:20260421T200944Z
DTSTART;TZID=Europe/Berlin:20201031T140000
DTEND;TZID=Europe/Berlin:20201031T170000
SUMMARY:O40 2. Liga Langnau vs Wynigen (19)
UID:cc0a05d4-f14f-4f6f-980e-7b15a5e63c47
STATUS:CONFIRMED
LAST-MODIFIED:20200730T082652Z
DESCRIPTION:2. Liga O40 Gruppe 1\nBegegnungs-Nr: 19\nHeim: Langnau\nGast: Wynigen\n\nAdresse: Bleicheweg 11\, 3550 Langnau\n
LOCATION:Bleicheweg 11\, 3550 Langnau
CATEGORIES:Saison 2020/21
END:VEVENT
BEGIN:VEVENT
DTSTAMP:20260421T200944Z
DTSTART;TZID=Europe/Berlin:20210122T200000
DTEND;TZID=Europe/Berlin:20210122T230000
SUMMARY:O40 2. Liga Worb vs Wynigen (5)
UID:5e6e92a6-253c-478c-9802-6a595d1e9781
STATUS:CONFIRMED
DESCRIPTION:2. Liga O40 Gruppe 1\nBegegnungs-Nr: 5\nHeim: Worb\nGast: Wynigen\n\nAdresse: Rosenweg 9\, 3075 Rüfenacht BE\n
LOCATION:Rosenweg 9\, 3075 Rüfenacht BE
CATEGORIES:Saison 2020/21
END:VEVENT
BEGIN:VEVENT
DTSTAMP:20260421T200944Z
DTSTART;TZID=Europe/Berlin:20210222T194500
DTEND;TZID=Europe/Berlin:20210222T224500
SUMMARY:O40 2. Liga Ittigen vs Wynigen (15)
UID:aced3db6-e54c-4a87-8a9e-dd622269d542
STATUS:CONFIRMED
LAST-MODIFIED:20200929T085427Z
DESCRIPTION:2. Liga O40 Gruppe 1\nBegegnungs-Nr: 15\nHeim: Ittigen\nGast: Wynigen\n\nAdresse: Fischrainweg 17\, 3048 Worblaufen\n
LOCATION:Fischrainweg 17\, 3048 Worblaufen
CATEGORIES:Saison 2020/21
END:VEVENT
BEGIN:VEVENT
DTSTAMP:20260421T200944Z
DTSTART;TZID=Europe/Berlin:20210331T193000
DTEND;TZID=Europe/Berlin:20210331T223000
SUMMARY:O40 2. Liga Belp vs Wynigen (28)
UID:7e40f1b5-bb5b-4e17-b820-6cc81cc757fc
STATUS:CONFIRMED
DESCRIPTION:2. Liga O40 Gruppe 1\nBegegnungs-Nr: 28\nHeim: Belp\nGast: Wynigen\n\nAdresse: Neumattstrasse 39\, 3123 Belp\n
LOCATION:Neumattstrasse 39\, 3123 Belp
CATEGORIES:Saison 2020/21
END:VEVENT
BEGIN:VEVENT
DTSTAMP:20260421T200944Z
DTSTART;TZID=Europe/Berlin:20210322T200000
DTEND;TZID=Europe/Berlin:20210322T230000
SUMMARY:O40 2. Liga Langenthal vs Wynigen (24)
UID:3f081abd-bdda-48cc-9e38-39a3485f5b7d
STATUS:CONFIRMED
DESCRIPTION:2. Liga O40 Gruppe 1\nBegegnungs-Nr: 24\nHeim: Langenthal\nGast: Wynigen\n\nAdresse: Weststrasse 29\, 4900 Langenthal\n
LOCATION:Weststrasse 29\, 4900 Langenthal
CATEGORIES:Saison 2020/21
END:VEVENT
BEGIN:VEVENT
DTSTAMP:20260421T200944Z
DTSTART;TZID=Europe/Berlin:20201009T193000
DTEND;TZID=Europe/Berlin:20201009T223000
SUMMARY:O40 2. Liga Ostermundigen II vs Wynigen (10)
UID:3041345f-6f67-4431-9548-7dd9bfcfa9fb
STATUS:CONFIRMED
LAST-MODIFIED:20201012T131531Z
DESCRIPTION:2. Liga O40 Gruppe 1\nBegegnungs-Nr: 10\nHeim: Ostermundigen II\nGast: Wynigen\n\nAdresse: Dennigkofenweg 169\, 3072 Ostermundigen\n
LOCATION:Dennigkofenweg 169\, 3072 Ostermundigen
CATEGORIES:Saison 2020/21
END:VEVENT
END:VCALENDAR
