BEGIN:VCALENDAR
PRODID:-//nuDatenautomaten//framework iCal4j //DE
VERSION:2.0
CALSCALE:GREGORIAN
BEGIN:VTIMEZONE
TZID:Europe/Berlin
LAST-MODIFIED:20260306T231828Z
TZURL:https://www.tzurl.org/zoneinfo/Europe/Berlin
X-LIC-LOCATION:Europe/Berlin
X-PROLEPTIC-TZNAME:LMT
BEGIN:STANDARD
TZNAME:CET
TZOFFSETFROM:+005328
TZOFFSETTO:+0100
DTSTART:18930401T000000
END:STANDARD
BEGIN:DAYLIGHT
TZNAME:CEST
TZOFFSETFROM:+0100
TZOFFSETTO:+0200
DTSTART:19160430T230000
RDATE:19400401T020000
RDATE:19430329T020000
RDATE:19460414T020000
RDATE:19470406T030000
RDATE:19480418T020000
RDATE:19490410T020000
RDATE:19800406T020000
END:DAYLIGHT
BEGIN:STANDARD
TZNAME:CET
TZOFFSETFROM:+0200
TZOFFSETTO:+0100
DTSTART:19161001T010000
RDATE:19421102T030000
RDATE:19431004T030000
RDATE:19441002T030000
RDATE:19451118T030000
RDATE:19461007T030000
END:STANDARD
BEGIN:DAYLIGHT
TZNAME:CEST
TZOFFSETFROM:+0100
TZOFFSETTO:+0200
DTSTART:19170416T020000
RRULE:FREQ=YEARLY;UNTIL=19180415T010000Z;BYMONTH=4;BYDAY=3MO
END:DAYLIGHT
BEGIN:STANDARD
TZNAME:CET
TZOFFSETFROM:+0200
TZOFFSETTO:+0100
DTSTART:19170917T030000
RRULE:FREQ=YEARLY;UNTIL=19180916T010000Z;BYMONTH=9;BYDAY=3MO
END:STANDARD
BEGIN:DAYLIGHT
TZNAME:CEST
TZOFFSETFROM:+0100
TZOFFSETTO:+0200
DTSTART:19440403T020000
RRULE:FREQ=YEARLY;UNTIL=19450402T010000Z;BYMONTH=4;BYDAY=1MO
END:DAYLIGHT
BEGIN:DAYLIGHT
TZNAME:CEMT
TZOFFSETFROM:+0200
TZOFFSETTO:+0300
DTSTART:19450524T020000
RDATE:19470511T030000
END:DAYLIGHT
BEGIN:DAYLIGHT
TZNAME:CEST
TZOFFSETFROM:+0300
TZOFFSETTO:+0200
DTSTART:19450924T030000
RDATE:19470629T030000
END:DAYLIGHT
BEGIN:STANDARD
TZNAME:CET
TZOFFSETFROM:+0100
TZOFFSETTO:+0100
DTSTART:19460101T000000
RDATE:19800101T000000
END:STANDARD
BEGIN:STANDARD
TZNAME:CET
TZOFFSETFROM:+0200
TZOFFSETTO:+0100
DTSTART:19471005T030000
RRULE:FREQ=YEARLY;UNTIL=19491002T010000Z;BYMONTH=10;BYDAY=1SU
END:STANDARD
BEGIN:STANDARD
TZNAME:CET
TZOFFSETFROM:+0200
TZOFFSETTO:+0100
DTSTART:19800928T030000
RRULE:FREQ=YEARLY;UNTIL=19950924T010000Z;BYMONTH=9;BYDAY=-1SU
END:STANDARD
BEGIN:DAYLIGHT
TZNAME:CEST
TZOFFSETFROM:+0100
TZOFFSETTO:+0200
DTSTART:19810329T020000
RRULE:FREQ=YEARLY;BYMONTH=3;BYDAY=-1SU
END:DAYLIGHT
BEGIN:STANDARD
TZNAME:CET
TZOFFSETFROM:+0200
TZOFFSETTO:+0100
DTSTART:19961027T030000
RRULE:FREQ=YEARLY;BYMONTH=10;BYDAY=-1SU
END:STANDARD
END:VTIMEZONE
BEGIN:VEVENT
DTSTAMP:20260421T202016Z
DTSTART;TZID=Europe/Berlin:20191213T193000
DTEND;TZID=Europe/Berlin:20191213T223000
SUMMARY:HE 3. Liga Gr. 2 Burgdorf IV vs SC Informatik Swisscom Wabern (34)
UID:9e74d46f-adbc-4ede-a2a4-a6865af76d4a
STATUS:CONFIRMED
LAST-MODIFIED:20191214T123732Z
DESCRIPTION:3. Liga Herren Gruppe 2\nBegegnungs-Nr: 34\nHeim: Burgdorf IV\nGast: SC Informatik Swisscom Wabern\n\nAdresse: Pestalozzistrasse 69\, 3400 Burgdorf\n
LOCATION:Pestalozzistrasse 69\, 3400 Burgdorf
CATEGORIES:Saison 2019/20
END:VEVENT
BEGIN:VEVENT
DTSTAMP:20260421T202016Z
DTSTART;TZID=Europe/Berlin:20190914T160000
DTEND;TZID=Europe/Berlin:20190914T190000
SUMMARY:HE 3. Liga Gr. 2 Burgdorf IV vs Köniz II (11)
UID:fa1faf92-a42b-490c-afee-28db5dc1e751
STATUS:CONFIRMED
LAST-MODIFIED:20190916T131829Z
DESCRIPTION:3. Liga Herren Gruppe 2\nBegegnungs-Nr: 11\nHeim: Burgdorf IV\nGast: Köniz II\n\nAdresse: Pestalozzistrasse 69\, 3400 Burgdorf\n
LOCATION:Pestalozzistrasse 69\, 3400 Burgdorf
CATEGORIES:Saison 2019/20
END:VEVENT
BEGIN:VEVENT
DTSTAMP:20260421T202016Z
DTSTART;TZID=Europe/Berlin:20191026T160000
DTEND;TZID=Europe/Berlin:20191026T190000
SUMMARY:HE 3. Liga Gr. 2 Burgdorf IV vs Wohlensee (18)
UID:ee9fba04-0f28-4ca1-a934-0b7f78b263ea
STATUS:CONFIRMED
LAST-MODIFIED:20191028T105107Z
DESCRIPTION:3. Liga Herren Gruppe 2\nBegegnungs-Nr: 18\nHeim: Burgdorf IV\nGast: Wohlensee\n\nAdresse: Pestalozzistrasse 69\, 3400 Burgdorf\n
LOCATION:Pestalozzistrasse 69\, 3400 Burgdorf
CATEGORIES:Saison 2019/20
END:VEVENT
BEGIN:VEVENT
DTSTAMP:20260421T202016Z
DTSTART;TZID=Europe/Berlin:20191122T193000
DTEND;TZID=Europe/Berlin:20191122T223000
SUMMARY:HE 3. Liga Gr. 2 Burgdorf IV vs Langnau (29)
UID:238c8467-a2be-49b7-8be9-6e98847d9aa5
STATUS:CONFIRMED
LAST-MODIFIED:20191126T175620Z
DESCRIPTION:3. Liga Herren Gruppe 2\nBegegnungs-Nr: 29\nHeim: Burgdorf IV\nGast: Langnau\n\nAdresse: Pestalozzistrasse 69\, 3400 Burgdorf\n
LOCATION:Pestalozzistrasse 69\, 3400 Burgdorf
CATEGORIES:Saison 2019/20
END:VEVENT
BEGIN:VEVENT
DTSTAMP:20260421T202016Z
DTSTART;TZID=Europe/Berlin:20200117T193000
DTEND;TZID=Europe/Berlin:20200117T223000
SUMMARY:HE 3. Liga Gr. 2 Burgdorf IV vs Bern II (7)
UID:48ba98fa-65a2-4f91-ac89-ca7c47174490
STATUS:CONFIRMED
LAST-MODIFIED:20200119T120705Z
DESCRIPTION:3. Liga Herren Gruppe 2\nBegegnungs-Nr: 7\nHeim: Burgdorf IV\nGast: Bern II\n\nAdresse: Pestalozzistrasse 69\, 3400 Burgdorf\n
LOCATION:Pestalozzistrasse 69\, 3400 Burgdorf
CATEGORIES:Saison 2019/20
END:VEVENT
BEGIN:VEVENT
DTSTAMP:20260421T202016Z
DTSTART;TZID=Europe/Berlin:20200313T193000
DTEND;TZID=Europe/Berlin:20200313T223000
SUMMARY:HE 3. Liga Gr. 2 Burgdorf IV vs Royal Bern II (26)
UID:79729b24-c29f-4222-b9ba-5ae3cbb67adc
STATUS:CONFIRMED
LAST-MODIFIED:20191115T114909Z
DESCRIPTION:3. Liga Herren Gruppe 2\nBegegnungs-Nr: 26\nHeim: Burgdorf IV\nGast: Royal Bern II\n\nAdresse: Pestalozzistrasse 69\, 3400 Burgdorf\n
LOCATION:Pestalozzistrasse 69\, 3400 Burgdorf
CATEGORIES:Saison 2019/20
END:VEVENT
BEGIN:VEVENT
DTSTAMP:20260421T202016Z
DTSTART;TZID=Europe/Berlin:20200201T160000
DTEND;TZID=Europe/Berlin:20200201T190000
SUMMARY:HE 3. Liga Gr. 2 Burgdorf IV vs Thun IV (14)
UID:e22163e8-4573-4dcd-b536-adc7787ec96f
STATUS:CONFIRMED
LAST-MODIFIED:20200202T064721Z
DESCRIPTION:3. Liga Herren Gruppe 2\nBegegnungs-Nr: 14\nHeim: Burgdorf IV\nGast: Thun IV\n\nAdresse: Pestalozzistrasse 69\, 3400 Burgdorf\n
LOCATION:Pestalozzistrasse 69\, 3400 Burgdorf
CATEGORIES:Saison 2019/20
END:VEVENT
BEGIN:VEVENT
DTSTAMP:20260421T202016Z
DTSTART;TZID=Europe/Berlin:20200306T193000
DTEND;TZID=Europe/Berlin:20200306T223000
SUMMARY:HE 3. Liga Gr. 2 Burgdorf IV vs Steffisburg (23)
UID:362c0f12-683e-415d-a974-b265df894e42
STATUS:CONFIRMED
LAST-MODIFIED:20200308T083629Z
DESCRIPTION:3. Liga Herren Gruppe 2\nBegegnungs-Nr: 23\nHeim: Burgdorf IV\nGast: Steffisburg\n\nAdresse: Pestalozzistrasse 69\, 3400 Burgdorf\n
LOCATION:Pestalozzistrasse 69\, 3400 Burgdorf
CATEGORIES:Saison 2019/20
END:VEVENT
BEGIN:VEVENT
DTSTAMP:20260421T202016Z
DTSTART;TZID=Europe/Berlin:20190904T193000
DTEND;TZID=Europe/Berlin:20190904T223000
SUMMARY:HE 3. Liga Gr. 2 Bern II vs Burgdorf IV (7)
UID:4e1fccb6-9b00-4d72-874f-9b3893307dc3
STATUS:CONFIRMED
LAST-MODIFIED:20190905T173519Z
DESCRIPTION:3. Liga Herren Gruppe 2\nBegegnungs-Nr: 7\nHeim: Bern II\nGast: Burgdorf IV\n\nAdresse: Papiermühlestrasse 81\, 3014 Bern\n
LOCATION:Papiermühlestrasse 81\, 3014 Bern
CATEGORIES:Saison 2019/20
END:VEVENT
BEGIN:VEVENT
DTSTAMP:20260421T202016Z
DTSTART;TZID=Europe/Berlin:20191101T194500
DTEND;TZID=Europe/Berlin:20191101T224500
SUMMARY:HE 3. Liga Gr. 2 Thun IV vs Burgdorf IV (14)
UID:48228d77-70d1-426d-ba6b-c46b7453a6b2
STATUS:CONFIRMED
LAST-MODIFIED:20191104T180042Z
DESCRIPTION:3. Liga Herren Gruppe 2\nBegegnungs-Nr: 14\nHeim: Thun IV\nGast: Burgdorf IV\n\nAdresse: Hallerstrasse 28\, 3604 Thun\n
LOCATION:Hallerstrasse 28\, 3604 Thun
CATEGORIES:Saison 2019/20
END:VEVENT
BEGIN:VEVENT
DTSTAMP:20260421T202016Z
DTSTART;TZID=Europe/Berlin:20191108T200000
DTEND;TZID=Europe/Berlin:20191108T230000
SUMMARY:HE 3. Liga Gr. 2 Steffisburg vs Burgdorf IV (23)
UID:4c379de0-43bb-4564-b28c-f7470845e00f
STATUS:CONFIRMED
LAST-MODIFIED:20191109T171227Z
DESCRIPTION:3. Liga Herren Gruppe 2\nBegegnungs-Nr: 23\nHeim: Steffisburg\nGast: Burgdorf IV\n\nAdresse: Sonnenfeldstrasse 10\, 3613 Steffisburg\n
LOCATION:Sonnenfeldstrasse 10\, 3613 Steffisburg
CATEGORIES:Saison 2019/20
END:VEVENT
BEGIN:VEVENT
DTSTAMP:20260421T202016Z
DTSTART;TZID=Europe/Berlin:20191204T194500
DTEND;TZID=Europe/Berlin:20191204T224500
SUMMARY:HE 3. Liga Gr. 2 Royal Bern II vs Burgdorf IV (26)
UID:221dfe81-87a2-467b-b85e-f444649fa8c4
STATUS:CONFIRMED
LAST-MODIFIED:20191205T170155Z
DESCRIPTION:3. Liga Herren Gruppe 2\nBegegnungs-Nr: 26\nHeim: Royal Bern II\nGast: Burgdorf IV\n\nAdresse: Dändlikerweg 60\, 3014 Bern\n
LOCATION:Dändlikerweg 60\, 3014 Bern
CATEGORIES:Saison 2019/20
END:VEVENT
BEGIN:VEVENT
DTSTAMP:20260421T202016Z
DTSTART;TZID=Europe/Berlin:20200131T200000
DTEND;TZID=Europe/Berlin:20200131T230000
SUMMARY:HE 3. Liga Gr. 2 Köniz II vs Burgdorf IV (11)
UID:cf027da2-6381-4be1-9bf1-4a43b637fdcc
STATUS:CONFIRMED
LAST-MODIFIED:20200202T064711Z
DESCRIPTION:3. Liga Herren Gruppe 2\nBegegnungs-Nr: 11\nHeim: Köniz II\nGast: Burgdorf IV\n\nAdresse: Kirchstrasse 72-76\, 3084 Wabern\n
LOCATION:Kirchstrasse 72-76\, 3084 Wabern
CATEGORIES:Saison 2019/20
END:VEVENT
BEGIN:VEVENT
DTSTAMP:20260421T202016Z
DTSTART;TZID=Europe/Berlin:20200305T194500
DTEND;TZID=Europe/Berlin:20200305T224500
SUMMARY:HE 3. Liga Gr. 2 Wohlensee vs Burgdorf IV (18)
UID:bf18513e-5843-4ed4-ad26-d606616b1c59
STATUS:CONFIRMED
LAST-MODIFIED:20200306T154025Z
DESCRIPTION:3. Liga Herren Gruppe 2\nBegegnungs-Nr: 18\nHeim: Wohlensee\nGast: Burgdorf IV\n\nAdresse: Kappelenring 36 a\, 3032 Hinterkappelen\n
LOCATION:Kappelenring 36 a\, 3032 Hinterkappelen
CATEGORIES:Saison 2019/20
END:VEVENT
BEGIN:VEVENT
DTSTAMP:20260421T202016Z
DTSTART;TZID=Europe/Berlin:20200328T153000
DTEND;TZID=Europe/Berlin:20200328T183000
SUMMARY:HE 3. Liga Gr. 2 Langnau vs Burgdorf IV (29)
UID:630da074-7355-4586-aefd-3e6dd3f78300
STATUS:CONFIRMED
LAST-MODIFIED:20200225T202010Z
DESCRIPTION:3. Liga Herren Gruppe 2\nBegegnungs-Nr: 29\nHeim: Langnau\nGast: Burgdorf IV\n\nAdresse: Bleicheweg 11\, 3550 Langnau\n
LOCATION:Bleicheweg 11\, 3550 Langnau
CATEGORIES:Saison 2019/20
END:VEVENT
BEGIN:VEVENT
DTSTAMP:20260421T202016Z
DTSTART;TZID=Europe/Berlin:20200330T193000
DTEND;TZID=Europe/Berlin:20200330T223000
SUMMARY:HE 3. Liga Gr. 2 SC Informatik Swisscom Wabern vs Burgdorf IV (34)
UID:bb598282-1675-427d-a383-c25bdc2de943
STATUS:CONFIRMED
DESCRIPTION:3. Liga Herren Gruppe 2\nBegegnungs-Nr: 34\nHeim: SC Informatik Swisscom Wabern\nGast: Burgdorf IV\n\nAdresse: Eichholzstrasse 29\, 3094 Wabern\n
LOCATION:Eichholzstrasse 29\, 3094 Wabern
CATEGORIES:Saison 2019/20
END:VEVENT
END:VCALENDAR
