BEGIN:VCALENDAR
PRODID:-//nuDatenautomaten//framework iCal4j //DE
VERSION:2.0
CALSCALE:GREGORIAN
BEGIN:VTIMEZONE
TZID:Europe/Berlin
LAST-MODIFIED:20260306T231828Z
TZURL:https://www.tzurl.org/zoneinfo/Europe/Berlin
X-LIC-LOCATION:Europe/Berlin
X-PROLEPTIC-TZNAME:LMT
BEGIN:STANDARD
TZNAME:CET
TZOFFSETFROM:+005328
TZOFFSETTO:+0100
DTSTART:18930401T000000
END:STANDARD
BEGIN:DAYLIGHT
TZNAME:CEST
TZOFFSETFROM:+0100
TZOFFSETTO:+0200
DTSTART:19160430T230000
RDATE:19400401T020000
RDATE:19430329T020000
RDATE:19460414T020000
RDATE:19470406T030000
RDATE:19480418T020000
RDATE:19490410T020000
RDATE:19800406T020000
END:DAYLIGHT
BEGIN:STANDARD
TZNAME:CET
TZOFFSETFROM:+0200
TZOFFSETTO:+0100
DTSTART:19161001T010000
RDATE:19421102T030000
RDATE:19431004T030000
RDATE:19441002T030000
RDATE:19451118T030000
RDATE:19461007T030000
END:STANDARD
BEGIN:DAYLIGHT
TZNAME:CEST
TZOFFSETFROM:+0100
TZOFFSETTO:+0200
DTSTART:19170416T020000
RRULE:FREQ=YEARLY;UNTIL=19180415T010000Z;BYMONTH=4;BYDAY=3MO
END:DAYLIGHT
BEGIN:STANDARD
TZNAME:CET
TZOFFSETFROM:+0200
TZOFFSETTO:+0100
DTSTART:19170917T030000
RRULE:FREQ=YEARLY;UNTIL=19180916T010000Z;BYMONTH=9;BYDAY=3MO
END:STANDARD
BEGIN:DAYLIGHT
TZNAME:CEST
TZOFFSETFROM:+0100
TZOFFSETTO:+0200
DTSTART:19440403T020000
RRULE:FREQ=YEARLY;UNTIL=19450402T010000Z;BYMONTH=4;BYDAY=1MO
END:DAYLIGHT
BEGIN:DAYLIGHT
TZNAME:CEMT
TZOFFSETFROM:+0200
TZOFFSETTO:+0300
DTSTART:19450524T020000
RDATE:19470511T030000
END:DAYLIGHT
BEGIN:DAYLIGHT
TZNAME:CEST
TZOFFSETFROM:+0300
TZOFFSETTO:+0200
DTSTART:19450924T030000
RDATE:19470629T030000
END:DAYLIGHT
BEGIN:STANDARD
TZNAME:CET
TZOFFSETFROM:+0100
TZOFFSETTO:+0100
DTSTART:19460101T000000
RDATE:19800101T000000
END:STANDARD
BEGIN:STANDARD
TZNAME:CET
TZOFFSETFROM:+0200
TZOFFSETTO:+0100
DTSTART:19471005T030000
RRULE:FREQ=YEARLY;UNTIL=19491002T010000Z;BYMONTH=10;BYDAY=1SU
END:STANDARD
BEGIN:STANDARD
TZNAME:CET
TZOFFSETFROM:+0200
TZOFFSETTO:+0100
DTSTART:19800928T030000
RRULE:FREQ=YEARLY;UNTIL=19950924T010000Z;BYMONTH=9;BYDAY=-1SU
END:STANDARD
BEGIN:DAYLIGHT
TZNAME:CEST
TZOFFSETFROM:+0100
TZOFFSETTO:+0200
DTSTART:19810329T020000
RRULE:FREQ=YEARLY;BYMONTH=3;BYDAY=-1SU
END:DAYLIGHT
BEGIN:STANDARD
TZNAME:CET
TZOFFSETFROM:+0200
TZOFFSETTO:+0100
DTSTART:19961027T030000
RRULE:FREQ=YEARLY;BYMONTH=10;BYDAY=-1SU
END:STANDARD
END:VTIMEZONE
BEGIN:VEVENT
DTSTAMP:20260421T201042Z
DTSTART;TZID=Europe/Berlin:20190919T200000
DTEND;TZID=Europe/Berlin:20190919T230000
SUMMARY:HE 5. Liga Gr. 2 Langnau IV vs Grauholz II (4)
UID:ad310aa7-5ecc-4716-bd45-8633a3b76b29
STATUS:CONFIRMED
LAST-MODIFIED:20190922T174951Z
DESCRIPTION:Herren 5. Liga Gruppe 2\nBegegnungs-Nr: 4\nHeim: Langnau IV\nGast: Grauholz II\n\nAdresse: Bleicheweg 11\, 3550 Langnau\n
LOCATION:Bleicheweg 11\, 3550 Langnau
CATEGORIES:Saison 2019/20
END:VEVENT
BEGIN:VEVENT
DTSTAMP:20260421T201042Z
DTSTART;TZID=Europe/Berlin:20200203T200000
DTEND;TZID=Europe/Berlin:20200203T230000
SUMMARY:HE 5. Liga Gr. 2 Langnau IV vs Ittigen IV (8)
UID:e821fd6e-5a47-4fbb-861e-cd6a915b54f2
STATUS:CONFIRMED
LAST-MODIFIED:20200206T220535Z
DESCRIPTION:Herren 5. Liga Gruppe 2\nBegegnungs-Nr: 8\nHeim: Langnau IV\nGast: Ittigen IV\n\nAdresse: Bleicheweg 11\, 3550 Langnau\n
LOCATION:Bleicheweg 11\, 3550 Langnau
CATEGORIES:Saison 2019/20
END:VEVENT
BEGIN:VEVENT
DTSTAMP:20260421T201042Z
DTSTART;TZID=Europe/Berlin:20191121T200000
DTEND;TZID=Europe/Berlin:20191121T230000
SUMMARY:HE 5. Liga Gr. 2 Langnau IV vs Köniz V (18)
UID:5c723118-0b9d-4b19-8cd8-0a557a3ebbfb
STATUS:CONFIRMED
LAST-MODIFIED:20191122T183050Z
DESCRIPTION:Herren 5. Liga Gruppe 2\nBegegnungs-Nr: 18\nHeim: Langnau IV\nGast: Köniz V\n\nAdresse: Bleicheweg 11\, 3550 Langnau\n
LOCATION:Bleicheweg 11\, 3550 Langnau
CATEGORIES:Saison 2019/20
END:VEVENT
BEGIN:VEVENT
DTSTAMP:20260421T201042Z
DTSTART;TZID=Europe/Berlin:20191031T200000
DTEND;TZID=Europe/Berlin:20191031T230000
SUMMARY:HE 5. Liga Gr. 2 Langnau IV vs Burgdorf X (12)
UID:c81ea7d7-9ce6-40d5-a072-65cb2faf35d7
STATUS:CONFIRMED
LAST-MODIFIED:20191102T072443Z
DESCRIPTION:Herren 5. Liga Gruppe 2\nBegegnungs-Nr: 12\nHeim: Langnau IV\nGast: Burgdorf X\n\nAdresse: Bleicheweg 11\, 3550 Langnau\n
LOCATION:Bleicheweg 11\, 3550 Langnau
CATEGORIES:Saison 2019/20
END:VEVENT
BEGIN:VEVENT
DTSTAMP:20260421T201042Z
DTSTART;TZID=Europe/Berlin:20200116T200000
DTEND;TZID=Europe/Berlin:20200116T230000
SUMMARY:HE 5. Liga Gr. 2 Langnau IV vs Bern VI (3)
UID:5dc9826b-3525-4215-82a3-2b5960419309
STATUS:CONFIRMED
LAST-MODIFIED:20200117T161732Z
DESCRIPTION:Herren 5. Liga Gruppe 2\nBegegnungs-Nr: 3\nHeim: Langnau IV\nGast: Bern VI\n\nAdresse: Bleicheweg 11\, 3550 Langnau\n
LOCATION:Bleicheweg 11\, 3550 Langnau
CATEGORIES:Saison 2019/20
END:VEVENT
BEGIN:VEVENT
DTSTAMP:20260421T201042Z
DTSTART;TZID=Europe/Berlin:20200323T200000
DTEND;TZID=Europe/Berlin:20200323T230000
SUMMARY:HE 5. Liga Gr. 2 Langnau IV vs Thun VI (15)
UID:45ac780c-7a2d-4d7c-8d63-e63049a4b2b1
STATUS:CONFIRMED
LAST-MODIFIED:20200305T232041Z
DESCRIPTION:Herren 5. Liga Gruppe 2\nBegegnungs-Nr: 15\nHeim: Langnau IV\nGast: Thun VI\n\nAdresse: Bleicheweg 11\, 3550 Langnau\n
LOCATION:Bleicheweg 11\, 3550 Langnau
CATEGORIES:Saison 2019/20
END:VEVENT
BEGIN:VEVENT
DTSTAMP:20260421T201042Z
DTSTART;TZID=Europe/Berlin:20200124T200000
DTEND;TZID=Europe/Berlin:20200124T230000
SUMMARY:HE 5. Liga Gr. 2 Grauholz II vs Langnau IV (4)
UID:37182005-665a-4727-890a-e37e1cf45aa8
STATUS:CONFIRMED
LAST-MODIFIED:20200125T210334Z
DESCRIPTION:Herren 5. Liga Gruppe 2\nBegegnungs-Nr: 4\nHeim: Grauholz II\nGast: Langnau IV\n\nAdresse: Schulhausweg 8\, 3324 Hindelbank\n
LOCATION:Schulhausweg 8\, 3324 Hindelbank
CATEGORIES:Saison 2019/20
END:VEVENT
BEGIN:VEVENT
DTSTAMP:20260421T201042Z
DTSTART;TZID=Europe/Berlin:20191014T194500
DTEND;TZID=Europe/Berlin:20191014T224500
SUMMARY:HE 5. Liga Gr. 2 Bern VI vs Langnau IV (3)
UID:8e8d32a4-61fc-47a9-a172-51dec520c862
STATUS:CONFIRMED
LAST-MODIFIED:20191016T080248Z
DESCRIPTION:Herren 5. Liga Gruppe 2\nBegegnungs-Nr: 3\nHeim: Bern VI\nGast: Langnau IV\n\nAdresse: Papiermühlestrasse 81\, 3014 Bern\n
LOCATION:Papiermühlestrasse 81\, 3014 Bern
CATEGORIES:Saison 2019/20
END:VEVENT
BEGIN:VEVENT
DTSTAMP:20260421T201042Z
DTSTART;TZID=Europe/Berlin:20191007T194500
DTEND;TZID=Europe/Berlin:20191007T224500
SUMMARY:HE 5. Liga Gr. 2 Ittigen IV vs Langnau IV (8)
UID:ab013d65-bb73-44fa-8f3b-dd4fa7b6e2c7
STATUS:CONFIRMED
LAST-MODIFIED:20191010T182138Z
DESCRIPTION:Herren 5. Liga Gruppe 2\nBegegnungs-Nr: 8\nHeim: Ittigen IV\nGast: Langnau IV\n\nAdresse: Fischrainweg 17\, 3048 Worblaufen\n
LOCATION:Fischrainweg 17\, 3048 Worblaufen
CATEGORIES:Saison 2019/20
END:VEVENT
BEGIN:VEVENT
DTSTAMP:20260421T201042Z
DTSTART;TZID=Europe/Berlin:20191109T130000
DTEND;TZID=Europe/Berlin:20191109T160000
SUMMARY:HE 5. Liga Gr. 2 Thun VI vs Langnau IV (15)
UID:c1f155c6-2726-4de0-ad7e-7be6e31a1dcd
STATUS:CONFIRMED
LAST-MODIFIED:20191113T153120Z
DESCRIPTION:Herren 5. Liga Gruppe 2\nBegegnungs-Nr: 15\nHeim: Thun VI\nGast: Langnau IV\n\nAdresse: Hallerstrasse 28\, 3604 Thun\n
LOCATION:Hallerstrasse 28\, 3604 Thun
CATEGORIES:Saison 2019/20
END:VEVENT
BEGIN:VEVENT
DTSTAMP:20260421T201042Z
DTSTART;TZID=Europe/Berlin:20200222T143000
DTEND;TZID=Europe/Berlin:20200222T173000
SUMMARY:HE 5. Liga Gr. 2 Burgdorf X vs Langnau IV (12)
UID:bea346dc-9fc9-4442-b1a1-aabb8a9e6af4
STATUS:CONFIRMED
LAST-MODIFIED:20200225T055937Z
DESCRIPTION:Herren 5. Liga Gruppe 2\nBegegnungs-Nr: 12\nHeim: Burgdorf X\nGast: Langnau IV\n\nAdresse: Pestalozzistrasse 69\, 3400 Burgdorf\n
LOCATION:Pestalozzistrasse 69\, 3400 Burgdorf
CATEGORIES:Saison 2019/20
END:VEVENT
BEGIN:VEVENT
DTSTAMP:20260421T201042Z
DTSTART;TZID=Europe/Berlin:20200319T200000
DTEND;TZID=Europe/Berlin:20200319T230000
SUMMARY:HE 5. Liga Gr. 2 Köniz V vs Langnau IV (18)
UID:bfa50f0c-a12b-4ac3-bab9-974fd348c2d4
STATUS:CONFIRMED
DESCRIPTION:Herren 5. Liga Gruppe 2\nBegegnungs-Nr: 18\nHeim: Köniz V\nGast: Langnau IV\n\nAdresse: Kirchstrasse 72-76\, 3084 Wabern\n
LOCATION:Kirchstrasse 72-76\, 3084 Wabern
CATEGORIES:Saison 2019/20
END:VEVENT
END:VCALENDAR
