BEGIN:VCALENDAR
PRODID:-//nuDatenautomaten//framework iCal4j //DE
VERSION:2.0
CALSCALE:GREGORIAN
BEGIN:VTIMEZONE
TZID:Europe/Berlin
LAST-MODIFIED:20260306T231828Z
TZURL:https://www.tzurl.org/zoneinfo/Europe/Berlin
X-LIC-LOCATION:Europe/Berlin
X-PROLEPTIC-TZNAME:LMT
BEGIN:STANDARD
TZNAME:CET
TZOFFSETFROM:+005328
TZOFFSETTO:+0100
DTSTART:18930401T000000
END:STANDARD
BEGIN:DAYLIGHT
TZNAME:CEST
TZOFFSETFROM:+0100
TZOFFSETTO:+0200
DTSTART:19160430T230000
RDATE:19400401T020000
RDATE:19430329T020000
RDATE:19460414T020000
RDATE:19470406T030000
RDATE:19480418T020000
RDATE:19490410T020000
RDATE:19800406T020000
END:DAYLIGHT
BEGIN:STANDARD
TZNAME:CET
TZOFFSETFROM:+0200
TZOFFSETTO:+0100
DTSTART:19161001T010000
RDATE:19421102T030000
RDATE:19431004T030000
RDATE:19441002T030000
RDATE:19451118T030000
RDATE:19461007T030000
END:STANDARD
BEGIN:DAYLIGHT
TZNAME:CEST
TZOFFSETFROM:+0100
TZOFFSETTO:+0200
DTSTART:19170416T020000
RRULE:FREQ=YEARLY;UNTIL=19180415T010000Z;BYMONTH=4;BYDAY=3MO
END:DAYLIGHT
BEGIN:STANDARD
TZNAME:CET
TZOFFSETFROM:+0200
TZOFFSETTO:+0100
DTSTART:19170917T030000
RRULE:FREQ=YEARLY;UNTIL=19180916T010000Z;BYMONTH=9;BYDAY=3MO
END:STANDARD
BEGIN:DAYLIGHT
TZNAME:CEST
TZOFFSETFROM:+0100
TZOFFSETTO:+0200
DTSTART:19440403T020000
RRULE:FREQ=YEARLY;UNTIL=19450402T010000Z;BYMONTH=4;BYDAY=1MO
END:DAYLIGHT
BEGIN:DAYLIGHT
TZNAME:CEMT
TZOFFSETFROM:+0200
TZOFFSETTO:+0300
DTSTART:19450524T020000
RDATE:19470511T030000
END:DAYLIGHT
BEGIN:DAYLIGHT
TZNAME:CEST
TZOFFSETFROM:+0300
TZOFFSETTO:+0200
DTSTART:19450924T030000
RDATE:19470629T030000
END:DAYLIGHT
BEGIN:STANDARD
TZNAME:CET
TZOFFSETFROM:+0100
TZOFFSETTO:+0100
DTSTART:19460101T000000
RDATE:19800101T000000
END:STANDARD
BEGIN:STANDARD
TZNAME:CET
TZOFFSETFROM:+0200
TZOFFSETTO:+0100
DTSTART:19471005T030000
RRULE:FREQ=YEARLY;UNTIL=19491002T010000Z;BYMONTH=10;BYDAY=1SU
END:STANDARD
BEGIN:STANDARD
TZNAME:CET
TZOFFSETFROM:+0200
TZOFFSETTO:+0100
DTSTART:19800928T030000
RRULE:FREQ=YEARLY;UNTIL=19950924T010000Z;BYMONTH=9;BYDAY=-1SU
END:STANDARD
BEGIN:DAYLIGHT
TZNAME:CEST
TZOFFSETFROM:+0100
TZOFFSETTO:+0200
DTSTART:19810329T020000
RRULE:FREQ=YEARLY;BYMONTH=3;BYDAY=-1SU
END:DAYLIGHT
BEGIN:STANDARD
TZNAME:CET
TZOFFSETFROM:+0200
TZOFFSETTO:+0100
DTSTART:19961027T030000
RRULE:FREQ=YEARLY;BYMONTH=10;BYDAY=-1SU
END:STANDARD
END:VTIMEZONE
BEGIN:VEVENT
DTSTAMP:20260421T212433Z
DTSTART;TZID=Europe/Berlin:20190904T193000
DTEND;TZID=Europe/Berlin:20190904T223000
SUMMARY:HE 3. Liga Gr. 2 Bern II vs Burgdorf IV (7)
UID:4e1fccb6-9b00-4d72-874f-9b3893307dc3
STATUS:CONFIRMED
LAST-MODIFIED:20190905T173519Z
DESCRIPTION:3. Liga Herren Gruppe 2\nBegegnungs-Nr: 7\nHeim: Bern II\nGast: Burgdorf IV\n\nAdresse: Papiermühlestrasse 81\, 3014 Bern\n
LOCATION:Papiermühlestrasse 81\, 3014 Bern
CATEGORIES:Saison 2019/20
END:VEVENT
BEGIN:VEVENT
DTSTAMP:20260421T212433Z
DTSTART;TZID=Europe/Berlin:20191023T193000
DTEND;TZID=Europe/Berlin:20191023T223000
SUMMARY:HE 3. Liga Gr. 2 Bern II vs Thun IV (19)
UID:4d72ff91-077a-44ac-8bec-50c48f05d128
STATUS:CONFIRMED
LAST-MODIFIED:20191025T134600Z
DESCRIPTION:3. Liga Herren Gruppe 2\nBegegnungs-Nr: 19\nHeim: Bern II\nGast: Thun IV\n\nAdresse: Papiermühlestrasse 81\, 3014 Bern\n
LOCATION:Papiermühlestrasse 81\, 3014 Bern
CATEGORIES:Saison 2019/20
END:VEVENT
BEGIN:VEVENT
DTSTAMP:20260421T212433Z
DTSTART;TZID=Europe/Berlin:20200108T193000
DTEND;TZID=Europe/Berlin:20200108T223000
SUMMARY:HE 3. Liga Gr. 2 Bern II vs Royal Bern II (2)
UID:09a2a420-fa57-43ad-8b37-3c3830027752
STATUS:CONFIRMED
LAST-MODIFIED:20200111T090521Z
DESCRIPTION:3. Liga Herren Gruppe 2\nBegegnungs-Nr: 2\nHeim: Bern II\nGast: Royal Bern II\n\nAdresse: Papiermühlestrasse 81\, 3014 Bern\n
LOCATION:Papiermühlestrasse 81\, 3014 Bern
CATEGORIES:Saison 2019/20
END:VEVENT
BEGIN:VEVENT
DTSTAMP:20260421T212433Z
DTSTART;TZID=Europe/Berlin:20200129T193000
DTEND;TZID=Europe/Berlin:20200129T223000
SUMMARY:HE 3. Liga Gr. 2 Bern II vs SC Informatik Swisscom Wabern (12)
UID:03273720-e45e-484d-9d7b-1fc4cb9554f1
STATUS:CONFIRMED
LAST-MODIFIED:20200131T181747Z
DESCRIPTION:3. Liga Herren Gruppe 2\nBegegnungs-Nr: 12\nHeim: Bern II\nGast: SC Informatik Swisscom Wabern\n\nAdresse: Papiermühlestrasse 81\, 3014 Bern\n
LOCATION:Papiermühlestrasse 81\, 3014 Bern
CATEGORIES:Saison 2019/20
END:VEVENT
BEGIN:VEVENT
DTSTAMP:20260421T212433Z
DTSTART;TZID=Europe/Berlin:20200311T193000
DTEND;TZID=Europe/Berlin:20200311T223000
SUMMARY:HE 3. Liga Gr. 2 Bern II vs Langnau (25)
UID:4bbc5d2c-d570-42c3-8e87-3a86f01be204
STATUS:CONFIRMED
LAST-MODIFIED:20200313T203507Z
DESCRIPTION:3. Liga Herren Gruppe 2\nBegegnungs-Nr: 25\nHeim: Bern II\nGast: Langnau\n\nAdresse: Papiermühlestrasse 81\, 3014 Bern\n
LOCATION:Papiermühlestrasse 81\, 3014 Bern
CATEGORIES:Saison 2019/20
END:VEVENT
BEGIN:VEVENT
DTSTAMP:20260421T212433Z
DTSTART;TZID=Europe/Berlin:20200320T193000
DTEND;TZID=Europe/Berlin:20200320T223000
SUMMARY:HE 3. Liga Gr. 2 Bern II vs Steffisburg (32)
UID:dc508362-958f-4919-824e-7b76d74a7cec
STATUS:CONFIRMED
DESCRIPTION:3. Liga Herren Gruppe 2\nBegegnungs-Nr: 32\nHeim: Bern II\nGast: Steffisburg\n\nAdresse: Papiermühlestrasse 81\, 3014 Bern\n
LOCATION:Papiermühlestrasse 81\, 3014 Bern
CATEGORIES:Saison 2019/20
END:VEVENT
BEGIN:VEVENT
DTSTAMP:20260421T212433Z
DTSTART;TZID=Europe/Berlin:20200304T193000
DTEND;TZID=Europe/Berlin:20200304T223000
SUMMARY:HE 3. Liga Gr. 2 Bern II vs Köniz II (24)
UID:a4bc6d44-a3a4-481c-a5e2-6fd69e573aa9
STATUS:CONFIRMED
LAST-MODIFIED:20200305T202826Z
DESCRIPTION:3. Liga Herren Gruppe 2\nBegegnungs-Nr: 24\nHeim: Bern II\nGast: Köniz II\n\nAdresse: Papiermühlestrasse 81\, 3014 Bern\n
LOCATION:Papiermühlestrasse 81\, 3014 Bern
CATEGORIES:Saison 2019/20
END:VEVENT
BEGIN:VEVENT
DTSTAMP:20260421T212433Z
DTSTART;TZID=Europe/Berlin:20191101T193000
DTEND;TZID=Europe/Berlin:20191101T223000
SUMMARY:HE 3. Liga Gr. 2 Bern II vs Wohlensee (16)
UID:4e3835c1-2e59-496a-b555-536ab42a18f8
STATUS:CONFIRMED
LAST-MODIFIED:20191104T180024Z
DESCRIPTION:3. Liga Herren Gruppe 2\nBegegnungs-Nr: 16\nHeim: Bern II\nGast: Wohlensee\n\nAdresse: Papiermühlestrasse 81\, 3014 Bern\n
LOCATION:Papiermühlestrasse 81\, 3014 Bern
CATEGORIES:Saison 2019/20
END:VEVENT
BEGIN:VEVENT
DTSTAMP:20260421T212433Z
DTSTART;TZID=Europe/Berlin:20190823T194500
DTEND;TZID=Europe/Berlin:20190823T224500
SUMMARY:HE 3. Liga Gr. 2 Royal Bern II vs Bern II (2)
UID:b88acd4d-1cbe-4758-8c2f-f107e04bf26b
STATUS:CONFIRMED
LAST-MODIFIED:20190824T165844Z
DESCRIPTION:3. Liga Herren Gruppe 2\nBegegnungs-Nr: 2\nHeim: Royal Bern II\nGast: Bern II\n\nAdresse: Dändlikerweg 60\, 3014 Bern\n
LOCATION:Dändlikerweg 60\, 3014 Bern
CATEGORIES:Saison 2019/20
END:VEVENT
BEGIN:VEVENT
DTSTAMP:20260421T212433Z
DTSTART;TZID=Europe/Berlin:20190916T193000
DTEND;TZID=Europe/Berlin:20190916T223000
SUMMARY:HE 3. Liga Gr. 2 SC Informatik Swisscom Wabern vs Bern II (12)
UID:a27eba1d-2990-4b04-97d9-e6c307e76e45
STATUS:CONFIRMED
LAST-MODIFIED:20190917T105734Z
DESCRIPTION:3. Liga Herren Gruppe 2\nBegegnungs-Nr: 12\nHeim: SC Informatik Swisscom Wabern\nGast: Bern II\n\nAdresse: Eichholzstrasse 29\, 3094 Wabern\n
LOCATION:Eichholzstrasse 29\, 3094 Wabern
CATEGORIES:Saison 2019/20
END:VEVENT
BEGIN:VEVENT
DTSTAMP:20260421T212433Z
DTSTART;TZID=Europe/Berlin:20191123T140000
DTEND;TZID=Europe/Berlin:20191123T170000
SUMMARY:HE 3. Liga Gr. 2 Langnau vs Bern II (25)
UID:96bb263a-fbd0-4085-aeb4-6b6d25386829
STATUS:CONFIRMED
LAST-MODIFIED:20191126T175647Z
DESCRIPTION:3. Liga Herren Gruppe 2\nBegegnungs-Nr: 25\nHeim: Langnau\nGast: Bern II\n\nAdresse: Bleicheweg 11\, 3550 Langnau\n
LOCATION:Bleicheweg 11\, 3550 Langnau
CATEGORIES:Saison 2019/20
END:VEVENT
BEGIN:VEVENT
DTSTAMP:20260421T212433Z
DTSTART;TZID=Europe/Berlin:20200117T193000
DTEND;TZID=Europe/Berlin:20200117T223000
SUMMARY:HE 3. Liga Gr. 2 Burgdorf IV vs Bern II (7)
UID:48ba98fa-65a2-4f91-ac89-ca7c47174490
STATUS:CONFIRMED
LAST-MODIFIED:20200119T120705Z
DESCRIPTION:3. Liga Herren Gruppe 2\nBegegnungs-Nr: 7\nHeim: Burgdorf IV\nGast: Bern II\n\nAdresse: Pestalozzistrasse 69\, 3400 Burgdorf\n
LOCATION:Pestalozzistrasse 69\, 3400 Burgdorf
CATEGORIES:Saison 2019/20
END:VEVENT
BEGIN:VEVENT
DTSTAMP:20260421T212433Z
DTSTART;TZID=Europe/Berlin:20200206T194500
DTEND;TZID=Europe/Berlin:20200206T224500
SUMMARY:HE 3. Liga Gr. 2 Wohlensee vs Bern II (16)
UID:daa4ff4f-e26d-4abf-8993-f428107c010c
STATUS:CONFIRMED
LAST-MODIFIED:20200206T220212Z
DESCRIPTION:3. Liga Herren Gruppe 2\nBegegnungs-Nr: 16\nHeim: Wohlensee\nGast: Bern II\n\nAdresse: Kappelenring 36 a\, 3032 Hinterkappelen\n
LOCATION:Kappelenring 36 a\, 3032 Hinterkappelen
CATEGORIES:Saison 2019/20
END:VEVENT
BEGIN:VEVENT
DTSTAMP:20260421T212433Z
DTSTART;TZID=Europe/Berlin:20200221T194500
DTEND;TZID=Europe/Berlin:20200221T224500
SUMMARY:HE 3. Liga Gr. 2 Thun IV vs Bern II (19)
UID:9697c181-aa02-4afa-a472-04f702ac859b
STATUS:CONFIRMED
LAST-MODIFIED:20200222T064602Z
DESCRIPTION:3. Liga Herren Gruppe 2\nBegegnungs-Nr: 19\nHeim: Thun IV\nGast: Bern II\n\nAdresse: Hallerstrasse 28\, 3604 Thun\n
LOCATION:Hallerstrasse 28\, 3604 Thun
CATEGORIES:Saison 2019/20
END:VEVENT
BEGIN:VEVENT
DTSTAMP:20260421T212433Z
DTSTART;TZID=Europe/Berlin:20191108T200000
DTEND;TZID=Europe/Berlin:20191108T230000
SUMMARY:HE 3. Liga Gr. 2 Köniz II vs Bern II (24)
UID:ef0ba1f7-8058-408e-afca-d1b6c565727d
STATUS:CONFIRMED
LAST-MODIFIED:20191109T171219Z
DESCRIPTION:3. Liga Herren Gruppe 2\nBegegnungs-Nr: 24\nHeim: Köniz II\nGast: Bern II\n\nAdresse: Kirchstrasse 72-76\, 3084 Wabern\n
LOCATION:Kirchstrasse 72-76\, 3084 Wabern
CATEGORIES:Saison 2019/20
END:VEVENT
BEGIN:VEVENT
DTSTAMP:20260421T212433Z
DTSTART;TZID=Europe/Berlin:20191129T200000
DTEND;TZID=Europe/Berlin:20191129T230000
SUMMARY:HE 3. Liga Gr. 2 Steffisburg vs Bern II (32)
UID:3c64f0e4-c1a3-46f4-9488-b7c2d19fd710
STATUS:CONFIRMED
LAST-MODIFIED:20191203T182855Z
DESCRIPTION:3. Liga Herren Gruppe 2\nBegegnungs-Nr: 32\nHeim: Steffisburg\nGast: Bern II\n\nAdresse: Sonnenfeldstrasse 10\, 3613 Steffisburg\n
LOCATION:Sonnenfeldstrasse 10\, 3613 Steffisburg
CATEGORIES:Saison 2019/20
END:VEVENT
END:VCALENDAR
