BEGIN:VCALENDAR
PRODID:-//nuDatenautomaten//framework iCal4j //DE
VERSION:2.0
CALSCALE:GREGORIAN
BEGIN:VTIMEZONE
TZID:Europe/Berlin
LAST-MODIFIED:20260306T231828Z
TZURL:https://www.tzurl.org/zoneinfo/Europe/Berlin
X-LIC-LOCATION:Europe/Berlin
X-PROLEPTIC-TZNAME:LMT
BEGIN:STANDARD
TZNAME:CET
TZOFFSETFROM:+005328
TZOFFSETTO:+0100
DTSTART:18930401T000000
END:STANDARD
BEGIN:DAYLIGHT
TZNAME:CEST
TZOFFSETFROM:+0100
TZOFFSETTO:+0200
DTSTART:19160430T230000
RDATE:19400401T020000
RDATE:19430329T020000
RDATE:19460414T020000
RDATE:19470406T030000
RDATE:19480418T020000
RDATE:19490410T020000
RDATE:19800406T020000
END:DAYLIGHT
BEGIN:STANDARD
TZNAME:CET
TZOFFSETFROM:+0200
TZOFFSETTO:+0100
DTSTART:19161001T010000
RDATE:19421102T030000
RDATE:19431004T030000
RDATE:19441002T030000
RDATE:19451118T030000
RDATE:19461007T030000
END:STANDARD
BEGIN:DAYLIGHT
TZNAME:CEST
TZOFFSETFROM:+0100
TZOFFSETTO:+0200
DTSTART:19170416T020000
RRULE:FREQ=YEARLY;UNTIL=19180415T010000Z;BYMONTH=4;BYDAY=3MO
END:DAYLIGHT
BEGIN:STANDARD
TZNAME:CET
TZOFFSETFROM:+0200
TZOFFSETTO:+0100
DTSTART:19170917T030000
RRULE:FREQ=YEARLY;UNTIL=19180916T010000Z;BYMONTH=9;BYDAY=3MO
END:STANDARD
BEGIN:DAYLIGHT
TZNAME:CEST
TZOFFSETFROM:+0100
TZOFFSETTO:+0200
DTSTART:19440403T020000
RRULE:FREQ=YEARLY;UNTIL=19450402T010000Z;BYMONTH=4;BYDAY=1MO
END:DAYLIGHT
BEGIN:DAYLIGHT
TZNAME:CEMT
TZOFFSETFROM:+0200
TZOFFSETTO:+0300
DTSTART:19450524T020000
RDATE:19470511T030000
END:DAYLIGHT
BEGIN:DAYLIGHT
TZNAME:CEST
TZOFFSETFROM:+0300
TZOFFSETTO:+0200
DTSTART:19450924T030000
RDATE:19470629T030000
END:DAYLIGHT
BEGIN:STANDARD
TZNAME:CET
TZOFFSETFROM:+0100
TZOFFSETTO:+0100
DTSTART:19460101T000000
RDATE:19800101T000000
END:STANDARD
BEGIN:STANDARD
TZNAME:CET
TZOFFSETFROM:+0200
TZOFFSETTO:+0100
DTSTART:19471005T030000
RRULE:FREQ=YEARLY;UNTIL=19491002T010000Z;BYMONTH=10;BYDAY=1SU
END:STANDARD
BEGIN:STANDARD
TZNAME:CET
TZOFFSETFROM:+0200
TZOFFSETTO:+0100
DTSTART:19800928T030000
RRULE:FREQ=YEARLY;UNTIL=19950924T010000Z;BYMONTH=9;BYDAY=-1SU
END:STANDARD
BEGIN:DAYLIGHT
TZNAME:CEST
TZOFFSETFROM:+0100
TZOFFSETTO:+0200
DTSTART:19810329T020000
RRULE:FREQ=YEARLY;BYMONTH=3;BYDAY=-1SU
END:DAYLIGHT
BEGIN:STANDARD
TZNAME:CET
TZOFFSETFROM:+0200
TZOFFSETTO:+0100
DTSTART:19961027T030000
RRULE:FREQ=YEARLY;BYMONTH=10;BYDAY=-1SU
END:STANDARD
END:VTIMEZONE
BEGIN:VEVENT
DTSTAMP:20260421T201043Z
DTSTART;TZID=Europe/Berlin:20200124T200000
DTEND;TZID=Europe/Berlin:20200124T230000
SUMMARY:HE 5. Liga Gr. 2 Grauholz II vs Langnau IV (4)
UID:37182005-665a-4727-890a-e37e1cf45aa8
STATUS:CONFIRMED
LAST-MODIFIED:20200125T210334Z
DESCRIPTION:Herren 5. Liga Gruppe 2\nBegegnungs-Nr: 4\nHeim: Grauholz II\nGast: Langnau IV\n\nAdresse: Schulhausweg 8\, 3324 Hindelbank\n
LOCATION:Schulhausweg 8\, 3324 Hindelbank
CATEGORIES:Saison 2019/20
END:VEVENT
BEGIN:VEVENT
DTSTAMP:20260421T201043Z
DTSTART;TZID=Europe/Berlin:20191004T200000
DTEND;TZID=Europe/Berlin:20191004T230000
SUMMARY:HE 5. Liga Gr. 2 Grauholz II vs Köniz V (7)
UID:5f9d8c60-7561-4aea-b38e-5de451ca3ce5
STATUS:CONFIRMED
LAST-MODIFIED:20191007T132923Z
DESCRIPTION:Herren 5. Liga Gruppe 2\nBegegnungs-Nr: 7\nHeim: Grauholz II\nGast: Köniz V\n\nAdresse: Schulhausweg 8\, 3324 Hindelbank\n
LOCATION:Schulhausweg 8\, 3324 Hindelbank
CATEGORIES:Saison 2019/20
END:VEVENT
BEGIN:VEVENT
DTSTAMP:20260421T201043Z
DTSTART;TZID=Europe/Berlin:20191115T200000
DTEND;TZID=Europe/Berlin:20191115T230000
SUMMARY:HE 5. Liga Gr. 2 Grauholz II vs Bern VI (13)
UID:a3dd5f0f-060e-4271-8217-3e80ca00bea0
STATUS:CONFIRMED
LAST-MODIFIED:20191116T074332Z
DESCRIPTION:Herren 5. Liga Gruppe 2\nBegegnungs-Nr: 13\nHeim: Grauholz II\nGast: Bern VI\n\nAdresse: Schulhausweg 8\, 3324 Hindelbank\n
LOCATION:Schulhausweg 8\, 3324 Hindelbank
CATEGORIES:Saison 2019/20
END:VEVENT
BEGIN:VEVENT
DTSTAMP:20260421T201043Z
DTSTART;TZID=Europe/Berlin:20200221T200000
DTEND;TZID=Europe/Berlin:20200221T230000
SUMMARY:HE 5. Liga Gr. 2 Grauholz II vs Thun VI (10)
UID:3730ef70-e41f-4b31-8163-95373de09042
STATUS:CONFIRMED
LAST-MODIFIED:20200225T055927Z
DESCRIPTION:Herren 5. Liga Gruppe 2\nBegegnungs-Nr: 10\nHeim: Grauholz II\nGast: Thun VI\n\nAdresse: Schulhausweg 8\, 3324 Hindelbank\n
LOCATION:Schulhausweg 8\, 3324 Hindelbank
CATEGORIES:Saison 2019/20
END:VEVENT
BEGIN:VEVENT
DTSTAMP:20260421T201043Z
DTSTART;TZID=Europe/Berlin:20200313T200000
DTEND;TZID=Europe/Berlin:20200313T230000
SUMMARY:HE 5. Liga Gr. 2 Grauholz II vs Burgdorf X (16)
UID:93d72ac2-5edc-4ca9-afde-4c37bc36b794
STATUS:CONFIRMED
LAST-MODIFIED:20191129T095549Z
DESCRIPTION:Herren 5. Liga Gruppe 2\nBegegnungs-Nr: 16\nHeim: Grauholz II\nGast: Burgdorf X\n\nAdresse: Schulhausweg 8\, 3324 Hindelbank\n
LOCATION:Schulhausweg 8\, 3324 Hindelbank
CATEGORIES:Saison 2019/20
END:VEVENT
BEGIN:VEVENT
DTSTAMP:20260421T201043Z
DTSTART;TZID=Europe/Berlin:20200320T200000
DTEND;TZID=Europe/Berlin:20200320T230000
SUMMARY:HE 5. Liga Gr. 2 Grauholz II vs Ittigen IV (19)
UID:402b1b99-8a41-408e-b54b-4201a7ff2c9d
STATUS:CONFIRMED
LAST-MODIFIED:20191118T114207Z
DESCRIPTION:Herren 5. Liga Gruppe 2\nBegegnungs-Nr: 19\nHeim: Grauholz II\nGast: Ittigen IV\n\nAdresse: Schulhausweg 8\, 3324 Hindelbank\n
LOCATION:Schulhausweg 8\, 3324 Hindelbank
CATEGORIES:Saison 2019/20
END:VEVENT
BEGIN:VEVENT
DTSTAMP:20260421T201043Z
DTSTART;TZID=Europe/Berlin:20190919T200000
DTEND;TZID=Europe/Berlin:20190919T230000
SUMMARY:HE 5. Liga Gr. 2 Langnau IV vs Grauholz II (4)
UID:ad310aa7-5ecc-4716-bd45-8633a3b76b29
STATUS:CONFIRMED
LAST-MODIFIED:20190922T174951Z
DESCRIPTION:Herren 5. Liga Gruppe 2\nBegegnungs-Nr: 4\nHeim: Langnau IV\nGast: Grauholz II\n\nAdresse: Bleicheweg 11\, 3550 Langnau\n
LOCATION:Bleicheweg 11\, 3550 Langnau
CATEGORIES:Saison 2019/20
END:VEVENT
BEGIN:VEVENT
DTSTAMP:20260421T201043Z
DTSTART;TZID=Europe/Berlin:20191026T130000
DTEND;TZID=Europe/Berlin:20191026T160000
SUMMARY:HE 5. Liga Gr. 2 Thun VI vs Grauholz II (10)
UID:7dd4cded-e9f5-4eab-a782-dcb65d54e903
STATUS:CONFIRMED
LAST-MODIFIED:20191028T105122Z
DESCRIPTION:Herren 5. Liga Gruppe 2\nBegegnungs-Nr: 10\nHeim: Thun VI\nGast: Grauholz II\n\nAdresse: Hallerstrasse 28\, 3604 Thun\n
LOCATION:Hallerstrasse 28\, 3604 Thun
CATEGORIES:Saison 2019/20
END:VEVENT
BEGIN:VEVENT
DTSTAMP:20260421T201043Z
DTSTART;TZID=Europe/Berlin:20191204T201500
DTEND;TZID=Europe/Berlin:20191204T231500
SUMMARY:HE 5. Liga Gr. 2 Burgdorf X vs Grauholz II (16)
UID:2e780d79-2288-43c6-84d0-a183cf17e0c2
STATUS:CONFIRMED
LAST-MODIFIED:20191205T170327Z
DESCRIPTION:Herren 5. Liga Gruppe 2\nBegegnungs-Nr: 16\nHeim: Burgdorf X\nGast: Grauholz II\n\nAdresse: Pestalozzistrasse 69\, 3400 Burgdorf\n
LOCATION:Pestalozzistrasse 69\, 3400 Burgdorf
CATEGORIES:Saison 2019/20
END:VEVENT
BEGIN:VEVENT
DTSTAMP:20260421T201043Z
DTSTART;TZID=Europe/Berlin:20200203T200000
DTEND;TZID=Europe/Berlin:20200203T230000
SUMMARY:HE 5. Liga Gr. 2 Köniz V vs Grauholz II (7)
UID:2d261ca0-c86f-4120-927c-d10a75e4bb86
STATUS:CONFIRMED
LAST-MODIFIED:20200206T220524Z
DESCRIPTION:Herren 5. Liga Gruppe 2\nBegegnungs-Nr: 7\nHeim: Köniz V\nGast: Grauholz II\n\nAdresse: Kirchstrasse 72-76\, 3084 Wabern\n
LOCATION:Kirchstrasse 72-76\, 3084 Wabern
CATEGORIES:Saison 2019/20
END:VEVENT
BEGIN:VEVENT
DTSTAMP:20260421T201043Z
DTSTART;TZID=Europe/Berlin:20200309T193000
DTEND;TZID=Europe/Berlin:20200309T223000
SUMMARY:HE 5. Liga Gr. 2 Bern VI vs Grauholz II (13)
UID:ed78e3f4-74cc-46f1-884f-0f779dc1986b
STATUS:CONFIRMED
LAST-MODIFIED:20200311T152502Z
DESCRIPTION:Herren 5. Liga Gruppe 2\nBegegnungs-Nr: 13\nHeim: Bern VI\nGast: Grauholz II\n\nAdresse: Papiermühlestrasse 81\, 3014 Bern\n
LOCATION:Papiermühlestrasse 81\, 3014 Bern
CATEGORIES:Saison 2019/20
END:VEVENT
BEGIN:VEVENT
DTSTAMP:20260421T201043Z
DTSTART;TZID=Europe/Berlin:20191209T194500
DTEND;TZID=Europe/Berlin:20191209T224500
SUMMARY:HE 5. Liga Gr. 2 Ittigen IV vs Grauholz II (19)
UID:aab7e1d5-257a-404f-93df-42157dd71800
STATUS:CONFIRMED
LAST-MODIFIED:20191211T163952Z
DESCRIPTION:Herren 5. Liga Gruppe 2\nBegegnungs-Nr: 19\nHeim: Ittigen IV\nGast: Grauholz II\n\nAdresse: Fischrainweg 17\, 3048 Worblaufen\n
LOCATION:Fischrainweg 17\, 3048 Worblaufen
CATEGORIES:Saison 2019/20
END:VEVENT
END:VCALENDAR
