BEGIN:VCALENDAR
PRODID:-//nuDatenautomaten//framework iCal4j //DE
VERSION:2.0
CALSCALE:GREGORIAN
BEGIN:VTIMEZONE
TZID:Europe/Berlin
LAST-MODIFIED:20260306T231828Z
TZURL:https://www.tzurl.org/zoneinfo/Europe/Berlin
X-LIC-LOCATION:Europe/Berlin
X-PROLEPTIC-TZNAME:LMT
BEGIN:STANDARD
TZNAME:CET
TZOFFSETFROM:+005328
TZOFFSETTO:+0100
DTSTART:18930401T000000
END:STANDARD
BEGIN:DAYLIGHT
TZNAME:CEST
TZOFFSETFROM:+0100
TZOFFSETTO:+0200
DTSTART:19160430T230000
RDATE:19400401T020000
RDATE:19430329T020000
RDATE:19460414T020000
RDATE:19470406T030000
RDATE:19480418T020000
RDATE:19490410T020000
RDATE:19800406T020000
END:DAYLIGHT
BEGIN:STANDARD
TZNAME:CET
TZOFFSETFROM:+0200
TZOFFSETTO:+0100
DTSTART:19161001T010000
RDATE:19421102T030000
RDATE:19431004T030000
RDATE:19441002T030000
RDATE:19451118T030000
RDATE:19461007T030000
END:STANDARD
BEGIN:DAYLIGHT
TZNAME:CEST
TZOFFSETFROM:+0100
TZOFFSETTO:+0200
DTSTART:19170416T020000
RRULE:FREQ=YEARLY;UNTIL=19180415T010000Z;BYMONTH=4;BYDAY=3MO
END:DAYLIGHT
BEGIN:STANDARD
TZNAME:CET
TZOFFSETFROM:+0200
TZOFFSETTO:+0100
DTSTART:19170917T030000
RRULE:FREQ=YEARLY;UNTIL=19180916T010000Z;BYMONTH=9;BYDAY=3MO
END:STANDARD
BEGIN:DAYLIGHT
TZNAME:CEST
TZOFFSETFROM:+0100
TZOFFSETTO:+0200
DTSTART:19440403T020000
RRULE:FREQ=YEARLY;UNTIL=19450402T010000Z;BYMONTH=4;BYDAY=1MO
END:DAYLIGHT
BEGIN:DAYLIGHT
TZNAME:CEMT
TZOFFSETFROM:+0200
TZOFFSETTO:+0300
DTSTART:19450524T020000
RDATE:19470511T030000
END:DAYLIGHT
BEGIN:DAYLIGHT
TZNAME:CEST
TZOFFSETFROM:+0300
TZOFFSETTO:+0200
DTSTART:19450924T030000
RDATE:19470629T030000
END:DAYLIGHT
BEGIN:STANDARD
TZNAME:CET
TZOFFSETFROM:+0100
TZOFFSETTO:+0100
DTSTART:19460101T000000
RDATE:19800101T000000
END:STANDARD
BEGIN:STANDARD
TZNAME:CET
TZOFFSETFROM:+0200
TZOFFSETTO:+0100
DTSTART:19471005T030000
RRULE:FREQ=YEARLY;UNTIL=19491002T010000Z;BYMONTH=10;BYDAY=1SU
END:STANDARD
BEGIN:STANDARD
TZNAME:CET
TZOFFSETFROM:+0200
TZOFFSETTO:+0100
DTSTART:19800928T030000
RRULE:FREQ=YEARLY;UNTIL=19950924T010000Z;BYMONTH=9;BYDAY=-1SU
END:STANDARD
BEGIN:DAYLIGHT
TZNAME:CEST
TZOFFSETFROM:+0100
TZOFFSETTO:+0200
DTSTART:19810329T020000
RRULE:FREQ=YEARLY;BYMONTH=3;BYDAY=-1SU
END:DAYLIGHT
BEGIN:STANDARD
TZNAME:CET
TZOFFSETFROM:+0200
TZOFFSETTO:+0100
DTSTART:19961027T030000
RRULE:FREQ=YEARLY;BYMONTH=10;BYDAY=-1SU
END:STANDARD
END:VTIMEZONE
BEGIN:VEVENT
DTSTAMP:20260421T201952Z
DTSTART;TZID=Europe/Berlin:20190819T193000
DTEND;TZID=Europe/Berlin:20190819T223000
SUMMARY:HE 3. Liga Gr. 2 SC Informatik Swisscom Wabern vs Steffisburg (3)
UID:4b8d2628-1581-4362-8747-0aecffe594cc
STATUS:CONFIRMED
LAST-MODIFIED:20190820T193201Z
DESCRIPTION:3. Liga Herren Gruppe 2\nBegegnungs-Nr: 3\nHeim: SC Informatik Swisscom Wabern\nGast: Steffisburg\n\nAdresse: Eichholzstrasse 29\, 3094 Wabern\n
LOCATION:Eichholzstrasse 29\, 3094 Wabern
CATEGORIES:Saison 2019/20
END:VEVENT
BEGIN:VEVENT
DTSTAMP:20260421T201952Z
DTSTART;TZID=Europe/Berlin:20190916T193000
DTEND;TZID=Europe/Berlin:20190916T223000
SUMMARY:HE 3. Liga Gr. 2 SC Informatik Swisscom Wabern vs Bern II (12)
UID:a27eba1d-2990-4b04-97d9-e6c307e76e45
STATUS:CONFIRMED
LAST-MODIFIED:20190917T105734Z
DESCRIPTION:3. Liga Herren Gruppe 2\nBegegnungs-Nr: 12\nHeim: SC Informatik Swisscom Wabern\nGast: Bern II\n\nAdresse: Eichholzstrasse 29\, 3094 Wabern\n
LOCATION:Eichholzstrasse 29\, 3094 Wabern
CATEGORIES:Saison 2019/20
END:VEVENT
BEGIN:VEVENT
DTSTAMP:20260421T201952Z
DTSTART;TZID=Europe/Berlin:20191104T193000
DTEND;TZID=Europe/Berlin:20191104T223000
SUMMARY:HE 3. Liga Gr. 2 SC Informatik Swisscom Wabern vs Royal Bern II (22)
UID:53f4b75a-af92-41a9-a792-de560214863e
STATUS:CONFIRMED
LAST-MODIFIED:20191105T201832Z
DESCRIPTION:3. Liga Herren Gruppe 2\nBegegnungs-Nr: 22\nHeim: SC Informatik Swisscom Wabern\nGast: Royal Bern II\n\nAdresse: Eichholzstrasse 29\, 3094 Wabern\n
LOCATION:Eichholzstrasse 29\, 3094 Wabern
CATEGORIES:Saison 2019/20
END:VEVENT
BEGIN:VEVENT
DTSTAMP:20260421T201952Z
DTSTART;TZID=Europe/Berlin:20191118T193000
DTEND;TZID=Europe/Berlin:20191118T223000
SUMMARY:HE 3. Liga Gr. 2 SC Informatik Swisscom Wabern vs Wohlensee (27)
UID:50e1c957-9e9b-4cca-b32e-7031c35075f4
STATUS:CONFIRMED
LAST-MODIFIED:20191120T185614Z
DESCRIPTION:3. Liga Herren Gruppe 2\nBegegnungs-Nr: 27\nHeim: SC Informatik Swisscom Wabern\nGast: Wohlensee\n\nAdresse: Eichholzstrasse 29\, 3094 Wabern\n
LOCATION:Eichholzstrasse 29\, 3094 Wabern
CATEGORIES:Saison 2019/20
END:VEVENT
BEGIN:VEVENT
DTSTAMP:20260421T201952Z
DTSTART;TZID=Europe/Berlin:20200224T193000
DTEND;TZID=Europe/Berlin:20200224T223000
SUMMARY:HE 3. Liga Gr. 2 SC Informatik Swisscom Wabern vs Langnau (17)
UID:677f8bb0-f5aa-46b1-b587-aca7ad7efa3f
STATUS:CONFIRMED
LAST-MODIFIED:20200226T201145Z
DESCRIPTION:3. Liga Herren Gruppe 2\nBegegnungs-Nr: 17\nHeim: SC Informatik Swisscom Wabern\nGast: Langnau\n\nAdresse: Eichholzstrasse 29\, 3094 Wabern\n
LOCATION:Eichholzstrasse 29\, 3094 Wabern
CATEGORIES:Saison 2019/20
END:VEVENT
BEGIN:VEVENT
DTSTAMP:20260421T201952Z
DTSTART;TZID=Europe/Berlin:20200323T193000
DTEND;TZID=Europe/Berlin:20200323T223000
SUMMARY:HE 3. Liga Gr. 2 SC Informatik Swisscom Wabern vs Thun IV (31)
UID:1c9f014d-1e76-4fad-be11-c9cccd41a4c2
STATUS:CONFIRMED
LAST-MODIFIED:20190807T193116Z
DESCRIPTION:3. Liga Herren Gruppe 2\nBegegnungs-Nr: 31\nHeim: SC Informatik Swisscom Wabern\nGast: Thun IV\n\nAdresse: Eichholzstrasse 29\, 3094 Wabern\n
LOCATION:Eichholzstrasse 29\, 3094 Wabern
CATEGORIES:Saison 2019/20
END:VEVENT
BEGIN:VEVENT
DTSTAMP:20260421T201952Z
DTSTART;TZID=Europe/Berlin:20200330T193000
DTEND;TZID=Europe/Berlin:20200330T223000
SUMMARY:HE 3. Liga Gr. 2 SC Informatik Swisscom Wabern vs Burgdorf IV (34)
UID:bb598282-1675-427d-a383-c25bdc2de943
STATUS:CONFIRMED
DESCRIPTION:3. Liga Herren Gruppe 2\nBegegnungs-Nr: 34\nHeim: SC Informatik Swisscom Wabern\nGast: Burgdorf IV\n\nAdresse: Eichholzstrasse 29\, 3094 Wabern\n
LOCATION:Eichholzstrasse 29\, 3094 Wabern
CATEGORIES:Saison 2019/20
END:VEVENT
BEGIN:VEVENT
DTSTAMP:20260421T201952Z
DTSTART;TZID=Europe/Berlin:20200210T193000
DTEND;TZID=Europe/Berlin:20200210T223000
SUMMARY:HE 3. Liga Gr. 2 SC Informatik Swisscom Wabern vs Köniz II (15)
UID:8e3b61a8-d661-46d2-9009-c35abfd7c632
STATUS:CONFIRMED
LAST-MODIFIED:20200211T142253Z
DESCRIPTION:3. Liga Herren Gruppe 2\nBegegnungs-Nr: 15\nHeim: SC Informatik Swisscom Wabern\nGast: Köniz II\n\nAdresse: Eichholzstrasse 29\, 3094 Wabern\n
LOCATION:Eichholzstrasse 29\, 3094 Wabern
CATEGORIES:Saison 2019/20
END:VEVENT
BEGIN:VEVENT
DTSTAMP:20260421T201952Z
DTSTART;TZID=Europe/Berlin:20191129T194500
DTEND;TZID=Europe/Berlin:20191129T224500
SUMMARY:HE 3. Liga Gr. 2 Thun IV vs SC Informatik Swisscom Wabern (31)
UID:62bb3f65-5502-4c7b-a535-64d599457381
STATUS:CONFIRMED
LAST-MODIFIED:20191203T182847Z
DESCRIPTION:3. Liga Herren Gruppe 2\nBegegnungs-Nr: 31\nHeim: Thun IV\nGast: SC Informatik Swisscom Wabern\n\nAdresse: Hallerstrasse 28\, 3604 Thun\n
LOCATION:Hallerstrasse 28\, 3604 Thun
CATEGORIES:Saison 2019/20
END:VEVENT
BEGIN:VEVENT
DTSTAMP:20260421T201952Z
DTSTART;TZID=Europe/Berlin:20191213T193000
DTEND;TZID=Europe/Berlin:20191213T223000
SUMMARY:HE 3. Liga Gr. 2 Burgdorf IV vs SC Informatik Swisscom Wabern (34)
UID:9e74d46f-adbc-4ede-a2a4-a6865af76d4a
STATUS:CONFIRMED
LAST-MODIFIED:20191214T123732Z
DESCRIPTION:3. Liga Herren Gruppe 2\nBegegnungs-Nr: 34\nHeim: Burgdorf IV\nGast: SC Informatik Swisscom Wabern\n\nAdresse: Pestalozzistrasse 69\, 3400 Burgdorf\n
LOCATION:Pestalozzistrasse 69\, 3400 Burgdorf
CATEGORIES:Saison 2019/20
END:VEVENT
BEGIN:VEVENT
DTSTAMP:20260421T201952Z
DTSTART;TZID=Europe/Berlin:20191102T140000
DTEND;TZID=Europe/Berlin:20191102T170000
SUMMARY:HE 3. Liga Gr. 2 Langnau vs SC Informatik Swisscom Wabern (17)
UID:84a70c92-f1de-47fe-8fe2-65de5e86ca0f
STATUS:CONFIRMED
LAST-MODIFIED:20191104T180051Z
DESCRIPTION:3. Liga Herren Gruppe 2\nBegegnungs-Nr: 17\nHeim: Langnau\nGast: SC Informatik Swisscom Wabern\n\nAdresse: Bleicheweg 11\, 3550 Langnau\n
LOCATION:Bleicheweg 11\, 3550 Langnau
CATEGORIES:Saison 2019/20
END:VEVENT
BEGIN:VEVENT
DTSTAMP:20260421T201952Z
DTSTART;TZID=Europe/Berlin:20200129T193000
DTEND;TZID=Europe/Berlin:20200129T223000
SUMMARY:HE 3. Liga Gr. 2 Bern II vs SC Informatik Swisscom Wabern (12)
UID:03273720-e45e-484d-9d7b-1fc4cb9554f1
STATUS:CONFIRMED
LAST-MODIFIED:20200131T181747Z
DESCRIPTION:3. Liga Herren Gruppe 2\nBegegnungs-Nr: 12\nHeim: Bern II\nGast: SC Informatik Swisscom Wabern\n\nAdresse: Papiermühlestrasse 81\, 3014 Bern\n
LOCATION:Papiermühlestrasse 81\, 3014 Bern
CATEGORIES:Saison 2019/20
END:VEVENT
BEGIN:VEVENT
DTSTAMP:20260421T201952Z
DTSTART;TZID=Europe/Berlin:20200326T194500
DTEND;TZID=Europe/Berlin:20200326T224500
SUMMARY:HE 3. Liga Gr. 2 Wohlensee vs SC Informatik Swisscom Wabern (27)
UID:cfe92013-d9df-4e28-850f-4f09da46457a
STATUS:CONFIRMED
LAST-MODIFIED:20191020T094857Z
DESCRIPTION:3. Liga Herren Gruppe 2\nBegegnungs-Nr: 27\nHeim: Wohlensee\nGast: SC Informatik Swisscom Wabern\n\nAdresse: Kappelenring 36 a\, 3032 Hinterkappelen\n
LOCATION:Kappelenring 36 a\, 3032 Hinterkappelen
CATEGORIES:Saison 2019/20
END:VEVENT
BEGIN:VEVENT
DTSTAMP:20260421T201952Z
DTSTART;TZID=Europe/Berlin:20200228T194500
DTEND;TZID=Europe/Berlin:20200228T224500
SUMMARY:HE 3. Liga Gr. 2 Royal Bern II vs SC Informatik Swisscom Wabern (22)
UID:1ad8555e-e386-456c-8edc-78138f642250
STATUS:CONFIRMED
LAST-MODIFIED:20200302T201548Z
DESCRIPTION:3. Liga Herren Gruppe 2\nBegegnungs-Nr: 22\nHeim: Royal Bern II\nGast: SC Informatik Swisscom Wabern\n\nAdresse: Dändlikerweg 60\, 3014 Bern\n
LOCATION:Dändlikerweg 60\, 3014 Bern
CATEGORIES:Saison 2019/20
END:VEVENT
BEGIN:VEVENT
DTSTAMP:20260421T201952Z
DTSTART;TZID=Europe/Berlin:20191011T200000
DTEND;TZID=Europe/Berlin:20191011T230000
SUMMARY:HE 3. Liga Gr. 2 Köniz II vs SC Informatik Swisscom Wabern (15)
UID:da670acb-1356-438f-84a7-052a85d9cd23
STATUS:CONFIRMED
LAST-MODIFIED:20191016T074835Z
DESCRIPTION:3. Liga Herren Gruppe 2\nBegegnungs-Nr: 15\nHeim: Köniz II\nGast: SC Informatik Swisscom Wabern\n\nAdresse: Kirchstrasse 72-76\, 3084 Wabern\n
LOCATION:Kirchstrasse 72-76\, 3084 Wabern
CATEGORIES:Saison 2019/20
END:VEVENT
BEGIN:VEVENT
DTSTAMP:20260421T201952Z
DTSTART;TZID=Europe/Berlin:20200110T200000
DTEND;TZID=Europe/Berlin:20200110T230000
SUMMARY:HE 3. Liga Gr. 2 Steffisburg vs SC Informatik Swisscom Wabern (3)
UID:b54cb46a-6f2b-4a6c-bf64-ec8f4d5b702c
STATUS:CONFIRMED
LAST-MODIFIED:20200111T090529Z
DESCRIPTION:3. Liga Herren Gruppe 2\nBegegnungs-Nr: 3\nHeim: Steffisburg\nGast: SC Informatik Swisscom Wabern\n\nAdresse: Sonnenfeldstrasse 10\, 3613 Steffisburg\n
LOCATION:Sonnenfeldstrasse 10\, 3613 Steffisburg
CATEGORIES:Saison 2019/20
END:VEVENT
END:VCALENDAR
