BEGIN:VCALENDAR
PRODID:-//nuDatenautomaten//framework iCal4j //DE
VERSION:2.0
CALSCALE:GREGORIAN
BEGIN:VTIMEZONE
TZID:Europe/Berlin
LAST-MODIFIED:20260306T231828Z
TZURL:https://www.tzurl.org/zoneinfo/Europe/Berlin
X-LIC-LOCATION:Europe/Berlin
X-PROLEPTIC-TZNAME:LMT
BEGIN:STANDARD
TZNAME:CET
TZOFFSETFROM:+005328
TZOFFSETTO:+0100
DTSTART:18930401T000000
END:STANDARD
BEGIN:DAYLIGHT
TZNAME:CEST
TZOFFSETFROM:+0100
TZOFFSETTO:+0200
DTSTART:19160430T230000
RDATE:19400401T020000
RDATE:19430329T020000
RDATE:19460414T020000
RDATE:19470406T030000
RDATE:19480418T020000
RDATE:19490410T020000
RDATE:19800406T020000
END:DAYLIGHT
BEGIN:STANDARD
TZNAME:CET
TZOFFSETFROM:+0200
TZOFFSETTO:+0100
DTSTART:19161001T010000
RDATE:19421102T030000
RDATE:19431004T030000
RDATE:19441002T030000
RDATE:19451118T030000
RDATE:19461007T030000
END:STANDARD
BEGIN:DAYLIGHT
TZNAME:CEST
TZOFFSETFROM:+0100
TZOFFSETTO:+0200
DTSTART:19170416T020000
RRULE:FREQ=YEARLY;UNTIL=19180415T010000Z;BYMONTH=4;BYDAY=3MO
END:DAYLIGHT
BEGIN:STANDARD
TZNAME:CET
TZOFFSETFROM:+0200
TZOFFSETTO:+0100
DTSTART:19170917T030000
RRULE:FREQ=YEARLY;UNTIL=19180916T010000Z;BYMONTH=9;BYDAY=3MO
END:STANDARD
BEGIN:DAYLIGHT
TZNAME:CEST
TZOFFSETFROM:+0100
TZOFFSETTO:+0200
DTSTART:19440403T020000
RRULE:FREQ=YEARLY;UNTIL=19450402T010000Z;BYMONTH=4;BYDAY=1MO
END:DAYLIGHT
BEGIN:DAYLIGHT
TZNAME:CEMT
TZOFFSETFROM:+0200
TZOFFSETTO:+0300
DTSTART:19450524T020000
RDATE:19470511T030000
END:DAYLIGHT
BEGIN:DAYLIGHT
TZNAME:CEST
TZOFFSETFROM:+0300
TZOFFSETTO:+0200
DTSTART:19450924T030000
RDATE:19470629T030000
END:DAYLIGHT
BEGIN:STANDARD
TZNAME:CET
TZOFFSETFROM:+0100
TZOFFSETTO:+0100
DTSTART:19460101T000000
RDATE:19800101T000000
END:STANDARD
BEGIN:STANDARD
TZNAME:CET
TZOFFSETFROM:+0200
TZOFFSETTO:+0100
DTSTART:19471005T030000
RRULE:FREQ=YEARLY;UNTIL=19491002T010000Z;BYMONTH=10;BYDAY=1SU
END:STANDARD
BEGIN:STANDARD
TZNAME:CET
TZOFFSETFROM:+0200
TZOFFSETTO:+0100
DTSTART:19800928T030000
RRULE:FREQ=YEARLY;UNTIL=19950924T010000Z;BYMONTH=9;BYDAY=-1SU
END:STANDARD
BEGIN:DAYLIGHT
TZNAME:CEST
TZOFFSETFROM:+0100
TZOFFSETTO:+0200
DTSTART:19810329T020000
RRULE:FREQ=YEARLY;BYMONTH=3;BYDAY=-1SU
END:DAYLIGHT
BEGIN:STANDARD
TZNAME:CET
TZOFFSETFROM:+0200
TZOFFSETTO:+0100
DTSTART:19961027T030000
RRULE:FREQ=YEARLY;BYMONTH=10;BYDAY=-1SU
END:STANDARD
END:VTIMEZONE
BEGIN:VEVENT
DTSTAMP:20260421T202016Z
DTSTART;TZID=Europe/Berlin:20190831T140000
DTEND;TZID=Europe/Berlin:20190831T170000
SUMMARY:HE 3. Liga Gr. 2 Langnau vs Köniz II (1)
UID:d056a536-cbeb-41fe-98aa-14dcc8c7cb08
STATUS:CONFIRMED
LAST-MODIFIED:20190831T170143Z
DESCRIPTION:3. Liga Herren Gruppe 2\nBegegnungs-Nr: 1\nHeim: Langnau\nGast: Köniz II\n\nAdresse: Bleicheweg 11\, 3550 Langnau\n
LOCATION:Bleicheweg 11\, 3550 Langnau
CATEGORIES:Saison 2019/20
END:VEVENT
BEGIN:VEVENT
DTSTAMP:20260421T202016Z
DTSTART;TZID=Europe/Berlin:20190928T140000
DTEND;TZID=Europe/Berlin:20190928T170000
SUMMARY:HE 3. Liga Gr. 2 Langnau vs Steffisburg (9)
UID:a8502f8d-b31e-4ea6-af0a-539faa57ffcd
STATUS:CONFIRMED
LAST-MODIFIED:20190929T162456Z
DESCRIPTION:3. Liga Herren Gruppe 2\nBegegnungs-Nr: 9\nHeim: Langnau\nGast: Steffisburg\n\nAdresse: Bleicheweg 11\, 3550 Langnau\n
LOCATION:Bleicheweg 11\, 3550 Langnau
CATEGORIES:Saison 2019/20
END:VEVENT
BEGIN:VEVENT
DTSTAMP:20260421T202016Z
DTSTART;TZID=Europe/Berlin:20191102T140000
DTEND;TZID=Europe/Berlin:20191102T170000
SUMMARY:HE 3. Liga Gr. 2 Langnau vs SC Informatik Swisscom Wabern (17)
UID:84a70c92-f1de-47fe-8fe2-65de5e86ca0f
STATUS:CONFIRMED
LAST-MODIFIED:20191104T180051Z
DESCRIPTION:3. Liga Herren Gruppe 2\nBegegnungs-Nr: 17\nHeim: Langnau\nGast: SC Informatik Swisscom Wabern\n\nAdresse: Bleicheweg 11\, 3550 Langnau\n
LOCATION:Bleicheweg 11\, 3550 Langnau
CATEGORIES:Saison 2019/20
END:VEVENT
BEGIN:VEVENT
DTSTAMP:20260421T202016Z
DTSTART;TZID=Europe/Berlin:20191123T140000
DTEND;TZID=Europe/Berlin:20191123T170000
SUMMARY:HE 3. Liga Gr. 2 Langnau vs Bern II (25)
UID:96bb263a-fbd0-4085-aeb4-6b6d25386829
STATUS:CONFIRMED
LAST-MODIFIED:20191126T175647Z
DESCRIPTION:3. Liga Herren Gruppe 2\nBegegnungs-Nr: 25\nHeim: Langnau\nGast: Bern II\n\nAdresse: Bleicheweg 11\, 3550 Langnau\n
LOCATION:Bleicheweg 11\, 3550 Langnau
CATEGORIES:Saison 2019/20
END:VEVENT
BEGIN:VEVENT
DTSTAMP:20260421T202016Z
DTSTART;TZID=Europe/Berlin:20200118T140000
DTEND;TZID=Europe/Berlin:20200118T170000
SUMMARY:HE 3. Liga Gr. 2 Langnau vs Thun IV (5)
UID:2ecaf497-2372-4e5c-b051-8e1f1b605821
STATUS:CONFIRMED
LAST-MODIFIED:20200119T120718Z
DESCRIPTION:3. Liga Herren Gruppe 2\nBegegnungs-Nr: 5\nHeim: Langnau\nGast: Thun IV\n\nAdresse: Bleicheweg 11\, 3550 Langnau\n
LOCATION:Bleicheweg 11\, 3550 Langnau
CATEGORIES:Saison 2019/20
END:VEVENT
BEGIN:VEVENT
DTSTAMP:20260421T202016Z
DTSTART;TZID=Europe/Berlin:20200307T140000
DTEND;TZID=Europe/Berlin:20200307T170000
SUMMARY:HE 3. Liga Gr. 2 Langnau vs Wohlensee (21)
UID:6a1905ef-feb7-4c55-82de-9d36512a3ab0
STATUS:CONFIRMED
LAST-MODIFIED:20200308T083636Z
DESCRIPTION:3. Liga Herren Gruppe 2\nBegegnungs-Nr: 21\nHeim: Langnau\nGast: Wohlensee\n\nAdresse: Bleicheweg 11\, 3550 Langnau\n
LOCATION:Bleicheweg 11\, 3550 Langnau
CATEGORIES:Saison 2019/20
END:VEVENT
BEGIN:VEVENT
DTSTAMP:20260421T202016Z
DTSTART;TZID=Europe/Berlin:20200328T153000
DTEND;TZID=Europe/Berlin:20200328T183000
SUMMARY:HE 3. Liga Gr. 2 Langnau vs Burgdorf IV (29)
UID:630da074-7355-4586-aefd-3e6dd3f78300
STATUS:CONFIRMED
LAST-MODIFIED:20200225T202010Z
DESCRIPTION:3. Liga Herren Gruppe 2\nBegegnungs-Nr: 29\nHeim: Langnau\nGast: Burgdorf IV\n\nAdresse: Bleicheweg 11\, 3550 Langnau\n
LOCATION:Bleicheweg 11\, 3550 Langnau
CATEGORIES:Saison 2019/20
END:VEVENT
BEGIN:VEVENT
DTSTAMP:20260421T202016Z
DTSTART;TZID=Europe/Berlin:20191214T140000
DTEND;TZID=Europe/Berlin:20191214T170000
SUMMARY:HE 3. Liga Gr. 2 Langnau vs Royal Bern II (33)
UID:f4c055f0-86f2-4fa9-8559-e17dea5083ac
STATUS:CONFIRMED
LAST-MODIFIED:20191215T185244Z
DESCRIPTION:3. Liga Herren Gruppe 2\nBegegnungs-Nr: 33\nHeim: Langnau\nGast: Royal Bern II\n\nAdresse: Bleicheweg 11\, 3550 Langnau\n
LOCATION:Bleicheweg 11\, 3550 Langnau
CATEGORIES:Saison 2019/20
END:VEVENT
BEGIN:VEVENT
DTSTAMP:20260421T202016Z
DTSTART;TZID=Europe/Berlin:20191031T194500
DTEND;TZID=Europe/Berlin:20191031T224500
SUMMARY:HE 3. Liga Gr. 2 Wohlensee vs Langnau (21)
UID:2c1e4911-1203-4579-a080-83ab5e5e6b45
STATUS:CONFIRMED
LAST-MODIFIED:20191101T060821Z
DESCRIPTION:3. Liga Herren Gruppe 2\nBegegnungs-Nr: 21\nHeim: Wohlensee\nGast: Langnau\n\nAdresse: Kappelenring 36 a\, 3032 Hinterkappelen\n
LOCATION:Kappelenring 36 a\, 3032 Hinterkappelen
CATEGORIES:Saison 2019/20
END:VEVENT
BEGIN:VEVENT
DTSTAMP:20260421T202016Z
DTSTART;TZID=Europe/Berlin:20191122T193000
DTEND;TZID=Europe/Berlin:20191122T223000
SUMMARY:HE 3. Liga Gr. 2 Burgdorf IV vs Langnau (29)
UID:238c8467-a2be-49b7-8be9-6e98847d9aa5
STATUS:CONFIRMED
LAST-MODIFIED:20191126T175620Z
DESCRIPTION:3. Liga Herren Gruppe 2\nBegegnungs-Nr: 29\nHeim: Burgdorf IV\nGast: Langnau\n\nAdresse: Pestalozzistrasse 69\, 3400 Burgdorf\n
LOCATION:Pestalozzistrasse 69\, 3400 Burgdorf
CATEGORIES:Saison 2019/20
END:VEVENT
BEGIN:VEVENT
DTSTAMP:20260421T202016Z
DTSTART;TZID=Europe/Berlin:20191220T200000
DTEND;TZID=Europe/Berlin:20191220T230000
SUMMARY:HE 3. Liga Gr. 2 Köniz II vs Langnau (1)
UID:73e01800-2cfd-4d48-91a5-da8aabf12902
STATUS:CONFIRMED
LAST-MODIFIED:20191221T100722Z
DESCRIPTION:3. Liga Herren Gruppe 2\nBegegnungs-Nr: 1\nHeim: Köniz II\nGast: Langnau\n\nAdresse: Kirchstrasse 72-76\, 3084 Wabern\n
LOCATION:Kirchstrasse 72-76\, 3084 Wabern
CATEGORIES:Saison 2019/20
END:VEVENT
BEGIN:VEVENT
DTSTAMP:20260421T202016Z
DTSTART;TZID=Europe/Berlin:20200124T200000
DTEND;TZID=Europe/Berlin:20200124T230000
SUMMARY:HE 3. Liga Gr. 2 Steffisburg vs Langnau (9)
UID:4def5d18-d858-48b2-ae55-8a41220ddcc7
STATUS:CONFIRMED
LAST-MODIFIED:20200126T083243Z
DESCRIPTION:3. Liga Herren Gruppe 2\nBegegnungs-Nr: 9\nHeim: Steffisburg\nGast: Langnau\n\nAdresse: Sonnenfeldstrasse 10\, 3613 Steffisburg\n
LOCATION:Sonnenfeldstrasse 10\, 3613 Steffisburg
CATEGORIES:Saison 2019/20
END:VEVENT
BEGIN:VEVENT
DTSTAMP:20260421T202016Z
DTSTART;TZID=Europe/Berlin:20200311T193000
DTEND;TZID=Europe/Berlin:20200311T223000
SUMMARY:HE 3. Liga Gr. 2 Bern II vs Langnau (25)
UID:4bbc5d2c-d570-42c3-8e87-3a86f01be204
STATUS:CONFIRMED
LAST-MODIFIED:20200313T203507Z
DESCRIPTION:3. Liga Herren Gruppe 2\nBegegnungs-Nr: 25\nHeim: Bern II\nGast: Langnau\n\nAdresse: Papiermühlestrasse 81\, 3014 Bern\n
LOCATION:Papiermühlestrasse 81\, 3014 Bern
CATEGORIES:Saison 2019/20
END:VEVENT
BEGIN:VEVENT
DTSTAMP:20260421T202016Z
DTSTART;TZID=Europe/Berlin:20200224T193000
DTEND;TZID=Europe/Berlin:20200224T223000
SUMMARY:HE 3. Liga Gr. 2 SC Informatik Swisscom Wabern vs Langnau (17)
UID:677f8bb0-f5aa-46b1-b587-aca7ad7efa3f
STATUS:CONFIRMED
LAST-MODIFIED:20200226T201145Z
DESCRIPTION:3. Liga Herren Gruppe 2\nBegegnungs-Nr: 17\nHeim: SC Informatik Swisscom Wabern\nGast: Langnau\n\nAdresse: Eichholzstrasse 29\, 3094 Wabern\n
LOCATION:Eichholzstrasse 29\, 3094 Wabern
CATEGORIES:Saison 2019/20
END:VEVENT
BEGIN:VEVENT
DTSTAMP:20260421T202016Z
DTSTART;TZID=Europe/Berlin:20200403T194500
DTEND;TZID=Europe/Berlin:20200403T224500
SUMMARY:HE 3. Liga Gr. 2 Royal Bern II vs Langnau (33)
UID:40b8a5a1-9ac9-48bc-9aa3-109165ee8da3
STATUS:CONFIRMED
DESCRIPTION:3. Liga Herren Gruppe 2\nBegegnungs-Nr: 33\nHeim: Royal Bern II\nGast: Langnau\n\nAdresse: Dändlikerweg 60\, 3014 Bern\n
LOCATION:Dändlikerweg 60\, 3014 Bern
CATEGORIES:Saison 2019/20
END:VEVENT
BEGIN:VEVENT
DTSTAMP:20260421T202016Z
DTSTART;TZID=Europe/Berlin:20190914T130000
DTEND;TZID=Europe/Berlin:20190914T160000
SUMMARY:HE 3. Liga Gr. 2 Thun IV vs Langnau (5)
UID:d32ad69c-4c86-4a34-8550-ce0ad242e2ac
STATUS:CONFIRMED
LAST-MODIFIED:20190916T131816Z
DESCRIPTION:3. Liga Herren Gruppe 2\nBegegnungs-Nr: 5\nHeim: Thun IV\nGast: Langnau\n\nAdresse: Hallerstrasse 28\, 3604 Thun\n
LOCATION:Hallerstrasse 28\, 3604 Thun
CATEGORIES:Saison 2019/20
END:VEVENT
END:VCALENDAR
