BEGIN:VCALENDAR
PRODID:-//nuDatenautomaten//framework iCal4j //DE
VERSION:2.0
CALSCALE:GREGORIAN
BEGIN:VTIMEZONE
TZID:Europe/Berlin
LAST-MODIFIED:20260306T231828Z
TZURL:https://www.tzurl.org/zoneinfo/Europe/Berlin
X-LIC-LOCATION:Europe/Berlin
X-PROLEPTIC-TZNAME:LMT
BEGIN:STANDARD
TZNAME:CET
TZOFFSETFROM:+005328
TZOFFSETTO:+0100
DTSTART:18930401T000000
END:STANDARD
BEGIN:DAYLIGHT
TZNAME:CEST
TZOFFSETFROM:+0100
TZOFFSETTO:+0200
DTSTART:19160430T230000
RDATE:19400401T020000
RDATE:19430329T020000
RDATE:19460414T020000
RDATE:19470406T030000
RDATE:19480418T020000
RDATE:19490410T020000
RDATE:19800406T020000
END:DAYLIGHT
BEGIN:STANDARD
TZNAME:CET
TZOFFSETFROM:+0200
TZOFFSETTO:+0100
DTSTART:19161001T010000
RDATE:19421102T030000
RDATE:19431004T030000
RDATE:19441002T030000
RDATE:19451118T030000
RDATE:19461007T030000
END:STANDARD
BEGIN:DAYLIGHT
TZNAME:CEST
TZOFFSETFROM:+0100
TZOFFSETTO:+0200
DTSTART:19170416T020000
RRULE:FREQ=YEARLY;UNTIL=19180415T010000Z;BYMONTH=4;BYDAY=3MO
END:DAYLIGHT
BEGIN:STANDARD
TZNAME:CET
TZOFFSETFROM:+0200
TZOFFSETTO:+0100
DTSTART:19170917T030000
RRULE:FREQ=YEARLY;UNTIL=19180916T010000Z;BYMONTH=9;BYDAY=3MO
END:STANDARD
BEGIN:DAYLIGHT
TZNAME:CEST
TZOFFSETFROM:+0100
TZOFFSETTO:+0200
DTSTART:19440403T020000
RRULE:FREQ=YEARLY;UNTIL=19450402T010000Z;BYMONTH=4;BYDAY=1MO
END:DAYLIGHT
BEGIN:DAYLIGHT
TZNAME:CEMT
TZOFFSETFROM:+0200
TZOFFSETTO:+0300
DTSTART:19450524T020000
RDATE:19470511T030000
END:DAYLIGHT
BEGIN:DAYLIGHT
TZNAME:CEST
TZOFFSETFROM:+0300
TZOFFSETTO:+0200
DTSTART:19450924T030000
RDATE:19470629T030000
END:DAYLIGHT
BEGIN:STANDARD
TZNAME:CET
TZOFFSETFROM:+0100
TZOFFSETTO:+0100
DTSTART:19460101T000000
RDATE:19800101T000000
END:STANDARD
BEGIN:STANDARD
TZNAME:CET
TZOFFSETFROM:+0200
TZOFFSETTO:+0100
DTSTART:19471005T030000
RRULE:FREQ=YEARLY;UNTIL=19491002T010000Z;BYMONTH=10;BYDAY=1SU
END:STANDARD
BEGIN:STANDARD
TZNAME:CET
TZOFFSETFROM:+0200
TZOFFSETTO:+0100
DTSTART:19800928T030000
RRULE:FREQ=YEARLY;UNTIL=19950924T010000Z;BYMONTH=9;BYDAY=-1SU
END:STANDARD
BEGIN:DAYLIGHT
TZNAME:CEST
TZOFFSETFROM:+0100
TZOFFSETTO:+0200
DTSTART:19810329T020000
RRULE:FREQ=YEARLY;BYMONTH=3;BYDAY=-1SU
END:DAYLIGHT
BEGIN:STANDARD
TZNAME:CET
TZOFFSETFROM:+0200
TZOFFSETTO:+0100
DTSTART:19961027T030000
RRULE:FREQ=YEARLY;BYMONTH=10;BYDAY=-1SU
END:STANDARD
END:VTIMEZONE
BEGIN:VEVENT
DTSTAMP:20260421T201023Z
DTSTART;TZID=Europe/Berlin:20190914T160000
DTEND;TZID=Europe/Berlin:20190914T190000
SUMMARY:HE 5. Liga Gr. 2 Thun VI vs Burgdorf X (5)
UID:ac7e557f-bbea-4be4-85ff-4f65c93413e9
STATUS:CONFIRMED
LAST-MODIFIED:20190916T153630Z
DESCRIPTION:Herren 5. Liga Gruppe 2\nBegegnungs-Nr: 5\nHeim: Thun VI\nGast: Burgdorf X\n\nAdresse: Hallerstrasse 28\, 3604 Thun\n
LOCATION:Hallerstrasse 28\, 3604 Thun
CATEGORIES:Saison 2019/20
END:VEVENT
BEGIN:VEVENT
DTSTAMP:20260421T201023Z
DTSTART;TZID=Europe/Berlin:20191026T130000
DTEND;TZID=Europe/Berlin:20191026T160000
SUMMARY:HE 5. Liga Gr. 2 Thun VI vs Grauholz II (10)
UID:7dd4cded-e9f5-4eab-a782-dcb65d54e903
STATUS:CONFIRMED
LAST-MODIFIED:20191028T105122Z
DESCRIPTION:Herren 5. Liga Gruppe 2\nBegegnungs-Nr: 10\nHeim: Thun VI\nGast: Grauholz II\n\nAdresse: Hallerstrasse 28\, 3604 Thun\n
LOCATION:Hallerstrasse 28\, 3604 Thun
CATEGORIES:Saison 2019/20
END:VEVENT
BEGIN:VEVENT
DTSTAMP:20260421T201023Z
DTSTART;TZID=Europe/Berlin:20191207T130000
DTEND;TZID=Europe/Berlin:20191207T160000
SUMMARY:HE 5. Liga Gr. 2 Thun VI vs Köniz V (21)
UID:ad783d72-4d08-4579-9f65-2769dc28ec32
STATUS:CONFIRMED
LAST-MODIFIED:20191208T100110Z
DESCRIPTION:Herren 5. Liga Gruppe 2\nBegegnungs-Nr: 21\nHeim: Thun VI\nGast: Köniz V\n\nAdresse: Hallerstrasse 28\, 3604 Thun\n
LOCATION:Hallerstrasse 28\, 3604 Thun
CATEGORIES:Saison 2019/20
END:VEVENT
BEGIN:VEVENT
DTSTAMP:20260421T201023Z
DTSTART;TZID=Europe/Berlin:20191109T130000
DTEND;TZID=Europe/Berlin:20191109T160000
SUMMARY:HE 5. Liga Gr. 2 Thun VI vs Langnau IV (15)
UID:c1f155c6-2726-4de0-ad7e-7be6e31a1dcd
STATUS:CONFIRMED
LAST-MODIFIED:20191113T153120Z
DESCRIPTION:Herren 5. Liga Gruppe 2\nBegegnungs-Nr: 15\nHeim: Thun VI\nGast: Langnau IV\n\nAdresse: Hallerstrasse 28\, 3604 Thun\n
LOCATION:Hallerstrasse 28\, 3604 Thun
CATEGORIES:Saison 2019/20
END:VEVENT
BEGIN:VEVENT
DTSTAMP:20260421T201023Z
DTSTART;TZID=Europe/Berlin:20200208T130000
DTEND;TZID=Europe/Berlin:20200208T160000
SUMMARY:HE 5. Liga Gr. 2 Thun VI vs Bern VI (9)
UID:f04761a1-c8c4-4f62-8851-fb24f58b90fa
STATUS:CONFIRMED
LAST-MODIFIED:20200209T091829Z
DESCRIPTION:Herren 5. Liga Gruppe 2\nBegegnungs-Nr: 9\nHeim: Thun VI\nGast: Bern VI\n\nAdresse: Hallerstrasse 28\, 3604 Thun\n
LOCATION:Hallerstrasse 28\, 3604 Thun
CATEGORIES:Saison 2019/20
END:VEVENT
BEGIN:VEVENT
DTSTAMP:20260421T201023Z
DTSTART;TZID=Europe/Berlin:20200110T194500
DTEND;TZID=Europe/Berlin:20200110T224500
SUMMARY:HE 5. Liga Gr. 2 Thun VI vs Ittigen IV (1)
UID:0210f9c6-e6d1-45da-bb45-7b086c41aa28
STATUS:CONFIRMED
LAST-MODIFIED:20200111T090731Z
DESCRIPTION:Herren 5. Liga Gruppe 2\nBegegnungs-Nr: 1\nHeim: Thun VI\nGast: Ittigen IV\n\nAdresse: Hallerstrasse 28\, 3604 Thun\n
LOCATION:Hallerstrasse 28\, 3604 Thun
CATEGORIES:Saison 2019/20
END:VEVENT
BEGIN:VEVENT
DTSTAMP:20260421T201023Z
DTSTART;TZID=Europe/Berlin:20190819T194500
DTEND;TZID=Europe/Berlin:20190819T224500
SUMMARY:HE 5. Liga Gr. 2 Ittigen IV vs Thun VI (1)
UID:736ea9eb-f622-4b16-9cc4-6982fc16a8c6
STATUS:CONFIRMED
LAST-MODIFIED:20190820T193214Z
DESCRIPTION:Herren 5. Liga Gruppe 2\nBegegnungs-Nr: 1\nHeim: Ittigen IV\nGast: Thun VI\n\nAdresse: Fischrainweg 17\, 3048 Worblaufen\n
LOCATION:Fischrainweg 17\, 3048 Worblaufen
CATEGORIES:Saison 2019/20
END:VEVENT
BEGIN:VEVENT
DTSTAMP:20260421T201023Z
DTSTART;TZID=Europe/Berlin:20190930T193000
DTEND;TZID=Europe/Berlin:20190930T223000
SUMMARY:HE 5. Liga Gr. 2 Bern VI vs Thun VI (9)
UID:aa140565-b23a-4de6-bccc-e78c8aaa2b60
STATUS:CONFIRMED
LAST-MODIFIED:20191001T131423Z
DESCRIPTION:Herren 5. Liga Gruppe 2\nBegegnungs-Nr: 9\nHeim: Bern VI\nGast: Thun VI\n\nAdresse: Papiermühlestrasse 81\, 3014 Bern\n
LOCATION:Papiermühlestrasse 81\, 3014 Bern
CATEGORIES:Saison 2019/20
END:VEVENT
BEGIN:VEVENT
DTSTAMP:20260421T201023Z
DTSTART;TZID=Europe/Berlin:20200125T133000
DTEND;TZID=Europe/Berlin:20200125T163000
SUMMARY:HE 5. Liga Gr. 2 Burgdorf X vs Thun VI (5)
UID:002cea4d-e215-4f86-bcc6-a84a2abaca70
STATUS:CONFIRMED
LAST-MODIFIED:20200126T083418Z
DESCRIPTION:Herren 5. Liga Gruppe 2\nBegegnungs-Nr: 5\nHeim: Burgdorf X\nGast: Thun VI\n\nAdresse: Pestalozzistrasse 69\, 3400 Burgdorf\n
LOCATION:Pestalozzistrasse 69\, 3400 Burgdorf
CATEGORIES:Saison 2019/20
END:VEVENT
BEGIN:VEVENT
DTSTAMP:20260421T201023Z
DTSTART;TZID=Europe/Berlin:20200221T200000
DTEND;TZID=Europe/Berlin:20200221T230000
SUMMARY:HE 5. Liga Gr. 2 Grauholz II vs Thun VI (10)
UID:3730ef70-e41f-4b31-8163-95373de09042
STATUS:CONFIRMED
LAST-MODIFIED:20200225T055927Z
DESCRIPTION:Herren 5. Liga Gruppe 2\nBegegnungs-Nr: 10\nHeim: Grauholz II\nGast: Thun VI\n\nAdresse: Schulhausweg 8\, 3324 Hindelbank\n
LOCATION:Schulhausweg 8\, 3324 Hindelbank
CATEGORIES:Saison 2019/20
END:VEVENT
BEGIN:VEVENT
DTSTAMP:20260421T201023Z
DTSTART;TZID=Europe/Berlin:20200330T200000
DTEND;TZID=Europe/Berlin:20200330T230000
SUMMARY:HE 5. Liga Gr. 2 Köniz V vs Thun VI (21)
UID:019a9e55-576b-40c5-927f-60e022d5959f
STATUS:CONFIRMED
DESCRIPTION:Herren 5. Liga Gruppe 2\nBegegnungs-Nr: 21\nHeim: Köniz V\nGast: Thun VI\n\nAdresse: Kirchstrasse 72-76\, 3084 Wabern\n
LOCATION:Kirchstrasse 72-76\, 3084 Wabern
CATEGORIES:Saison 2019/20
END:VEVENT
BEGIN:VEVENT
DTSTAMP:20260421T201023Z
DTSTART;TZID=Europe/Berlin:20200323T200000
DTEND;TZID=Europe/Berlin:20200323T230000
SUMMARY:HE 5. Liga Gr. 2 Langnau IV vs Thun VI (15)
UID:45ac780c-7a2d-4d7c-8d63-e63049a4b2b1
STATUS:CONFIRMED
LAST-MODIFIED:20200305T232041Z
DESCRIPTION:Herren 5. Liga Gruppe 2\nBegegnungs-Nr: 15\nHeim: Langnau IV\nGast: Thun VI\n\nAdresse: Bleicheweg 11\, 3550 Langnau\n
LOCATION:Bleicheweg 11\, 3550 Langnau
CATEGORIES:Saison 2019/20
END:VEVENT
END:VCALENDAR
