BEGIN:VCALENDAR
PRODID:-//nuDatenautomaten//framework iCal4j //DE
VERSION:2.0
CALSCALE:GREGORIAN
BEGIN:VTIMEZONE
TZID:Europe/Berlin
LAST-MODIFIED:20260306T231828Z
TZURL:https://www.tzurl.org/zoneinfo/Europe/Berlin
X-LIC-LOCATION:Europe/Berlin
X-PROLEPTIC-TZNAME:LMT
BEGIN:STANDARD
TZNAME:CET
TZOFFSETFROM:+005328
TZOFFSETTO:+0100
DTSTART:18930401T000000
END:STANDARD
BEGIN:DAYLIGHT
TZNAME:CEST
TZOFFSETFROM:+0100
TZOFFSETTO:+0200
DTSTART:19160430T230000
RDATE:19400401T020000
RDATE:19430329T020000
RDATE:19460414T020000
RDATE:19470406T030000
RDATE:19480418T020000
RDATE:19490410T020000
RDATE:19800406T020000
END:DAYLIGHT
BEGIN:STANDARD
TZNAME:CET
TZOFFSETFROM:+0200
TZOFFSETTO:+0100
DTSTART:19161001T010000
RDATE:19421102T030000
RDATE:19431004T030000
RDATE:19441002T030000
RDATE:19451118T030000
RDATE:19461007T030000
END:STANDARD
BEGIN:DAYLIGHT
TZNAME:CEST
TZOFFSETFROM:+0100
TZOFFSETTO:+0200
DTSTART:19170416T020000
RRULE:FREQ=YEARLY;UNTIL=19180415T010000Z;BYMONTH=4;BYDAY=3MO
END:DAYLIGHT
BEGIN:STANDARD
TZNAME:CET
TZOFFSETFROM:+0200
TZOFFSETTO:+0100
DTSTART:19170917T030000
RRULE:FREQ=YEARLY;UNTIL=19180916T010000Z;BYMONTH=9;BYDAY=3MO
END:STANDARD
BEGIN:DAYLIGHT
TZNAME:CEST
TZOFFSETFROM:+0100
TZOFFSETTO:+0200
DTSTART:19440403T020000
RRULE:FREQ=YEARLY;UNTIL=19450402T010000Z;BYMONTH=4;BYDAY=1MO
END:DAYLIGHT
BEGIN:DAYLIGHT
TZNAME:CEMT
TZOFFSETFROM:+0200
TZOFFSETTO:+0300
DTSTART:19450524T020000
RDATE:19470511T030000
END:DAYLIGHT
BEGIN:DAYLIGHT
TZNAME:CEST
TZOFFSETFROM:+0300
TZOFFSETTO:+0200
DTSTART:19450924T030000
RDATE:19470629T030000
END:DAYLIGHT
BEGIN:STANDARD
TZNAME:CET
TZOFFSETFROM:+0100
TZOFFSETTO:+0100
DTSTART:19460101T000000
RDATE:19800101T000000
END:STANDARD
BEGIN:STANDARD
TZNAME:CET
TZOFFSETFROM:+0200
TZOFFSETTO:+0100
DTSTART:19471005T030000
RRULE:FREQ=YEARLY;UNTIL=19491002T010000Z;BYMONTH=10;BYDAY=1SU
END:STANDARD
BEGIN:STANDARD
TZNAME:CET
TZOFFSETFROM:+0200
TZOFFSETTO:+0100
DTSTART:19800928T030000
RRULE:FREQ=YEARLY;UNTIL=19950924T010000Z;BYMONTH=9;BYDAY=-1SU
END:STANDARD
BEGIN:DAYLIGHT
TZNAME:CEST
TZOFFSETFROM:+0100
TZOFFSETTO:+0200
DTSTART:19810329T020000
RRULE:FREQ=YEARLY;BYMONTH=3;BYDAY=-1SU
END:DAYLIGHT
BEGIN:STANDARD
TZNAME:CET
TZOFFSETFROM:+0200
TZOFFSETTO:+0100
DTSTART:19961027T030000
RRULE:FREQ=YEARLY;BYMONTH=10;BYDAY=-1SU
END:STANDARD
END:VTIMEZONE
BEGIN:VEVENT
DTSTAMP:20260420T125708Z
DTSTART;TZID=Europe/Berlin:20190129T201500
DTEND;TZID=Europe/Berlin:20190129T231500
SUMMARY:HE 5. Liga Gr. 3 Bremgarten IX vs Menziken II (0)
UID:2d933b9e-c19e-470d-b26b-99a4671a8e73
STATUS:CONFIRMED
LAST-MODIFIED:20190201T125112Z
DESCRIPTION:5. Liga Herren Gruppe 3\nBegegnungs-Nr: 0\nHeim: Bremgarten IX\nGast: Menziken II\n\nAdresse: Badstrasse 3\, 5620 Bremgarten\n
LOCATION:Badstrasse 3\, 5620 Bremgarten
CATEGORIES:Saison 2018/19
END:VEVENT
BEGIN:VEVENT
DTSTAMP:20260420T125708Z
DTSTART;TZID=Europe/Berlin:20190226T201500
DTEND;TZID=Europe/Berlin:20190226T231500
SUMMARY:HE 5. Liga Gr. 3 Bremgarten IX vs Baden II (0)
UID:50c94d6d-042b-4265-b3c9-2d5bc8d7f67d
STATUS:CONFIRMED
LAST-MODIFIED:20190301T093345Z
DESCRIPTION:5. Liga Herren Gruppe 3\nBegegnungs-Nr: 0\nHeim: Bremgarten IX\nGast: Baden II\n\nAdresse: Badstrasse 3\, 5620 Bremgarten\n
LOCATION:Badstrasse 3\, 5620 Bremgarten
CATEGORIES:Saison 2018/19
END:VEVENT
BEGIN:VEVENT
DTSTAMP:20260420T125708Z
DTSTART;TZID=Europe/Berlin:20190312T201500
DTEND;TZID=Europe/Berlin:20190312T231500
SUMMARY:HE 5. Liga Gr. 3 Bremgarten IX vs Aarau V (0)
UID:9665da26-17bc-4966-a6b1-56ca38e1ecbd
STATUS:CONFIRMED
LAST-MODIFIED:20190314T124844Z
DESCRIPTION:5. Liga Herren Gruppe 3\nBegegnungs-Nr: 0\nHeim: Bremgarten IX\nGast: Aarau V\n\nAdresse: Badstrasse 3\, 5620 Bremgarten\n
LOCATION:Badstrasse 3\, 5620 Bremgarten
CATEGORIES:Saison 2018/19
END:VEVENT
BEGIN:VEVENT
DTSTAMP:20260420T125708Z
DTSTART;TZID=Europe/Berlin:20190112T133000
DTEND;TZID=Europe/Berlin:20190112T163000
SUMMARY:HE 5. Liga Gr. 3 Bremgarten IX vs Entfelden (0)
UID:3c68c750-27be-4535-aa11-8c6fb8425bf9
STATUS:CONFIRMED
LAST-MODIFIED:20190114T093658Z
DESCRIPTION:5. Liga Herren Gruppe 3\nBegegnungs-Nr: 0\nHeim: Bremgarten IX\nGast: Entfelden\n\nAdresse: Badstrasse 3\, 5620 Bremgarten\n
LOCATION:Badstrasse 3\, 5620 Bremgarten
CATEGORIES:Saison 2018/19
END:VEVENT
BEGIN:VEVENT
DTSTAMP:20260420T125708Z
DTSTART;TZID=Europe/Berlin:20180821T201500
DTEND;TZID=Europe/Berlin:20180821T231500
SUMMARY:HE 5. Liga Gr. 3 Bremgarten IX vs Brugg III (0)
UID:d06573b8-b04a-4b69-9aef-efe48394f898
STATUS:CONFIRMED
LAST-MODIFIED:20180828T113900Z
DESCRIPTION:5. Liga Herren Gruppe 3\nBegegnungs-Nr: 0\nHeim: Bremgarten IX\nGast: Brugg III\n\nAdresse: Badstrasse 3\, 5620 Bremgarten\n
LOCATION:Badstrasse 3\, 5620 Bremgarten
CATEGORIES:Saison 2018/19
END:VEVENT
BEGIN:VEVENT
DTSTAMP:20260420T125708Z
DTSTART;TZID=Europe/Berlin:20180922T133000
DTEND;TZID=Europe/Berlin:20180922T163000
SUMMARY:HE 5. Liga Gr. 3 Bremgarten IX vs Oberrohrdorf III (0)
UID:51039daa-5d19-4428-a3e6-57419dbac204
STATUS:CONFIRMED
LAST-MODIFIED:20180925T073020Z
DESCRIPTION:5. Liga Herren Gruppe 3\nBegegnungs-Nr: 0\nHeim: Bremgarten IX\nGast: Oberrohrdorf III\n\nAdresse: Badstrasse 3\, 5620 Bremgarten\n
LOCATION:Badstrasse 3\, 5620 Bremgarten
CATEGORIES:Saison 2018/19
END:VEVENT
BEGIN:VEVENT
DTSTAMP:20260420T125708Z
DTSTART;TZID=Europe/Berlin:20181016T201500
DTEND;TZID=Europe/Berlin:20181016T231500
SUMMARY:HE 5. Liga Gr. 3 Bremgarten IX vs Fortuna Hausen (0)
UID:f579280b-ceb5-4b7a-8d51-730388773253
STATUS:CONFIRMED
LAST-MODIFIED:20181025T120041Z
DESCRIPTION:5. Liga Herren Gruppe 3\nBegegnungs-Nr: 0\nHeim: Bremgarten IX\nGast: Fortuna Hausen\n\nAdresse: Badstrasse 3\, 5620 Bremgarten\n
LOCATION:Badstrasse 3\, 5620 Bremgarten
CATEGORIES:Saison 2018/19
END:VEVENT
BEGIN:VEVENT
DTSTAMP:20260420T125708Z
DTSTART;TZID=Europe/Berlin:20190212T200000
DTEND;TZID=Europe/Berlin:20190212T230000
SUMMARY:HE 5. Liga Gr. 3 Fortuna Hausen vs Bremgarten IX (0)
UID:19c1ec57-716d-4662-965b-f792e08a6cd4
STATUS:CONFIRMED
LAST-MODIFIED:20190214T125747Z
DESCRIPTION:5. Liga Herren Gruppe 3\nBegegnungs-Nr: 0\nHeim: Fortuna Hausen\nGast: Bremgarten IX\n\nAdresse: Hauptstrasse 26\, 5212 Hausen AG\n
LOCATION:Hauptstrasse 26\, 5212 Hausen AG
CATEGORIES:Saison 2018/19
END:VEVENT
BEGIN:VEVENT
DTSTAMP:20260420T125708Z
DTSTART;TZID=Europe/Berlin:20180827T201500
DTEND;TZID=Europe/Berlin:20180827T231500
SUMMARY:HE 5. Liga Gr. 3 Entfelden vs Bremgarten IX (0)
UID:cf8b5ba1-70de-4786-9c22-5ecd213352f8
STATUS:CONFIRMED
LAST-MODIFIED:20180907T075406Z
DESCRIPTION:5. Liga Herren Gruppe 3\nBegegnungs-Nr: 0\nHeim: Entfelden\nGast: Bremgarten IX\n\nAdresse: Erlenweg 12\, 5036 Oberentfelden\n
LOCATION:Erlenweg 12\, 5036 Oberentfelden
CATEGORIES:Saison 2018/19
END:VEVENT
BEGIN:VEVENT
DTSTAMP:20260420T125708Z
DTSTART;TZID=Europe/Berlin:20181024T200000
DTEND;TZID=Europe/Berlin:20181024T230000
SUMMARY:HE 5. Liga Gr. 3 Menziken II vs Bremgarten IX (0)
UID:6ad2144e-f799-474a-9709-55224f3f22ce
STATUS:CONFIRMED
LAST-MODIFIED:20181101T131636Z
DESCRIPTION:5. Liga Herren Gruppe 3\nBegegnungs-Nr: 0\nHeim: Menziken II\nGast: Bremgarten IX\n\nAdresse: Turnplatzstrasse\, 5737 Menziken\n
LOCATION:Turnplatzstrasse\, 5737 Menziken
CATEGORIES:Saison 2018/19
END:VEVENT
BEGIN:VEVENT
DTSTAMP:20260420T125708Z
DTSTART;TZID=Europe/Berlin:20181030T193000
DTEND;TZID=Europe/Berlin:20181030T223000
SUMMARY:HE 5. Liga Gr. 3 Baden II vs Bremgarten IX (0)
UID:54169bf5-84d6-4b06-870e-91543df3ae78
STATUS:CONFIRMED
LAST-MODIFIED:20181101T131716Z
DESCRIPTION:5. Liga Herren Gruppe 3\nBegegnungs-Nr: 0\nHeim: Baden II\nGast: Bremgarten IX\n\nAdresse: Wiesenstrasse 32 (Parkhaus Schmiede Fabrikstrasse)\, 5400 Baden\n
LOCATION:Wiesenstrasse 32 (Parkhaus Schmiede Fabrikstrasse)\, 5400 Baden
CATEGORIES:Saison 2018/19
END:VEVENT
BEGIN:VEVENT
DTSTAMP:20260420T125708Z
DTSTART;TZID=Europe/Berlin:20181123T193000
DTEND;TZID=Europe/Berlin:20181123T223000
SUMMARY:HE 5. Liga Gr. 3 Aarau V vs Bremgarten IX (0)
UID:8d06f2d0-9901-43a6-bf40-fa28dba7f871
STATUS:CONFIRMED
LAST-MODIFIED:20181129T094654Z
DESCRIPTION:5. Liga Herren Gruppe 3\nBegegnungs-Nr: 0\nHeim: Aarau V\nGast: Bremgarten IX\n\nAdresse: Weltistrasse 20\, 5000 Aarau\n
LOCATION:Weltistrasse 20\, 5000 Aarau
CATEGORIES:Saison 2018/19
END:VEVENT
BEGIN:VEVENT
DTSTAMP:20260420T125708Z
DTSTART;TZID=Europe/Berlin:20190114T203000
DTEND;TZID=Europe/Berlin:20190114T233000
SUMMARY:HE 5. Liga Gr. 3 Oberrohrdorf III vs Bremgarten IX (0)
UID:366169b7-ef28-4643-9694-f1b5daa56ee3
STATUS:CONFIRMED
LAST-MODIFIED:20190121T104930Z
DESCRIPTION:5. Liga Herren Gruppe 3\nBegegnungs-Nr: 0\nHeim: Oberrohrdorf III\nGast: Bremgarten IX\n\nAdresse: Hinterbächlistrasse\, 5452 Oberrohrdorf\n
LOCATION:Hinterbächlistrasse\, 5452 Oberrohrdorf
CATEGORIES:Saison 2018/19
END:VEVENT
BEGIN:VEVENT
DTSTAMP:20260420T125708Z
DTSTART;TZID=Europe/Berlin:20181203T201500
DTEND;TZID=Europe/Berlin:20181203T231500
SUMMARY:HE 5. Liga Gr. 3 Brugg III vs Bremgarten IX (0)
UID:ea886a09-0e04-4f71-8f0c-b3e8d7e433e5
STATUS:CONFIRMED
LAST-MODIFIED:20181207T085542Z
DESCRIPTION:5. Liga Herren Gruppe 3\nBegegnungs-Nr: 0\nHeim: Brugg III\nGast: Bremgarten IX\n\nAdresse: Sommerhaldenstrasse 29\, 5200 Brugg/Lauffohr\n
LOCATION:Sommerhaldenstrasse 29\, 5200 Brugg/Lauffohr
CATEGORIES:Saison 2018/19
END:VEVENT
END:VCALENDAR
