BEGIN:VCALENDAR
PRODID:-//nuDatenautomaten//framework iCal4j //DE
VERSION:2.0
CALSCALE:GREGORIAN
BEGIN:VTIMEZONE
TZID:Europe/Berlin
LAST-MODIFIED:20260306T231828Z
TZURL:https://www.tzurl.org/zoneinfo/Europe/Berlin
X-LIC-LOCATION:Europe/Berlin
X-PROLEPTIC-TZNAME:LMT
BEGIN:STANDARD
TZNAME:CET
TZOFFSETFROM:+005328
TZOFFSETTO:+0100
DTSTART:18930401T000000
END:STANDARD
BEGIN:DAYLIGHT
TZNAME:CEST
TZOFFSETFROM:+0100
TZOFFSETTO:+0200
DTSTART:19160430T230000
RDATE:19400401T020000
RDATE:19430329T020000
RDATE:19460414T020000
RDATE:19470406T030000
RDATE:19480418T020000
RDATE:19490410T020000
RDATE:19800406T020000
END:DAYLIGHT
BEGIN:STANDARD
TZNAME:CET
TZOFFSETFROM:+0200
TZOFFSETTO:+0100
DTSTART:19161001T010000
RDATE:19421102T030000
RDATE:19431004T030000
RDATE:19441002T030000
RDATE:19451118T030000
RDATE:19461007T030000
END:STANDARD
BEGIN:DAYLIGHT
TZNAME:CEST
TZOFFSETFROM:+0100
TZOFFSETTO:+0200
DTSTART:19170416T020000
RRULE:FREQ=YEARLY;UNTIL=19180415T010000Z;BYMONTH=4;BYDAY=3MO
END:DAYLIGHT
BEGIN:STANDARD
TZNAME:CET
TZOFFSETFROM:+0200
TZOFFSETTO:+0100
DTSTART:19170917T030000
RRULE:FREQ=YEARLY;UNTIL=19180916T010000Z;BYMONTH=9;BYDAY=3MO
END:STANDARD
BEGIN:DAYLIGHT
TZNAME:CEST
TZOFFSETFROM:+0100
TZOFFSETTO:+0200
DTSTART:19440403T020000
RRULE:FREQ=YEARLY;UNTIL=19450402T010000Z;BYMONTH=4;BYDAY=1MO
END:DAYLIGHT
BEGIN:DAYLIGHT
TZNAME:CEMT
TZOFFSETFROM:+0200
TZOFFSETTO:+0300
DTSTART:19450524T020000
RDATE:19470511T030000
END:DAYLIGHT
BEGIN:DAYLIGHT
TZNAME:CEST
TZOFFSETFROM:+0300
TZOFFSETTO:+0200
DTSTART:19450924T030000
RDATE:19470629T030000
END:DAYLIGHT
BEGIN:STANDARD
TZNAME:CET
TZOFFSETFROM:+0100
TZOFFSETTO:+0100
DTSTART:19460101T000000
RDATE:19800101T000000
END:STANDARD
BEGIN:STANDARD
TZNAME:CET
TZOFFSETFROM:+0200
TZOFFSETTO:+0100
DTSTART:19471005T030000
RRULE:FREQ=YEARLY;UNTIL=19491002T010000Z;BYMONTH=10;BYDAY=1SU
END:STANDARD
BEGIN:STANDARD
TZNAME:CET
TZOFFSETFROM:+0200
TZOFFSETTO:+0100
DTSTART:19800928T030000
RRULE:FREQ=YEARLY;UNTIL=19950924T010000Z;BYMONTH=9;BYDAY=-1SU
END:STANDARD
BEGIN:DAYLIGHT
TZNAME:CEST
TZOFFSETFROM:+0100
TZOFFSETTO:+0200
DTSTART:19810329T020000
RRULE:FREQ=YEARLY;BYMONTH=3;BYDAY=-1SU
END:DAYLIGHT
BEGIN:STANDARD
TZNAME:CET
TZOFFSETFROM:+0200
TZOFFSETTO:+0100
DTSTART:19961027T030000
RRULE:FREQ=YEARLY;BYMONTH=10;BYDAY=-1SU
END:STANDARD
END:VTIMEZONE
BEGIN:VEVENT
DTSTAMP:20260421T202621Z
DTSTART;TZID=Europe/Berlin:20190201T193000
DTEND;TZID=Europe/Berlin:20190201T223000
SUMMARY:O40 1. Liga Burgdorf vs Port (11)
UID:a67a3ab7-d570-4412-a2a4-c63bab269c84
STATUS:CONFIRMED
LAST-MODIFIED:20190203T171511Z
DESCRIPTION:1. Liga O40 Gruppe 1\nBegegnungs-Nr: 11\nHeim: Burgdorf\nGast: Port\n\nAdresse: Pestalozzistrasse 69\, 3400 Burgdorf\n
LOCATION:Pestalozzistrasse 69\, 3400 Burgdorf
CATEGORIES:Saison 2018/19
END:VEVENT
BEGIN:VEVENT
DTSTAMP:20260421T202621Z
DTSTART;TZID=Europe/Berlin:20181124T160000
DTEND;TZID=Europe/Berlin:20181124T190000
SUMMARY:O40 1. Liga Burgdorf vs Ostermundigen (23)
UID:4d8492e7-66b1-4231-a1da-89a0743da44e
STATUS:CONFIRMED
LAST-MODIFIED:20181127T154731Z
DESCRIPTION:1. Liga O40 Gruppe 1\nBegegnungs-Nr: 23\nHeim: Burgdorf\nGast: Ostermundigen\n\nAdresse: Pestalozzistrasse 69\, 3400 Burgdorf\n
LOCATION:Pestalozzistrasse 69\, 3400 Burgdorf
CATEGORIES:Saison 2018/19
END:VEVENT
BEGIN:VEVENT
DTSTAMP:20260421T202621Z
DTSTART;TZID=Europe/Berlin:20190405T193000
DTEND;TZID=Europe/Berlin:20190405T223000
SUMMARY:O40 1. Liga Burgdorf vs Solothurn (28)
UID:c613895a-d18a-41be-9ff9-539ef8cbfb71
STATUS:CONFIRMED
LAST-MODIFIED:20190407T064449Z
DESCRIPTION:1. Liga O40 Gruppe 1\nBegegnungs-Nr: 28\nHeim: Burgdorf\nGast: Solothurn\n\nAdresse: Pestalozzistrasse 69\, 3400 Burgdorf\n
LOCATION:Pestalozzistrasse 69\, 3400 Burgdorf
CATEGORIES:Saison 2018/19
END:VEVENT
BEGIN:VEVENT
DTSTAMP:20260421T202621Z
DTSTART;TZID=Europe/Berlin:20190111T193000
DTEND;TZID=Europe/Berlin:20190111T223000
SUMMARY:O40 1. Liga Burgdorf vs Burgdorf II (1)
UID:77952f4a-b633-4437-b850-4782a21475d8
STATUS:CONFIRMED
LAST-MODIFIED:20190115T185851Z
DESCRIPTION:1. Liga O40 Gruppe 1\nBegegnungs-Nr: 1\nHeim: Burgdorf\nGast: Burgdorf II\n\nAdresse: Pestalozzistrasse 69\, 3400 Burgdorf\n
LOCATION:Pestalozzistrasse 69\, 3400 Burgdorf
CATEGORIES:Saison 2018/19
END:VEVENT
BEGIN:VEVENT
DTSTAMP:20260421T202621Z
DTSTART;TZID=Europe/Berlin:20190118T193000
DTEND;TZID=Europe/Berlin:20190118T223000
SUMMARY:O40 1. Liga Burgdorf vs Langnau (6)
UID:85696964-ff47-4140-9a41-e18ee342aa3e
STATUS:CONFIRMED
LAST-MODIFIED:20190119T110501Z
DESCRIPTION:1. Liga O40 Gruppe 1\nBegegnungs-Nr: 6\nHeim: Burgdorf\nGast: Langnau\n\nAdresse: Pestalozzistrasse 69\, 3400 Burgdorf\n
LOCATION:Pestalozzistrasse 69\, 3400 Burgdorf
CATEGORIES:Saison 2018/19
END:VEVENT
BEGIN:VEVENT
DTSTAMP:20260421T202621Z
DTSTART;TZID=Europe/Berlin:20181027T133000
DTEND;TZID=Europe/Berlin:20181027T163000
SUMMARY:O40 1. Liga Burgdorf vs Aarberg (16)
UID:099daf30-273a-4d26-98d5-aa1d611517c7
STATUS:CONFIRMED
LAST-MODIFIED:20181030T190027Z
DESCRIPTION:1. Liga O40 Gruppe 1\nBegegnungs-Nr: 16\nHeim: Burgdorf\nGast: Aarberg\n\nAdresse: Pestalozzistrasse 69\, 3400 Burgdorf\n
LOCATION:Pestalozzistrasse 69\, 3400 Burgdorf
CATEGORIES:Saison 2018/19
END:VEVENT
BEGIN:VEVENT
DTSTAMP:20260421T202621Z
DTSTART;TZID=Europe/Berlin:20190308T193000
DTEND;TZID=Europe/Berlin:20190308T223000
SUMMARY:O40 1. Liga Burgdorf vs Münchenbuchsee (20)
UID:70ae4ae1-ac82-4f48-aea1-fcf59aeb6df2
STATUS:CONFIRMED
LAST-MODIFIED:20190310T092236Z
DESCRIPTION:1. Liga O40 Gruppe 1\nBegegnungs-Nr: 20\nHeim: Burgdorf\nGast: Münchenbuchsee\n\nAdresse: Pestalozzistrasse 69\, 3400 Burgdorf\n
LOCATION:Pestalozzistrasse 69\, 3400 Burgdorf
CATEGORIES:Saison 2018/19
END:VEVENT
BEGIN:VEVENT
DTSTAMP:20260421T202621Z
DTSTART;TZID=Europe/Berlin:20181114T194500
DTEND;TZID=Europe/Berlin:20181114T224500
SUMMARY:O40 1. Liga Münchenbuchsee vs Burgdorf (20)
UID:3c742154-3e48-4d8e-a944-7cdb222b77c9
STATUS:CONFIRMED
LAST-MODIFIED:20181115T183245Z
DESCRIPTION:1. Liga O40 Gruppe 1\nBegegnungs-Nr: 20\nHeim: Münchenbuchsee\nGast: Burgdorf\n\nAdresse: Laubbergweg 41\, 3053 Münchenbuchsee\n
LOCATION:Laubbergweg 41\, 3053 Münchenbuchsee
CATEGORIES:Saison 2018/19
END:VEVENT
BEGIN:VEVENT
DTSTAMP:20260421T202621Z
DTSTART;TZID=Europe/Berlin:20180921T194500
DTEND;TZID=Europe/Berlin:20180921T224500
SUMMARY:O40 1. Liga Port vs Burgdorf (11)
UID:d3127e8e-6771-4976-8f64-33b4759ddd7a
STATUS:CONFIRMED
LAST-MODIFIED:20180924T015115Z
DESCRIPTION:1. Liga O40 Gruppe 1\nBegegnungs-Nr: 11\nHeim: Port\nGast: Burgdorf\n\nAdresse: Allmendstrasse 23\, 2562 Port\n
LOCATION:Allmendstrasse 23\, 2562 Port
CATEGORIES:Saison 2018/19
END:VEVENT
BEGIN:VEVENT
DTSTAMP:20260421T202621Z
DTSTART;TZID=Europe/Berlin:20181212T194500
DTEND;TZID=Europe/Berlin:20181212T224500
SUMMARY:O40 1. Liga Solothurn vs Burgdorf (28)
UID:372858ae-6ab7-4527-9b89-579657fde9fc
STATUS:CONFIRMED
LAST-MODIFIED:20181213T162502Z
DESCRIPTION:1. Liga O40 Gruppe 1\nBegegnungs-Nr: 28\nHeim: Solothurn\nGast: Burgdorf\n\nAdresse: Untere Sternengasse 24\, 4500 Solothurn\n
LOCATION:Untere Sternengasse 24\, 4500 Solothurn
CATEGORIES:Saison 2018/19
END:VEVENT
BEGIN:VEVENT
DTSTAMP:20260421T202621Z
DTSTART;TZID=Europe/Berlin:20180919T201500
DTEND;TZID=Europe/Berlin:20180919T231500
SUMMARY:O40 1. Liga Burgdorf II vs Burgdorf (1)
UID:6d0dde9e-b751-44bf-962e-891c2362f557
STATUS:CONFIRMED
LAST-MODIFIED:20180920T202651Z
DESCRIPTION:1. Liga O40 Gruppe 1\nBegegnungs-Nr: 1\nHeim: Burgdorf II\nGast: Burgdorf\n\nAdresse: Pestalozzistrasse 69\, 3400 Burgdorf\n
LOCATION:Pestalozzistrasse 69\, 3400 Burgdorf
CATEGORIES:Saison 2018/19
END:VEVENT
BEGIN:VEVENT
DTSTAMP:20260421T202621Z
DTSTART;TZID=Europe/Berlin:20181008T200000
DTEND;TZID=Europe/Berlin:20181008T230000
SUMMARY:O40 1. Liga Langnau vs Burgdorf (6)
UID:d9ad63fb-c185-417e-822e-f6abb616e8e4
STATUS:CONFIRMED
LAST-MODIFIED:20181009T181747Z
DESCRIPTION:1. Liga O40 Gruppe 1\nBegegnungs-Nr: 6\nHeim: Langnau\nGast: Burgdorf\n\nAdresse: Bleicheweg 11\, 3550 Langnau\n
LOCATION:Bleicheweg 11\, 3550 Langnau
CATEGORIES:Saison 2018/19
END:VEVENT
BEGIN:VEVENT
DTSTAMP:20260421T202621Z
DTSTART;TZID=Europe/Berlin:20190320T193000
DTEND;TZID=Europe/Berlin:20190320T223000
SUMMARY:O40 1. Liga Ostermundigen vs Burgdorf (23)
UID:9c4cbe45-b0d9-4281-867d-fb8adf3a2b65
STATUS:CONFIRMED
LAST-MODIFIED:20190321T183527Z
DESCRIPTION:1. Liga O40 Gruppe 1\nBegegnungs-Nr: 23\nHeim: Ostermundigen\nGast: Burgdorf\n\nAdresse: Dennigkofenweg 169\, 3072 Ostermundigen\n
LOCATION:Dennigkofenweg 169\, 3072 Ostermundigen
CATEGORIES:Saison 2018/19
END:VEVENT
BEGIN:VEVENT
DTSTAMP:20260421T202621Z
DTSTART;TZID=Europe/Berlin:20190306T201500
DTEND;TZID=Europe/Berlin:20190306T231500
SUMMARY:O40 1. Liga Aarberg vs Burgdorf (16)
UID:b3475f8c-6621-4b06-a15f-a8905f4a34af
STATUS:CONFIRMED
LAST-MODIFIED:20190308T182038Z
DESCRIPTION:1. Liga O40 Gruppe 1\nBegegnungs-Nr: 16\nHeim: Aarberg\nGast: Burgdorf\n\nAdresse: Nidaustrasse 7\, 3270 Aarberg\n
LOCATION:Nidaustrasse 7\, 3270 Aarberg
CATEGORIES:Saison 2018/19
END:VEVENT
END:VCALENDAR
