BEGIN:VCALENDAR
PRODID:-//nuDatenautomaten//framework iCal4j //DE
VERSION:2.0
CALSCALE:GREGORIAN
BEGIN:VTIMEZONE
TZID:Europe/Berlin
LAST-MODIFIED:20260306T231828Z
TZURL:https://www.tzurl.org/zoneinfo/Europe/Berlin
X-LIC-LOCATION:Europe/Berlin
X-PROLEPTIC-TZNAME:LMT
BEGIN:STANDARD
TZNAME:CET
TZOFFSETFROM:+005328
TZOFFSETTO:+0100
DTSTART:18930401T000000
END:STANDARD
BEGIN:DAYLIGHT
TZNAME:CEST
TZOFFSETFROM:+0100
TZOFFSETTO:+0200
DTSTART:19160430T230000
RDATE:19400401T020000
RDATE:19430329T020000
RDATE:19460414T020000
RDATE:19470406T030000
RDATE:19480418T020000
RDATE:19490410T020000
RDATE:19800406T020000
END:DAYLIGHT
BEGIN:STANDARD
TZNAME:CET
TZOFFSETFROM:+0200
TZOFFSETTO:+0100
DTSTART:19161001T010000
RDATE:19421102T030000
RDATE:19431004T030000
RDATE:19441002T030000
RDATE:19451118T030000
RDATE:19461007T030000
END:STANDARD
BEGIN:DAYLIGHT
TZNAME:CEST
TZOFFSETFROM:+0100
TZOFFSETTO:+0200
DTSTART:19170416T020000
RRULE:FREQ=YEARLY;UNTIL=19180415T010000Z;BYMONTH=4;BYDAY=3MO
END:DAYLIGHT
BEGIN:STANDARD
TZNAME:CET
TZOFFSETFROM:+0200
TZOFFSETTO:+0100
DTSTART:19170917T030000
RRULE:FREQ=YEARLY;UNTIL=19180916T010000Z;BYMONTH=9;BYDAY=3MO
END:STANDARD
BEGIN:DAYLIGHT
TZNAME:CEST
TZOFFSETFROM:+0100
TZOFFSETTO:+0200
DTSTART:19440403T020000
RRULE:FREQ=YEARLY;UNTIL=19450402T010000Z;BYMONTH=4;BYDAY=1MO
END:DAYLIGHT
BEGIN:DAYLIGHT
TZNAME:CEMT
TZOFFSETFROM:+0200
TZOFFSETTO:+0300
DTSTART:19450524T020000
RDATE:19470511T030000
END:DAYLIGHT
BEGIN:DAYLIGHT
TZNAME:CEST
TZOFFSETFROM:+0300
TZOFFSETTO:+0200
DTSTART:19450924T030000
RDATE:19470629T030000
END:DAYLIGHT
BEGIN:STANDARD
TZNAME:CET
TZOFFSETFROM:+0100
TZOFFSETTO:+0100
DTSTART:19460101T000000
RDATE:19800101T000000
END:STANDARD
BEGIN:STANDARD
TZNAME:CET
TZOFFSETFROM:+0200
TZOFFSETTO:+0100
DTSTART:19471005T030000
RRULE:FREQ=YEARLY;UNTIL=19491002T010000Z;BYMONTH=10;BYDAY=1SU
END:STANDARD
BEGIN:STANDARD
TZNAME:CET
TZOFFSETFROM:+0200
TZOFFSETTO:+0100
DTSTART:19800928T030000
RRULE:FREQ=YEARLY;UNTIL=19950924T010000Z;BYMONTH=9;BYDAY=-1SU
END:STANDARD
BEGIN:DAYLIGHT
TZNAME:CEST
TZOFFSETFROM:+0100
TZOFFSETTO:+0200
DTSTART:19810329T020000
RRULE:FREQ=YEARLY;BYMONTH=3;BYDAY=-1SU
END:DAYLIGHT
BEGIN:STANDARD
TZNAME:CET
TZOFFSETFROM:+0200
TZOFFSETTO:+0100
DTSTART:19961027T030000
RRULE:FREQ=YEARLY;BYMONTH=10;BYDAY=-1SU
END:STANDARD
END:VTIMEZONE
BEGIN:VEVENT
DTSTAMP:20260421T201044Z
DTSTART;TZID=Europe/Berlin:20180911T200000
DTEND;TZID=Europe/Berlin:20180911T230000
SUMMARY:HE 4. Liga Gr. 5 Regio Moossee vs Bern VII (8)
UID:50b2448e-c2b7-4520-8977-9d23ca3a30d8
STATUS:CONFIRMED
LAST-MODIFIED:20180913T024430Z
DESCRIPTION:4. Liga Herren Gruppe 5\nBegegnungs-Nr: 8\nHeim: Regio Moossee\nGast: Bern VII\n\nAdresse: Schulhausstrasse 23-25\, 3302 Moosseedorf\n
LOCATION:Schulhausstrasse 23-25\, 3302 Moosseedorf
CATEGORIES:Saison 2018/19
END:VEVENT
BEGIN:VEVENT
DTSTAMP:20260421T201044Z
DTSTART;TZID=Europe/Berlin:20181211T200000
DTEND;TZID=Europe/Berlin:20181211T230000
SUMMARY:HE 4. Liga Gr. 5 Regio Moossee vs Grauholz II (27)
UID:33ce9fd6-684e-40af-a40b-43a4c7fe0b74
STATUS:CONFIRMED
LAST-MODIFIED:20181213T162122Z
DESCRIPTION:4. Liga Herren Gruppe 5\nBegegnungs-Nr: 27\nHeim: Regio Moossee\nGast: Grauholz II\n\nAdresse: Schulhausstrasse 23-25\, 3302 Moosseedorf\n
LOCATION:Schulhausstrasse 23-25\, 3302 Moosseedorf
CATEGORIES:Saison 2018/19
END:VEVENT
BEGIN:VEVENT
DTSTAMP:20260421T201044Z
DTSTART;TZID=Europe/Berlin:20190212T200000
DTEND;TZID=Europe/Berlin:20190212T230000
SUMMARY:HE 4. Liga Gr. 5 Regio Moossee vs Langnau III (9)
UID:524830d3-ca52-4293-8827-dd8cefb67976
STATUS:CONFIRMED
LAST-MODIFIED:20190213T202414Z
DESCRIPTION:4. Liga Herren Gruppe 5\nBegegnungs-Nr: 9\nHeim: Regio Moossee\nGast: Langnau III\n\nAdresse: Schulhausstrasse 23-25\, 3302 Moosseedorf\n
LOCATION:Schulhausstrasse 23-25\, 3302 Moosseedorf
CATEGORIES:Saison 2018/19
END:VEVENT
BEGIN:VEVENT
DTSTAMP:20260421T201044Z
DTSTART;TZID=Europe/Berlin:20181218T200000
DTEND;TZID=Europe/Berlin:20181218T230000
SUMMARY:HE 4. Liga Gr. 5 Regio Moossee vs Münchenbuchsee IV (3)
UID:bffd8da3-d0c7-4216-9af6-45b7b91915cc
STATUS:CONFIRMED
LAST-MODIFIED:20181220T142946Z
DESCRIPTION:4. Liga Herren Gruppe 5\nBegegnungs-Nr: 3\nHeim: Regio Moossee\nGast: Münchenbuchsee IV\n\nAdresse: Schulhausstrasse 23-25\, 3302 Moosseedorf\n
LOCATION:Schulhausstrasse 23-25\, 3302 Moosseedorf
CATEGORIES:Saison 2018/19
END:VEVENT
BEGIN:VEVENT
DTSTAMP:20260421T201044Z
DTSTART;TZID=Europe/Berlin:20181113T200000
DTEND;TZID=Europe/Berlin:20181113T230000
SUMMARY:HE 4. Liga Gr. 5 Regio Moossee vs Burgdorf VI (20)
UID:828bc9ce-62d5-4be7-907c-05e016e3790f
STATUS:CONFIRMED
LAST-MODIFIED:20181114T183333Z
DESCRIPTION:4. Liga Herren Gruppe 5\nBegegnungs-Nr: 20\nHeim: Regio Moossee\nGast: Burgdorf VI\n\nAdresse: Schulhausstrasse 23-25\, 3302 Moosseedorf\n
LOCATION:Schulhausstrasse 23-25\, 3302 Moosseedorf
CATEGORIES:Saison 2018/19
END:VEVENT
BEGIN:VEVENT
DTSTAMP:20260421T201044Z
DTSTART;TZID=Europe/Berlin:20181030T200000
DTEND;TZID=Europe/Berlin:20181030T230000
SUMMARY:HE 4. Liga Gr. 5 Regio Moossee vs Hindelbank II (14)
UID:dcca2fb3-e6fd-48b3-8266-5a0b8688a55e
STATUS:CONFIRMED
LAST-MODIFIED:20181031T181651Z
DESCRIPTION:4. Liga Herren Gruppe 5\nBegegnungs-Nr: 14\nHeim: Regio Moossee\nGast: Hindelbank II\n\nAdresse: Schulhausstrasse 23-25\, 3302 Moosseedorf\n
LOCATION:Schulhausstrasse 23-25\, 3302 Moosseedorf
CATEGORIES:Saison 2018/19
END:VEVENT
BEGIN:VEVENT
DTSTAMP:20260421T201044Z
DTSTART;TZID=Europe/Berlin:20190322T200000
DTEND;TZID=Europe/Berlin:20190322T230000
SUMMARY:HE 4. Liga Gr. 5 Regio Moossee vs Stettlen II (24)
UID:478f781a-0178-4c66-b6d6-91bd22b435c2
STATUS:CONFIRMED
LAST-MODIFIED:20190324T091850Z
DESCRIPTION:4. Liga Herren Gruppe 5\nBegegnungs-Nr: 24\nHeim: Regio Moossee\nGast: Stettlen II\n\nAdresse: Schulhausstrasse 23-25\, 3302 Moosseedorf\n
LOCATION:Schulhausstrasse 23-25\, 3302 Moosseedorf
CATEGORIES:Saison 2018/19
END:VEVENT
BEGIN:VEVENT
DTSTAMP:20260421T201044Z
DTSTART;TZID=Europe/Berlin:20181004T200000
DTEND;TZID=Europe/Berlin:20181004T230000
SUMMARY:HE 4. Liga Gr. 5 Langnau III vs Regio Moossee (9)
UID:1f2163f9-1f88-44f6-a68d-71619ef54d1c
STATUS:CONFIRMED
LAST-MODIFIED:20181005T195401Z
DESCRIPTION:4. Liga Herren Gruppe 5\nBegegnungs-Nr: 9\nHeim: Langnau III\nGast: Regio Moossee\n\nAdresse: Bleicheweg 11\, 3550 Langnau\n
LOCATION:Bleicheweg 11\, 3550 Langnau
CATEGORIES:Saison 2018/19
END:VEVENT
BEGIN:VEVENT
DTSTAMP:20260421T201044Z
DTSTART;TZID=Europe/Berlin:20190405T200000
DTEND;TZID=Europe/Berlin:20190405T230000
SUMMARY:HE 4. Liga Gr. 5 Grauholz II vs Regio Moossee (27)
UID:12e5a739-87b0-4d52-907c-ed09e86438fd
STATUS:CONFIRMED
LAST-MODIFIED:20190406T080427Z
DESCRIPTION:4. Liga Herren Gruppe 5\nBegegnungs-Nr: 27\nHeim: Grauholz II\nGast: Regio Moossee\n\nAdresse: Schulhausweg 8\, 3324 Hindelbank\n
LOCATION:Schulhausweg 8\, 3324 Hindelbank
CATEGORIES:Saison 2018/19
END:VEVENT
BEGIN:VEVENT
DTSTAMP:20260421T201044Z
DTSTART;TZID=Europe/Berlin:20180831T193000
DTEND;TZID=Europe/Berlin:20180831T223000
SUMMARY:HE 4. Liga Gr. 5 Münchenbuchsee IV vs Regio Moossee (3)
UID:c6efc70b-3f65-4aba-a59a-a08842f7cd69
STATUS:CONFIRMED
LAST-MODIFIED:20180901T120904Z
DESCRIPTION:4. Liga Herren Gruppe 5\nBegegnungs-Nr: 3\nHeim: Münchenbuchsee IV\nGast: Regio Moossee\n\nAdresse: Laubbergweg 41\, 3053 Münchenbuchsee\n
LOCATION:Laubbergweg 41\, 3053 Münchenbuchsee
CATEGORIES:Saison 2018/19
END:VEVENT
BEGIN:VEVENT
DTSTAMP:20260421T201044Z
DTSTART;TZID=Europe/Berlin:20190316T160000
DTEND;TZID=Europe/Berlin:20190316T190000
SUMMARY:HE 4. Liga Gr. 5 Burgdorf VI vs Regio Moossee (20)
UID:3f7713f8-0899-43f5-a418-292e991ebf99
STATUS:CONFIRMED
LAST-MODIFIED:20190318T203747Z
DESCRIPTION:4. Liga Herren Gruppe 5\nBegegnungs-Nr: 20\nHeim: Burgdorf VI\nGast: Regio Moossee\n\nAdresse: Pestalozzistrasse 69\, 3400 Burgdorf\n
LOCATION:Pestalozzistrasse 69\, 3400 Burgdorf
CATEGORIES:Saison 2018/19
END:VEVENT
BEGIN:VEVENT
DTSTAMP:20260421T201044Z
DTSTART;TZID=Europe/Berlin:20190219T200000
DTEND;TZID=Europe/Berlin:20190219T230000
SUMMARY:HE 4. Liga Gr. 5 Hindelbank II vs Regio Moossee (14)
UID:87b7de47-a979-4805-a253-c4dc109761e7
STATUS:CONFIRMED
LAST-MODIFIED:20190221T174323Z
DESCRIPTION:4. Liga Herren Gruppe 5\nBegegnungs-Nr: 14\nHeim: Hindelbank II\nGast: Regio Moossee\n\nAdresse: Schulhausweg 8\, 3324 Hindelbank\n
LOCATION:Schulhausweg 8\, 3324 Hindelbank
CATEGORIES:Saison 2018/19
END:VEVENT
BEGIN:VEVENT
DTSTAMP:20260421T201044Z
DTSTART;TZID=Europe/Berlin:20190121T193000
DTEND;TZID=Europe/Berlin:20190121T223000
SUMMARY:HE 4. Liga Gr. 5 Bern VII vs Regio Moossee (8)
UID:b491d389-2c7c-43ca-a4bc-220ebf8973e8
STATUS:CONFIRMED
LAST-MODIFIED:20190122T200643Z
DESCRIPTION:4. Liga Herren Gruppe 5\nBegegnungs-Nr: 8\nHeim: Bern VII\nGast: Regio Moossee\n\nAdresse: Papiermühlestrasse 81\, 3014 Bern\n
LOCATION:Papiermühlestrasse 81\, 3014 Bern
CATEGORIES:Saison 2018/19
END:VEVENT
BEGIN:VEVENT
DTSTAMP:20260421T201044Z
DTSTART;TZID=Europe/Berlin:20181129T201500
DTEND;TZID=Europe/Berlin:20181129T231500
SUMMARY:HE 4. Liga Gr. 5 Stettlen II vs Regio Moossee (24)
UID:dfb0f90e-a167-4c8c-a1c5-8c2ea0ff05f6
STATUS:CONFIRMED
LAST-MODIFIED:20181130T153909Z
DESCRIPTION:4. Liga Herren Gruppe 5\nBegegnungs-Nr: 24\nHeim: Stettlen II\nGast: Regio Moossee\n\nAdresse: Bernstrasse 45\, 3066 Stettlen\n
LOCATION:Bernstrasse 45\, 3066 Stettlen
CATEGORIES:Saison 2018/19
END:VEVENT
END:VCALENDAR
