BEGIN:VCALENDAR
PRODID:-//nuDatenautomaten//framework iCal4j //DE
VERSION:2.0
CALSCALE:GREGORIAN
BEGIN:VTIMEZONE
TZID:Europe/Berlin
LAST-MODIFIED:20260306T231828Z
TZURL:https://www.tzurl.org/zoneinfo/Europe/Berlin
X-LIC-LOCATION:Europe/Berlin
X-PROLEPTIC-TZNAME:LMT
BEGIN:STANDARD
TZNAME:CET
TZOFFSETFROM:+005328
TZOFFSETTO:+0100
DTSTART:18930401T000000
END:STANDARD
BEGIN:DAYLIGHT
TZNAME:CEST
TZOFFSETFROM:+0100
TZOFFSETTO:+0200
DTSTART:19160430T230000
RDATE:19400401T020000
RDATE:19430329T020000
RDATE:19460414T020000
RDATE:19470406T030000
RDATE:19480418T020000
RDATE:19490410T020000
RDATE:19800406T020000
END:DAYLIGHT
BEGIN:STANDARD
TZNAME:CET
TZOFFSETFROM:+0200
TZOFFSETTO:+0100
DTSTART:19161001T010000
RDATE:19421102T030000
RDATE:19431004T030000
RDATE:19441002T030000
RDATE:19451118T030000
RDATE:19461007T030000
END:STANDARD
BEGIN:DAYLIGHT
TZNAME:CEST
TZOFFSETFROM:+0100
TZOFFSETTO:+0200
DTSTART:19170416T020000
RRULE:FREQ=YEARLY;UNTIL=19180415T010000Z;BYMONTH=4;BYDAY=3MO
END:DAYLIGHT
BEGIN:STANDARD
TZNAME:CET
TZOFFSETFROM:+0200
TZOFFSETTO:+0100
DTSTART:19170917T030000
RRULE:FREQ=YEARLY;UNTIL=19180916T010000Z;BYMONTH=9;BYDAY=3MO
END:STANDARD
BEGIN:DAYLIGHT
TZNAME:CEST
TZOFFSETFROM:+0100
TZOFFSETTO:+0200
DTSTART:19440403T020000
RRULE:FREQ=YEARLY;UNTIL=19450402T010000Z;BYMONTH=4;BYDAY=1MO
END:DAYLIGHT
BEGIN:DAYLIGHT
TZNAME:CEMT
TZOFFSETFROM:+0200
TZOFFSETTO:+0300
DTSTART:19450524T020000
RDATE:19470511T030000
END:DAYLIGHT
BEGIN:DAYLIGHT
TZNAME:CEST
TZOFFSETFROM:+0300
TZOFFSETTO:+0200
DTSTART:19450924T030000
RDATE:19470629T030000
END:DAYLIGHT
BEGIN:STANDARD
TZNAME:CET
TZOFFSETFROM:+0100
TZOFFSETTO:+0100
DTSTART:19460101T000000
RDATE:19800101T000000
END:STANDARD
BEGIN:STANDARD
TZNAME:CET
TZOFFSETFROM:+0200
TZOFFSETTO:+0100
DTSTART:19471005T030000
RRULE:FREQ=YEARLY;UNTIL=19491002T010000Z;BYMONTH=10;BYDAY=1SU
END:STANDARD
BEGIN:STANDARD
TZNAME:CET
TZOFFSETFROM:+0200
TZOFFSETTO:+0100
DTSTART:19800928T030000
RRULE:FREQ=YEARLY;UNTIL=19950924T010000Z;BYMONTH=9;BYDAY=-1SU
END:STANDARD
BEGIN:DAYLIGHT
TZNAME:CEST
TZOFFSETFROM:+0100
TZOFFSETTO:+0200
DTSTART:19810329T020000
RRULE:FREQ=YEARLY;BYMONTH=3;BYDAY=-1SU
END:DAYLIGHT
BEGIN:STANDARD
TZNAME:CET
TZOFFSETFROM:+0200
TZOFFSETTO:+0100
DTSTART:19961027T030000
RRULE:FREQ=YEARLY;BYMONTH=10;BYDAY=-1SU
END:STANDARD
END:VTIMEZONE
BEGIN:VEVENT
DTSTAMP:20260421T201045Z
DTSTART;TZID=Europe/Berlin:20181004T200000
DTEND;TZID=Europe/Berlin:20181004T230000
SUMMARY:HE 4. Liga Gr. 5 Langnau III vs Regio Moossee (9)
UID:1f2163f9-1f88-44f6-a68d-71619ef54d1c
STATUS:CONFIRMED
LAST-MODIFIED:20181005T195401Z
DESCRIPTION:4. Liga Herren Gruppe 5\nBegegnungs-Nr: 9\nHeim: Langnau III\nGast: Regio Moossee\n\nAdresse: Bleicheweg 11\, 3550 Langnau\n
LOCATION:Bleicheweg 11\, 3550 Langnau
CATEGORIES:Saison 2018/19
END:VEVENT
BEGIN:VEVENT
DTSTAMP:20260421T201045Z
DTSTART;TZID=Europe/Berlin:20190314T200000
DTEND;TZID=Europe/Berlin:20190314T230000
SUMMARY:HE 4. Liga Gr. 5 Langnau III vs Münchenbuchsee IV (21)
UID:5806cfc0-532a-43bb-bc1d-fe60984f6d6e
STATUS:CONFIRMED
LAST-MODIFIED:20190315T230045Z
DESCRIPTION:4. Liga Herren Gruppe 5\nBegegnungs-Nr: 21\nHeim: Langnau III\nGast: Münchenbuchsee IV\n\nAdresse: Bleicheweg 11\, 3550 Langnau\n
LOCATION:Bleicheweg 11\, 3550 Langnau
CATEGORIES:Saison 2018/19
END:VEVENT
BEGIN:VEVENT
DTSTAMP:20260421T201045Z
DTSTART;TZID=Europe/Berlin:20190228T200000
DTEND;TZID=Europe/Berlin:20190228T230000
SUMMARY:HE 4. Liga Gr. 5 Langnau III vs Grauholz II (13)
UID:3127d068-02ec-4dbf-938f-dc684cad976f
STATUS:CONFIRMED
LAST-MODIFIED:20190301T222718Z
DESCRIPTION:4. Liga Herren Gruppe 5\nBegegnungs-Nr: 13\nHeim: Langnau III\nGast: Grauholz II\n\nAdresse: Bleicheweg 11\, 3550 Langnau\n
LOCATION:Bleicheweg 11\, 3550 Langnau
CATEGORIES:Saison 2018/19
END:VEVENT
BEGIN:VEVENT
DTSTAMP:20260421T201045Z
DTSTART;TZID=Europe/Berlin:20190131T200000
DTEND;TZID=Europe/Berlin:20190131T230000
SUMMARY:HE 4. Liga Gr. 5 Langnau III vs Stettlen II (5)
UID:54d4bb0e-a4bf-4fcd-a40e-e0cbe5083d59
STATUS:CONFIRMED
LAST-MODIFIED:20190201T195216Z
DESCRIPTION:4. Liga Herren Gruppe 5\nBegegnungs-Nr: 5\nHeim: Langnau III\nGast: Stettlen II\n\nAdresse: Bleicheweg 11\, 3550 Langnau\n
LOCATION:Bleicheweg 11\, 3550 Langnau
CATEGORIES:Saison 2018/19
END:VEVENT
BEGIN:VEVENT
DTSTAMP:20260421T201045Z
DTSTART;TZID=Europe/Berlin:20181206T200000
DTEND;TZID=Europe/Berlin:20181206T230000
SUMMARY:HE 4. Liga Gr. 5 Langnau III vs Hindelbank II (25)
UID:433e965d-6fc3-415e-9a52-d6d95d30fb94
STATUS:CONFIRMED
LAST-MODIFIED:20181208T071644Z
DESCRIPTION:4. Liga Herren Gruppe 5\nBegegnungs-Nr: 25\nHeim: Langnau III\nGast: Hindelbank II\n\nAdresse: Bleicheweg 11\, 3550 Langnau\n
LOCATION:Bleicheweg 11\, 3550 Langnau
CATEGORIES:Saison 2018/19
END:VEVENT
BEGIN:VEVENT
DTSTAMP:20260421T201045Z
DTSTART;TZID=Europe/Berlin:20181115T200000
DTEND;TZID=Europe/Berlin:20181115T230000
SUMMARY:HE 4. Liga Gr. 5 Langnau III vs Bern VII (17)
UID:79937d64-b02c-4a58-8cba-fdb962e45277
STATUS:CONFIRMED
LAST-MODIFIED:20181116T182956Z
DESCRIPTION:4. Liga Herren Gruppe 5\nBegegnungs-Nr: 17\nHeim: Langnau III\nGast: Bern VII\n\nAdresse: Bleicheweg 11\, 3550 Langnau\n
LOCATION:Bleicheweg 11\, 3550 Langnau
CATEGORIES:Saison 2018/19
END:VEVENT
BEGIN:VEVENT
DTSTAMP:20260421T201045Z
DTSTART;TZID=Europe/Berlin:20180830T200000
DTEND;TZID=Europe/Berlin:20180830T230000
SUMMARY:HE 4. Liga Gr. 5 Langnau III vs Burgdorf VI (1)
UID:54f1c680-1ce4-424e-b2da-adb9b449dace
STATUS:CONFIRMED
LAST-MODIFIED:20180901T120842Z
DESCRIPTION:4. Liga Herren Gruppe 5\nBegegnungs-Nr: 1\nHeim: Langnau III\nGast: Burgdorf VI\n\nAdresse: Bleicheweg 11\, 3550 Langnau\n
LOCATION:Bleicheweg 11\, 3550 Langnau
CATEGORIES:Saison 2018/19
END:VEVENT
BEGIN:VEVENT
DTSTAMP:20260421T201045Z
DTSTART;TZID=Europe/Berlin:20180912T200000
DTEND;TZID=Europe/Berlin:20180912T230000
SUMMARY:HE 4. Liga Gr. 5 Stettlen II vs Langnau III (5)
UID:d72a00aa-1a32-48d7-8126-df5471b452a7
STATUS:CONFIRMED
LAST-MODIFIED:20180913T024445Z
DESCRIPTION:4. Liga Herren Gruppe 5\nBegegnungs-Nr: 5\nHeim: Stettlen II\nGast: Langnau III\n\nAdresse: Bernstrasse 45\, 3066 Stettlen\n
LOCATION:Bernstrasse 45\, 3066 Stettlen
CATEGORIES:Saison 2018/19
END:VEVENT
BEGIN:VEVENT
DTSTAMP:20260421T201045Z
DTSTART;TZID=Europe/Berlin:20190402T200000
DTEND;TZID=Europe/Berlin:20190402T230000
SUMMARY:HE 4. Liga Gr. 5 Hindelbank II vs Langnau III (25)
UID:83246554-c5b7-43f0-8a24-a006cb54ae5f
STATUS:CONFIRMED
LAST-MODIFIED:20190404T171021Z
DESCRIPTION:4. Liga Herren Gruppe 5\nBegegnungs-Nr: 25\nHeim: Hindelbank II\nGast: Langnau III\n\nAdresse: Schulhausweg 8\, 3324 Hindelbank\n
LOCATION:Schulhausweg 8\, 3324 Hindelbank
CATEGORIES:Saison 2018/19
END:VEVENT
BEGIN:VEVENT
DTSTAMP:20260421T201045Z
DTSTART;TZID=Europe/Berlin:20190318T193000
DTEND;TZID=Europe/Berlin:20190318T223000
SUMMARY:HE 4. Liga Gr. 5 Bern VII vs Langnau III (17)
UID:c3eadd40-6229-4fd5-b3f8-674b5d281047
STATUS:CONFIRMED
LAST-MODIFIED:20190320T194505Z
DESCRIPTION:4. Liga Herren Gruppe 5\nBegegnungs-Nr: 17\nHeim: Bern VII\nGast: Langnau III\n\nAdresse: Papiermühlestrasse 81\, 3014 Bern\n
LOCATION:Papiermühlestrasse 81\, 3014 Bern
CATEGORIES:Saison 2018/19
END:VEVENT
BEGIN:VEVENT
DTSTAMP:20260421T201045Z
DTSTART;TZID=Europe/Berlin:20181222T133000
DTEND;TZID=Europe/Berlin:20181222T163000
SUMMARY:HE 4. Liga Gr. 5 Burgdorf VI vs Langnau III (1)
UID:5fe256e1-a138-44c0-9a55-56328e73b4f1
STATUS:CONFIRMED
LAST-MODIFIED:20181224T080559Z
DESCRIPTION:4. Liga Herren Gruppe 5\nBegegnungs-Nr: 1\nHeim: Burgdorf VI\nGast: Langnau III\n\nAdresse: Pestalozzistrasse 69\, 3400 Burgdorf\n
LOCATION:Pestalozzistrasse 69\, 3400 Burgdorf
CATEGORIES:Saison 2018/19
END:VEVENT
BEGIN:VEVENT
DTSTAMP:20260421T201045Z
DTSTART;TZID=Europe/Berlin:20190212T200000
DTEND;TZID=Europe/Berlin:20190212T230000
SUMMARY:HE 4. Liga Gr. 5 Regio Moossee vs Langnau III (9)
UID:524830d3-ca52-4293-8827-dd8cefb67976
STATUS:CONFIRMED
LAST-MODIFIED:20190213T202414Z
DESCRIPTION:4. Liga Herren Gruppe 5\nBegegnungs-Nr: 9\nHeim: Regio Moossee\nGast: Langnau III\n\nAdresse: Schulhausstrasse 23-25\, 3302 Moosseedorf\n
LOCATION:Schulhausstrasse 23-25\, 3302 Moosseedorf
CATEGORIES:Saison 2018/19
END:VEVENT
BEGIN:VEVENT
DTSTAMP:20260421T201045Z
DTSTART;TZID=Europe/Berlin:20181123T193000
DTEND;TZID=Europe/Berlin:20181123T223000
SUMMARY:HE 4. Liga Gr. 5 Münchenbuchsee IV vs Langnau III (21)
UID:739292af-15ae-4fa3-b495-dbac725606d0
STATUS:CONFIRMED
LAST-MODIFIED:20181127T154205Z
DESCRIPTION:4. Liga Herren Gruppe 5\nBegegnungs-Nr: 21\nHeim: Münchenbuchsee IV\nGast: Langnau III\n\nAdresse: Laubbergweg 41\, 3053 Münchenbuchsee\n
LOCATION:Laubbergweg 41\, 3053 Münchenbuchsee
CATEGORIES:Saison 2018/19
END:VEVENT
BEGIN:VEVENT
DTSTAMP:20260421T201045Z
DTSTART;TZID=Europe/Berlin:20181026T200000
DTEND;TZID=Europe/Berlin:20181026T230000
SUMMARY:HE 4. Liga Gr. 5 Grauholz II vs Langnau III (13)
UID:21236774-8df6-407a-914d-b7ce782d8240
STATUS:CONFIRMED
LAST-MODIFIED:20181030T185829Z
DESCRIPTION:4. Liga Herren Gruppe 5\nBegegnungs-Nr: 13\nHeim: Grauholz II\nGast: Langnau III\n\nAdresse: Schulhausweg 8\, 3324 Hindelbank\n
LOCATION:Schulhausweg 8\, 3324 Hindelbank
CATEGORIES:Saison 2018/19
END:VEVENT
END:VCALENDAR
