BEGIN:VCALENDAR
PRODID:-//nuDatenautomaten//framework iCal4j //DE
VERSION:2.0
CALSCALE:GREGORIAN
BEGIN:VTIMEZONE
TZID:Europe/Berlin
LAST-MODIFIED:20260306T231828Z
TZURL:https://www.tzurl.org/zoneinfo/Europe/Berlin
X-LIC-LOCATION:Europe/Berlin
X-PROLEPTIC-TZNAME:LMT
BEGIN:STANDARD
TZNAME:CET
TZOFFSETFROM:+005328
TZOFFSETTO:+0100
DTSTART:18930401T000000
END:STANDARD
BEGIN:DAYLIGHT
TZNAME:CEST
TZOFFSETFROM:+0100
TZOFFSETTO:+0200
DTSTART:19160430T230000
RDATE:19400401T020000
RDATE:19430329T020000
RDATE:19460414T020000
RDATE:19470406T030000
RDATE:19480418T020000
RDATE:19490410T020000
RDATE:19800406T020000
END:DAYLIGHT
BEGIN:STANDARD
TZNAME:CET
TZOFFSETFROM:+0200
TZOFFSETTO:+0100
DTSTART:19161001T010000
RDATE:19421102T030000
RDATE:19431004T030000
RDATE:19441002T030000
RDATE:19451118T030000
RDATE:19461007T030000
END:STANDARD
BEGIN:DAYLIGHT
TZNAME:CEST
TZOFFSETFROM:+0100
TZOFFSETTO:+0200
DTSTART:19170416T020000
RRULE:FREQ=YEARLY;UNTIL=19180415T010000Z;BYMONTH=4;BYDAY=3MO
END:DAYLIGHT
BEGIN:STANDARD
TZNAME:CET
TZOFFSETFROM:+0200
TZOFFSETTO:+0100
DTSTART:19170917T030000
RRULE:FREQ=YEARLY;UNTIL=19180916T010000Z;BYMONTH=9;BYDAY=3MO
END:STANDARD
BEGIN:DAYLIGHT
TZNAME:CEST
TZOFFSETFROM:+0100
TZOFFSETTO:+0200
DTSTART:19440403T020000
RRULE:FREQ=YEARLY;UNTIL=19450402T010000Z;BYMONTH=4;BYDAY=1MO
END:DAYLIGHT
BEGIN:DAYLIGHT
TZNAME:CEMT
TZOFFSETFROM:+0200
TZOFFSETTO:+0300
DTSTART:19450524T020000
RDATE:19470511T030000
END:DAYLIGHT
BEGIN:DAYLIGHT
TZNAME:CEST
TZOFFSETFROM:+0300
TZOFFSETTO:+0200
DTSTART:19450924T030000
RDATE:19470629T030000
END:DAYLIGHT
BEGIN:STANDARD
TZNAME:CET
TZOFFSETFROM:+0100
TZOFFSETTO:+0100
DTSTART:19460101T000000
RDATE:19800101T000000
END:STANDARD
BEGIN:STANDARD
TZNAME:CET
TZOFFSETFROM:+0200
TZOFFSETTO:+0100
DTSTART:19471005T030000
RRULE:FREQ=YEARLY;UNTIL=19491002T010000Z;BYMONTH=10;BYDAY=1SU
END:STANDARD
BEGIN:STANDARD
TZNAME:CET
TZOFFSETFROM:+0200
TZOFFSETTO:+0100
DTSTART:19800928T030000
RRULE:FREQ=YEARLY;UNTIL=19950924T010000Z;BYMONTH=9;BYDAY=-1SU
END:STANDARD
BEGIN:DAYLIGHT
TZNAME:CEST
TZOFFSETFROM:+0100
TZOFFSETTO:+0200
DTSTART:19810329T020000
RRULE:FREQ=YEARLY;BYMONTH=3;BYDAY=-1SU
END:DAYLIGHT
BEGIN:STANDARD
TZNAME:CET
TZOFFSETFROM:+0200
TZOFFSETTO:+0100
DTSTART:19961027T030000
RRULE:FREQ=YEARLY;BYMONTH=10;BYDAY=-1SU
END:STANDARD
END:VTIMEZONE
BEGIN:VEVENT
DTSTAMP:20260420T131044Z
DTSTART;TZID=Europe/Berlin:20190311T201500
DTEND;TZID=Europe/Berlin:20190311T231500
SUMMARY:HE 5. Liga Gr. 3 Entfelden vs Oberrohrdorf III (0)
UID:4e9b7500-dc60-4c7f-8e24-46af9ce1f0d2
STATUS:CONFIRMED
LAST-MODIFIED:20190314T124144Z
DESCRIPTION:5. Liga Herren Gruppe 3\nBegegnungs-Nr: 0\nHeim: Entfelden\nGast: Oberrohrdorf III\n\nAdresse: Erlenweg 12\, 5036 Oberentfelden\n
LOCATION:Erlenweg 12\, 5036 Oberentfelden
CATEGORIES:Saison 2018/19
END:VEVENT
BEGIN:VEVENT
DTSTAMP:20260420T131044Z
DTSTART;TZID=Europe/Berlin:20190211T201500
DTEND;TZID=Europe/Berlin:20190211T231500
SUMMARY:HE 5. Liga Gr. 3 Entfelden vs Menziken II (0)
UID:2b8c2c2b-36d6-43dd-8c26-622fda39f39c
STATUS:CONFIRMED
LAST-MODIFIED:20190214T125717Z
DESCRIPTION:5. Liga Herren Gruppe 3\nBegegnungs-Nr: 0\nHeim: Entfelden\nGast: Menziken II\n\nAdresse: Erlenweg 12\, 5036 Oberentfelden\n
LOCATION:Erlenweg 12\, 5036 Oberentfelden
CATEGORIES:Saison 2018/19
END:VEVENT
BEGIN:VEVENT
DTSTAMP:20260420T131044Z
DTSTART;TZID=Europe/Berlin:20180827T201500
DTEND;TZID=Europe/Berlin:20180827T231500
SUMMARY:HE 5. Liga Gr. 3 Entfelden vs Bremgarten IX (0)
UID:cf8b5ba1-70de-4786-9c22-5ecd213352f8
STATUS:CONFIRMED
LAST-MODIFIED:20180907T075406Z
DESCRIPTION:5. Liga Herren Gruppe 3\nBegegnungs-Nr: 0\nHeim: Entfelden\nGast: Bremgarten IX\n\nAdresse: Erlenweg 12\, 5036 Oberentfelden\n
LOCATION:Erlenweg 12\, 5036 Oberentfelden
CATEGORIES:Saison 2018/19
END:VEVENT
BEGIN:VEVENT
DTSTAMP:20260420T131044Z
DTSTART;TZID=Europe/Berlin:20180924T201500
DTEND;TZID=Europe/Berlin:20180924T231500
SUMMARY:HE 5. Liga Gr. 3 Entfelden vs Baden II (0)
UID:c7c6c070-e5ff-42ae-9d3f-e40f86aa78c2
STATUS:CONFIRMED
LAST-MODIFIED:20180927T124951Z
DESCRIPTION:5. Liga Herren Gruppe 3\nBegegnungs-Nr: 0\nHeim: Entfelden\nGast: Baden II\n\nAdresse: Erlenweg 12\, 5036 Oberentfelden\n
LOCATION:Erlenweg 12\, 5036 Oberentfelden
CATEGORIES:Saison 2018/19
END:VEVENT
BEGIN:VEVENT
DTSTAMP:20260420T131044Z
DTSTART;TZID=Europe/Berlin:20181029T201500
DTEND;TZID=Europe/Berlin:20181029T231500
SUMMARY:HE 5. Liga Gr. 3 Entfelden vs Brugg III (0)
UID:34a0ae86-a19c-4361-9272-a517d376d913
STATUS:CONFIRMED
LAST-MODIFIED:20181101T131649Z
DESCRIPTION:5. Liga Herren Gruppe 3\nBegegnungs-Nr: 0\nHeim: Entfelden\nGast: Brugg III\n\nAdresse: Erlenweg 12\, 5036 Oberentfelden\n
LOCATION:Erlenweg 12\, 5036 Oberentfelden
CATEGORIES:Saison 2018/19
END:VEVENT
BEGIN:VEVENT
DTSTAMP:20260420T131044Z
DTSTART;TZID=Europe/Berlin:20181203T201500
DTEND;TZID=Europe/Berlin:20181203T231500
SUMMARY:HE 5. Liga Gr. 3 Entfelden vs Aarau V (0)
UID:7054d58a-5d2d-4e07-9285-fc016e318a83
STATUS:CONFIRMED
LAST-MODIFIED:20181207T085525Z
DESCRIPTION:5. Liga Herren Gruppe 3\nBegegnungs-Nr: 0\nHeim: Entfelden\nGast: Aarau V\n\nAdresse: Erlenweg 12\, 5036 Oberentfelden\n
LOCATION:Erlenweg 12\, 5036 Oberentfelden
CATEGORIES:Saison 2018/19
END:VEVENT
BEGIN:VEVENT
DTSTAMP:20260420T131044Z
DTSTART;TZID=Europe/Berlin:20190114T201500
DTEND;TZID=Europe/Berlin:20190114T231500
SUMMARY:HE 5. Liga Gr. 3 Entfelden vs Fortuna Hausen (0)
UID:0338a8cc-f071-4219-b534-67be49cc14c2
STATUS:CONFIRMED
LAST-MODIFIED:20190121T104842Z
DESCRIPTION:5. Liga Herren Gruppe 3\nBegegnungs-Nr: 0\nHeim: Entfelden\nGast: Fortuna Hausen\n\nAdresse: Erlenweg 12\, 5036 Oberentfelden\n
LOCATION:Erlenweg 12\, 5036 Oberentfelden
CATEGORIES:Saison 2018/19
END:VEVENT
BEGIN:VEVENT
DTSTAMP:20260420T131044Z
DTSTART;TZID=Europe/Berlin:20190129T193000
DTEND;TZID=Europe/Berlin:20190129T223000
SUMMARY:HE 5. Liga Gr. 3 Baden II vs Entfelden (0)
UID:c72de0bf-2893-4a95-bf54-048daba442a5
STATUS:CONFIRMED
LAST-MODIFIED:20190201T125044Z
DESCRIPTION:5. Liga Herren Gruppe 3\nBegegnungs-Nr: 0\nHeim: Baden II\nGast: Entfelden\n\nAdresse: Wiesenstrasse 32 (Parkhaus Schmiede Fabrikstrasse)\, 5400 Baden\n
LOCATION:Wiesenstrasse 32 (Parkhaus Schmiede Fabrikstrasse)\, 5400 Baden
CATEGORIES:Saison 2018/19
END:VEVENT
BEGIN:VEVENT
DTSTAMP:20260420T131044Z
DTSTART;TZID=Europe/Berlin:20190112T133000
DTEND;TZID=Europe/Berlin:20190112T163000
SUMMARY:HE 5. Liga Gr. 3 Bremgarten IX vs Entfelden (0)
UID:3c68c750-27be-4535-aa11-8c6fb8425bf9
STATUS:CONFIRMED
LAST-MODIFIED:20190114T093658Z
DESCRIPTION:5. Liga Herren Gruppe 3\nBegegnungs-Nr: 0\nHeim: Bremgarten IX\nGast: Entfelden\n\nAdresse: Badstrasse 3\, 5620 Bremgarten\n
LOCATION:Badstrasse 3\, 5620 Bremgarten
CATEGORIES:Saison 2018/19
END:VEVENT
BEGIN:VEVENT
DTSTAMP:20260420T131044Z
DTSTART;TZID=Europe/Berlin:20180824T193000
DTEND;TZID=Europe/Berlin:20180824T223000
SUMMARY:HE 5. Liga Gr. 3 Aarau V vs Entfelden (0)
UID:e73f9931-db94-4582-8abc-653205ffdfdf
STATUS:CONFIRMED
LAST-MODIFIED:20180828T113914Z
DESCRIPTION:5. Liga Herren Gruppe 3\nBegegnungs-Nr: 0\nHeim: Aarau V\nGast: Entfelden\n\nAdresse: Weltistrasse 20\, 5000 Aarau\n
LOCATION:Weltistrasse 20\, 5000 Aarau
CATEGORIES:Saison 2018/19
END:VEVENT
BEGIN:VEVENT
DTSTAMP:20260420T131044Z
DTSTART;TZID=Europe/Berlin:20180925T200000
DTEND;TZID=Europe/Berlin:20180925T230000
SUMMARY:HE 5. Liga Gr. 3 Fortuna Hausen vs Entfelden (0)
UID:47b917d1-8a6e-4bee-a314-b06e18f4a994
STATUS:CONFIRMED
LAST-MODIFIED:20180927T125020Z
DESCRIPTION:5. Liga Herren Gruppe 3\nBegegnungs-Nr: 0\nHeim: Fortuna Hausen\nGast: Entfelden\n\nAdresse: Hauptstrasse 26\, 5212 Hausen AG\n
LOCATION:Hauptstrasse 26\, 5212 Hausen AG
CATEGORIES:Saison 2018/19
END:VEVENT
BEGIN:VEVENT
DTSTAMP:20260420T131044Z
DTSTART;TZID=Europe/Berlin:20181017T200000
DTEND;TZID=Europe/Berlin:20181017T230000
SUMMARY:HE 5. Liga Gr. 3 Menziken II vs Entfelden (0)
UID:d507928f-cc2d-469e-9f3e-a6b27a619ed3
STATUS:CONFIRMED
LAST-MODIFIED:20181025T120054Z
DESCRIPTION:5. Liga Herren Gruppe 3\nBegegnungs-Nr: 0\nHeim: Menziken II\nGast: Entfelden\n\nAdresse: Turnplatzstrasse\, 5737 Menziken\n
LOCATION:Turnplatzstrasse\, 5737 Menziken
CATEGORIES:Saison 2018/19
END:VEVENT
BEGIN:VEVENT
DTSTAMP:20260420T131044Z
DTSTART;TZID=Europe/Berlin:20181119T203000
DTEND;TZID=Europe/Berlin:20181119T233000
SUMMARY:HE 5. Liga Gr. 3 Oberrohrdorf III vs Entfelden (0)
UID:289d1306-238f-48a0-9a3f-1a4660ad79cc
STATUS:CONFIRMED
LAST-MODIFIED:20181123T093030Z
DESCRIPTION:5. Liga Herren Gruppe 3\nBegegnungs-Nr: 0\nHeim: Oberrohrdorf III\nGast: Entfelden\n\nAdresse: Hinterbächlistrasse\, 5452 Oberrohrdorf\n
LOCATION:Hinterbächlistrasse\, 5452 Oberrohrdorf
CATEGORIES:Saison 2018/19
END:VEVENT
BEGIN:VEVENT
DTSTAMP:20260420T131044Z
DTSTART;TZID=Europe/Berlin:20190228T201500
DTEND;TZID=Europe/Berlin:20190228T231500
SUMMARY:HE 5. Liga Gr. 3 Brugg III vs Entfelden (0)
UID:a2676af4-3733-463f-8eb5-78a4825d8ef0
STATUS:CONFIRMED
LAST-MODIFIED:20190301T095200Z
DESCRIPTION:5. Liga Herren Gruppe 3\nBegegnungs-Nr: 0\nHeim: Brugg III\nGast: Entfelden\n\nAdresse: Sommerhaldenstrasse 29\, 5200 Brugg/Lauffohr\n
LOCATION:Sommerhaldenstrasse 29\, 5200 Brugg/Lauffohr
CATEGORIES:Saison 2018/19
END:VEVENT
END:VCALENDAR
