BEGIN:VCALENDAR
PRODID:-//nuDatenautomaten//framework iCal4j //DE
VERSION:2.0
CALSCALE:GREGORIAN
BEGIN:VTIMEZONE
TZID:Europe/Berlin
LAST-MODIFIED:20260306T231828Z
TZURL:https://www.tzurl.org/zoneinfo/Europe/Berlin
X-LIC-LOCATION:Europe/Berlin
X-PROLEPTIC-TZNAME:LMT
BEGIN:STANDARD
TZNAME:CET
TZOFFSETFROM:+005328
TZOFFSETTO:+0100
DTSTART:18930401T000000
END:STANDARD
BEGIN:DAYLIGHT
TZNAME:CEST
TZOFFSETFROM:+0100
TZOFFSETTO:+0200
DTSTART:19160430T230000
RDATE:19400401T020000
RDATE:19430329T020000
RDATE:19460414T020000
RDATE:19470406T030000
RDATE:19480418T020000
RDATE:19490410T020000
RDATE:19800406T020000
END:DAYLIGHT
BEGIN:STANDARD
TZNAME:CET
TZOFFSETFROM:+0200
TZOFFSETTO:+0100
DTSTART:19161001T010000
RDATE:19421102T030000
RDATE:19431004T030000
RDATE:19441002T030000
RDATE:19451118T030000
RDATE:19461007T030000
END:STANDARD
BEGIN:DAYLIGHT
TZNAME:CEST
TZOFFSETFROM:+0100
TZOFFSETTO:+0200
DTSTART:19170416T020000
RRULE:FREQ=YEARLY;UNTIL=19180415T010000Z;BYMONTH=4;BYDAY=3MO
END:DAYLIGHT
BEGIN:STANDARD
TZNAME:CET
TZOFFSETFROM:+0200
TZOFFSETTO:+0100
DTSTART:19170917T030000
RRULE:FREQ=YEARLY;UNTIL=19180916T010000Z;BYMONTH=9;BYDAY=3MO
END:STANDARD
BEGIN:DAYLIGHT
TZNAME:CEST
TZOFFSETFROM:+0100
TZOFFSETTO:+0200
DTSTART:19440403T020000
RRULE:FREQ=YEARLY;UNTIL=19450402T010000Z;BYMONTH=4;BYDAY=1MO
END:DAYLIGHT
BEGIN:DAYLIGHT
TZNAME:CEMT
TZOFFSETFROM:+0200
TZOFFSETTO:+0300
DTSTART:19450524T020000
RDATE:19470511T030000
END:DAYLIGHT
BEGIN:DAYLIGHT
TZNAME:CEST
TZOFFSETFROM:+0300
TZOFFSETTO:+0200
DTSTART:19450924T030000
RDATE:19470629T030000
END:DAYLIGHT
BEGIN:STANDARD
TZNAME:CET
TZOFFSETFROM:+0100
TZOFFSETTO:+0100
DTSTART:19460101T000000
RDATE:19800101T000000
END:STANDARD
BEGIN:STANDARD
TZNAME:CET
TZOFFSETFROM:+0200
TZOFFSETTO:+0100
DTSTART:19471005T030000
RRULE:FREQ=YEARLY;UNTIL=19491002T010000Z;BYMONTH=10;BYDAY=1SU
END:STANDARD
BEGIN:STANDARD
TZNAME:CET
TZOFFSETFROM:+0200
TZOFFSETTO:+0100
DTSTART:19800928T030000
RRULE:FREQ=YEARLY;UNTIL=19950924T010000Z;BYMONTH=9;BYDAY=-1SU
END:STANDARD
BEGIN:DAYLIGHT
TZNAME:CEST
TZOFFSETFROM:+0100
TZOFFSETTO:+0200
DTSTART:19810329T020000
RRULE:FREQ=YEARLY;BYMONTH=3;BYDAY=-1SU
END:DAYLIGHT
BEGIN:STANDARD
TZNAME:CET
TZOFFSETFROM:+0200
TZOFFSETTO:+0100
DTSTART:19961027T030000
RRULE:FREQ=YEARLY;BYMONTH=10;BYDAY=-1SU
END:STANDARD
END:VTIMEZONE
BEGIN:VEVENT
DTSTAMP:20260420T125515Z
DTSTART;TZID=Europe/Berlin:20190306T200000
DTEND;TZID=Europe/Berlin:20190306T230000
SUMMARY:HE 5. Liga Gr. 3 Menziken II vs Oberrohrdorf III (0)
UID:1ad68483-b964-492a-b14f-2a29f8c3696e
STATUS:CONFIRMED
LAST-MODIFIED:20190308T092757Z
DESCRIPTION:5. Liga Herren Gruppe 3\nBegegnungs-Nr: 0\nHeim: Menziken II\nGast: Oberrohrdorf III\n\nAdresse: Turnplatzstrasse\, 5737 Menziken\n
LOCATION:Turnplatzstrasse\, 5737 Menziken
CATEGORIES:Saison 2018/19
END:VEVENT
BEGIN:VEVENT
DTSTAMP:20260420T125515Z
DTSTART;TZID=Europe/Berlin:20190116T200000
DTEND;TZID=Europe/Berlin:20190116T230000
SUMMARY:HE 5. Liga Gr. 3 Menziken II vs Aarau V (0)
UID:7db11527-d076-48bf-9eed-ecfb7c7a6cdb
STATUS:CONFIRMED
LAST-MODIFIED:20190121T105351Z
DESCRIPTION:5. Liga Herren Gruppe 3\nBegegnungs-Nr: 0\nHeim: Menziken II\nGast: Aarau V\n\nAdresse: Turnplatzstrasse\, 5737 Menziken\n
LOCATION:Turnplatzstrasse\, 5737 Menziken
CATEGORIES:Saison 2018/19
END:VEVENT
BEGIN:VEVENT
DTSTAMP:20260420T125515Z
DTSTART;TZID=Europe/Berlin:20190320T200000
DTEND;TZID=Europe/Berlin:20190320T230000
SUMMARY:HE 5. Liga Gr. 3 Menziken II vs Brugg III (0)
UID:b6fc9529-ac49-43e4-b0a1-db4dbb7a9c6d
STATUS:CONFIRMED
LAST-MODIFIED:20190325T085420Z
DESCRIPTION:5. Liga Herren Gruppe 3\nBegegnungs-Nr: 0\nHeim: Menziken II\nGast: Brugg III\n\nAdresse: Turnplatzstrasse\, 5737 Menziken\n
LOCATION:Turnplatzstrasse\, 5737 Menziken
CATEGORIES:Saison 2018/19
END:VEVENT
BEGIN:VEVENT
DTSTAMP:20260420T125515Z
DTSTART;TZID=Europe/Berlin:20180905T200000
DTEND;TZID=Europe/Berlin:20180905T230000
SUMMARY:HE 5. Liga Gr. 3 Menziken II vs Baden II (0)
UID:798b71d0-c883-47f4-aef5-6657ccaefc4a
STATUS:CONFIRMED
LAST-MODIFIED:20180907T075437Z
DESCRIPTION:5. Liga Herren Gruppe 3\nBegegnungs-Nr: 0\nHeim: Menziken II\nGast: Baden II\n\nAdresse: Turnplatzstrasse\, 5737 Menziken\n
LOCATION:Turnplatzstrasse\, 5737 Menziken
CATEGORIES:Saison 2018/19
END:VEVENT
BEGIN:VEVENT
DTSTAMP:20260420T125515Z
DTSTART;TZID=Europe/Berlin:20181024T200000
DTEND;TZID=Europe/Berlin:20181024T230000
SUMMARY:HE 5. Liga Gr. 3 Menziken II vs Bremgarten IX (0)
UID:6ad2144e-f799-474a-9709-55224f3f22ce
STATUS:CONFIRMED
LAST-MODIFIED:20181101T131636Z
DESCRIPTION:5. Liga Herren Gruppe 3\nBegegnungs-Nr: 0\nHeim: Menziken II\nGast: Bremgarten IX\n\nAdresse: Turnplatzstrasse\, 5737 Menziken\n
LOCATION:Turnplatzstrasse\, 5737 Menziken
CATEGORIES:Saison 2018/19
END:VEVENT
BEGIN:VEVENT
DTSTAMP:20260420T125515Z
DTSTART;TZID=Europe/Berlin:20181017T200000
DTEND;TZID=Europe/Berlin:20181017T230000
SUMMARY:HE 5. Liga Gr. 3 Menziken II vs Entfelden (0)
UID:d507928f-cc2d-469e-9f3e-a6b27a619ed3
STATUS:CONFIRMED
LAST-MODIFIED:20181025T120054Z
DESCRIPTION:5. Liga Herren Gruppe 3\nBegegnungs-Nr: 0\nHeim: Menziken II\nGast: Entfelden\n\nAdresse: Turnplatzstrasse\, 5737 Menziken\n
LOCATION:Turnplatzstrasse\, 5737 Menziken
CATEGORIES:Saison 2018/19
END:VEVENT
BEGIN:VEVENT
DTSTAMP:20260420T125515Z
DTSTART;TZID=Europe/Berlin:20181205T200000
DTEND;TZID=Europe/Berlin:20181205T230000
SUMMARY:HE 5. Liga Gr. 3 Menziken II vs Fortuna Hausen (0)
UID:2bc57e5f-02c8-4249-8aaf-1e734ce225d1
STATUS:CONFIRMED
LAST-MODIFIED:20181207T085613Z
DESCRIPTION:5. Liga Herren Gruppe 3\nBegegnungs-Nr: 0\nHeim: Menziken II\nGast: Fortuna Hausen\n\nAdresse: Turnplatzstrasse\, 5737 Menziken\n
LOCATION:Turnplatzstrasse\, 5737 Menziken
CATEGORIES:Saison 2018/19
END:VEVENT
BEGIN:VEVENT
DTSTAMP:20260420T125515Z
DTSTART;TZID=Europe/Berlin:20190129T201500
DTEND;TZID=Europe/Berlin:20190129T231500
SUMMARY:HE 5. Liga Gr. 3 Bremgarten IX vs Menziken II (0)
UID:2d933b9e-c19e-470d-b26b-99a4671a8e73
STATUS:CONFIRMED
LAST-MODIFIED:20190201T125112Z
DESCRIPTION:5. Liga Herren Gruppe 3\nBegegnungs-Nr: 0\nHeim: Bremgarten IX\nGast: Menziken II\n\nAdresse: Badstrasse 3\, 5620 Bremgarten\n
LOCATION:Badstrasse 3\, 5620 Bremgarten
CATEGORIES:Saison 2018/19
END:VEVENT
BEGIN:VEVENT
DTSTAMP:20260420T125515Z
DTSTART;TZID=Europe/Berlin:20190211T201500
DTEND;TZID=Europe/Berlin:20190211T231500
SUMMARY:HE 5. Liga Gr. 3 Entfelden vs Menziken II (0)
UID:2b8c2c2b-36d6-43dd-8c26-622fda39f39c
STATUS:CONFIRMED
LAST-MODIFIED:20190214T125717Z
DESCRIPTION:5. Liga Herren Gruppe 3\nBegegnungs-Nr: 0\nHeim: Entfelden\nGast: Menziken II\n\nAdresse: Erlenweg 12\, 5036 Oberentfelden\n
LOCATION:Erlenweg 12\, 5036 Oberentfelden
CATEGORIES:Saison 2018/19
END:VEVENT
BEGIN:VEVENT
DTSTAMP:20260420T125515Z
DTSTART;TZID=Europe/Berlin:20180821T200000
DTEND;TZID=Europe/Berlin:20180821T230000
SUMMARY:HE 5. Liga Gr. 3 Fortuna Hausen vs Menziken II (0)
UID:e9d88101-db92-4f34-9d05-98acdb3036da
STATUS:CONFIRMED
LAST-MODIFIED:20180828T113839Z
DESCRIPTION:5. Liga Herren Gruppe 3\nBegegnungs-Nr: 0\nHeim: Fortuna Hausen\nGast: Menziken II\n\nAdresse: Hauptstrasse 26\, 5212 Hausen AG\n
LOCATION:Hauptstrasse 26\, 5212 Hausen AG
CATEGORIES:Saison 2018/19
END:VEVENT
BEGIN:VEVENT
DTSTAMP:20260420T125515Z
DTSTART;TZID=Europe/Berlin:20181029T203000
DTEND;TZID=Europe/Berlin:20181029T233000
SUMMARY:HE 5. Liga Gr. 3 Oberrohrdorf III vs Menziken II (0)
UID:f7498c75-2d37-460c-957d-e3a092072372
STATUS:CONFIRMED
LAST-MODIFIED:20181101T131702Z
DESCRIPTION:5. Liga Herren Gruppe 3\nBegegnungs-Nr: 0\nHeim: Oberrohrdorf III\nGast: Menziken II\n\nAdresse: Hinterbächlistrasse\, 5452 Oberrohrdorf\n
LOCATION:Hinterbächlistrasse\, 5452 Oberrohrdorf
CATEGORIES:Saison 2018/19
END:VEVENT
BEGIN:VEVENT
DTSTAMP:20260420T125515Z
DTSTART;TZID=Europe/Berlin:20190108T193000
DTEND;TZID=Europe/Berlin:20190108T223000
SUMMARY:HE 5. Liga Gr. 3 Baden II vs Menziken II (0)
UID:a2213788-1cb7-4aba-8a8b-5aa692e776f9
STATUS:CONFIRMED
LAST-MODIFIED:20190114T093534Z
DESCRIPTION:5. Liga Herren Gruppe 3\nBegegnungs-Nr: 0\nHeim: Baden II\nGast: Menziken II\n\nAdresse: Wiesenstrasse 32 (Parkhaus Schmiede Fabrikstrasse)\, 5400 Baden\n
LOCATION:Wiesenstrasse 32 (Parkhaus Schmiede Fabrikstrasse)\, 5400 Baden
CATEGORIES:Saison 2018/19
END:VEVENT
BEGIN:VEVENT
DTSTAMP:20260420T125515Z
DTSTART;TZID=Europe/Berlin:20180924T200000
DTEND;TZID=Europe/Berlin:20180924T230000
SUMMARY:HE 5. Liga Gr. 3 Aarau V vs Menziken II (0)
UID:d4afb7b5-e614-47dd-8152-30a6f4adb439
STATUS:CONFIRMED
LAST-MODIFIED:20181002T083854Z
DESCRIPTION:5. Liga Herren Gruppe 3\nBegegnungs-Nr: 0\nHeim: Aarau V\nGast: Menziken II\n\nAdresse: Weltistrasse 20\, 5000 Aarau\n
LOCATION:Weltistrasse 20\, 5000 Aarau
CATEGORIES:Saison 2018/19
END:VEVENT
BEGIN:VEVENT
DTSTAMP:20260420T125515Z
DTSTART;TZID=Europe/Berlin:20181119T201500
DTEND;TZID=Europe/Berlin:20181119T231500
SUMMARY:HE 5. Liga Gr. 3 Brugg III vs Menziken II (0)
UID:d2128387-30d3-499d-b2ec-8b29355608de
STATUS:CONFIRMED
LAST-MODIFIED:20181123T093006Z
DESCRIPTION:5. Liga Herren Gruppe 3\nBegegnungs-Nr: 0\nHeim: Brugg III\nGast: Menziken II\n\nAdresse: Sommerhaldenstrasse 29\, 5200 Brugg/Lauffohr\n
LOCATION:Sommerhaldenstrasse 29\, 5200 Brugg/Lauffohr
CATEGORIES:Saison 2018/19
END:VEVENT
END:VCALENDAR
