BEGIN:VCALENDAR
PRODID:-//nuDatenautomaten//framework iCal4j //DE
VERSION:2.0
CALSCALE:GREGORIAN
BEGIN:VTIMEZONE
TZID:Europe/Berlin
LAST-MODIFIED:20260306T231828Z
TZURL:https://www.tzurl.org/zoneinfo/Europe/Berlin
X-LIC-LOCATION:Europe/Berlin
X-PROLEPTIC-TZNAME:LMT
BEGIN:STANDARD
TZNAME:CET
TZOFFSETFROM:+005328
TZOFFSETTO:+0100
DTSTART:18930401T000000
END:STANDARD
BEGIN:DAYLIGHT
TZNAME:CEST
TZOFFSETFROM:+0100
TZOFFSETTO:+0200
DTSTART:19160430T230000
RDATE:19400401T020000
RDATE:19430329T020000
RDATE:19460414T020000
RDATE:19470406T030000
RDATE:19480418T020000
RDATE:19490410T020000
RDATE:19800406T020000
END:DAYLIGHT
BEGIN:STANDARD
TZNAME:CET
TZOFFSETFROM:+0200
TZOFFSETTO:+0100
DTSTART:19161001T010000
RDATE:19421102T030000
RDATE:19431004T030000
RDATE:19441002T030000
RDATE:19451118T030000
RDATE:19461007T030000
END:STANDARD
BEGIN:DAYLIGHT
TZNAME:CEST
TZOFFSETFROM:+0100
TZOFFSETTO:+0200
DTSTART:19170416T020000
RRULE:FREQ=YEARLY;UNTIL=19180415T010000Z;BYMONTH=4;BYDAY=3MO
END:DAYLIGHT
BEGIN:STANDARD
TZNAME:CET
TZOFFSETFROM:+0200
TZOFFSETTO:+0100
DTSTART:19170917T030000
RRULE:FREQ=YEARLY;UNTIL=19180916T010000Z;BYMONTH=9;BYDAY=3MO
END:STANDARD
BEGIN:DAYLIGHT
TZNAME:CEST
TZOFFSETFROM:+0100
TZOFFSETTO:+0200
DTSTART:19440403T020000
RRULE:FREQ=YEARLY;UNTIL=19450402T010000Z;BYMONTH=4;BYDAY=1MO
END:DAYLIGHT
BEGIN:DAYLIGHT
TZNAME:CEMT
TZOFFSETFROM:+0200
TZOFFSETTO:+0300
DTSTART:19450524T020000
RDATE:19470511T030000
END:DAYLIGHT
BEGIN:DAYLIGHT
TZNAME:CEST
TZOFFSETFROM:+0300
TZOFFSETTO:+0200
DTSTART:19450924T030000
RDATE:19470629T030000
END:DAYLIGHT
BEGIN:STANDARD
TZNAME:CET
TZOFFSETFROM:+0100
TZOFFSETTO:+0100
DTSTART:19460101T000000
RDATE:19800101T000000
END:STANDARD
BEGIN:STANDARD
TZNAME:CET
TZOFFSETFROM:+0200
TZOFFSETTO:+0100
DTSTART:19471005T030000
RRULE:FREQ=YEARLY;UNTIL=19491002T010000Z;BYMONTH=10;BYDAY=1SU
END:STANDARD
BEGIN:STANDARD
TZNAME:CET
TZOFFSETFROM:+0200
TZOFFSETTO:+0100
DTSTART:19800928T030000
RRULE:FREQ=YEARLY;UNTIL=19950924T010000Z;BYMONTH=9;BYDAY=-1SU
END:STANDARD
BEGIN:DAYLIGHT
TZNAME:CEST
TZOFFSETFROM:+0100
TZOFFSETTO:+0200
DTSTART:19810329T020000
RRULE:FREQ=YEARLY;BYMONTH=3;BYDAY=-1SU
END:DAYLIGHT
BEGIN:STANDARD
TZNAME:CET
TZOFFSETFROM:+0200
TZOFFSETTO:+0100
DTSTART:19961027T030000
RRULE:FREQ=YEARLY;BYMONTH=10;BYDAY=-1SU
END:STANDARD
END:VTIMEZONE
BEGIN:VEVENT
DTSTAMP:20260421T215245Z
DTSTART;TZID=Europe/Berlin:20190402T200000
DTEND;TZID=Europe/Berlin:20190402T230000
SUMMARY:HE 4. Liga Gr. 5 Hindelbank II vs Langnau III (25)
UID:83246554-c5b7-43f0-8a24-a006cb54ae5f
STATUS:CONFIRMED
LAST-MODIFIED:20190404T171021Z
DESCRIPTION:4. Liga Herren Gruppe 5\nBegegnungs-Nr: 25\nHeim: Hindelbank II\nGast: Langnau III\n\nAdresse: Schulhausweg 8\, 3324 Hindelbank\n
LOCATION:Schulhausweg 8\, 3324 Hindelbank
CATEGORIES:Saison 2018/19
END:VEVENT
BEGIN:VEVENT
DTSTAMP:20260421T215245Z
DTSTART;TZID=Europe/Berlin:20190319T200000
DTEND;TZID=Europe/Berlin:20190319T230000
SUMMARY:HE 4. Liga Gr. 5 Hindelbank II vs Bern VII (22)
UID:07182f18-2f99-4c10-8a0f-0ddf4406fe95
STATUS:CONFIRMED
LAST-MODIFIED:20190320T194517Z
DESCRIPTION:4. Liga Herren Gruppe 5\nBegegnungs-Nr: 22\nHeim: Hindelbank II\nGast: Bern VII\n\nAdresse: Schulhausweg 8\, 3324 Hindelbank\n
LOCATION:Schulhausweg 8\, 3324 Hindelbank
CATEGORIES:Saison 2018/19
END:VEVENT
BEGIN:VEVENT
DTSTAMP:20260421T215245Z
DTSTART;TZID=Europe/Berlin:20190219T200000
DTEND;TZID=Europe/Berlin:20190219T230000
SUMMARY:HE 4. Liga Gr. 5 Hindelbank II vs Regio Moossee (14)
UID:87b7de47-a979-4805-a253-c4dc109761e7
STATUS:CONFIRMED
LAST-MODIFIED:20190221T174323Z
DESCRIPTION:4. Liga Herren Gruppe 5\nBegegnungs-Nr: 14\nHeim: Hindelbank II\nGast: Regio Moossee\n\nAdresse: Schulhausweg 8\, 3324 Hindelbank\n
LOCATION:Schulhausweg 8\, 3324 Hindelbank
CATEGORIES:Saison 2018/19
END:VEVENT
BEGIN:VEVENT
DTSTAMP:20260421T215245Z
DTSTART;TZID=Europe/Berlin:20190125T200000
DTEND;TZID=Europe/Berlin:20190125T230000
SUMMARY:HE 4. Liga Gr. 5 Hindelbank II vs Burgdorf VI (6)
UID:7c56de38-e9e2-4506-a0ef-7ad5c8114dee
STATUS:CONFIRMED
LAST-MODIFIED:20190127T072107Z
DESCRIPTION:4. Liga Herren Gruppe 5\nBegegnungs-Nr: 6\nHeim: Hindelbank II\nGast: Burgdorf VI\n\nAdresse: Schulhausweg 8\, 3324 Hindelbank\n
LOCATION:Schulhausweg 8\, 3324 Hindelbank
CATEGORIES:Saison 2018/19
END:VEVENT
BEGIN:VEVENT
DTSTAMP:20260421T215245Z
DTSTART;TZID=Europe/Berlin:20180831T200000
DTEND;TZID=Europe/Berlin:20180831T230000
SUMMARY:HE 4. Liga Gr. 5 Hindelbank II vs Grauholz II (2)
UID:9607637b-7d9a-404a-9ace-f4d49143b237
STATUS:CONFIRMED
LAST-MODIFIED:20180901T120918Z
DESCRIPTION:4. Liga Herren Gruppe 5\nBegegnungs-Nr: 2\nHeim: Hindelbank II\nGast: Grauholz II\n\nAdresse: Schulhausweg 8\, 3324 Hindelbank\n
LOCATION:Schulhausweg 8\, 3324 Hindelbank
CATEGORIES:Saison 2018/19
END:VEVENT
BEGIN:VEVENT
DTSTAMP:20260421T215245Z
DTSTART;TZID=Europe/Berlin:20181019T200000
DTEND;TZID=Europe/Berlin:20181019T230000
SUMMARY:HE 4. Liga Gr. 5 Hindelbank II vs Stettlen II (10)
UID:f55f85bb-cc90-4a56-87af-23fc7fef7d87
STATUS:CONFIRMED
LAST-MODIFIED:20181021T130119Z
DESCRIPTION:4. Liga Herren Gruppe 5\nBegegnungs-Nr: 10\nHeim: Hindelbank II\nGast: Stettlen II\n\nAdresse: Schulhausweg 8\, 3324 Hindelbank\n
LOCATION:Schulhausweg 8\, 3324 Hindelbank
CATEGORIES:Saison 2018/19
END:VEVENT
BEGIN:VEVENT
DTSTAMP:20260421T215245Z
DTSTART;TZID=Europe/Berlin:20181116T200000
DTEND;TZID=Europe/Berlin:20181116T230000
SUMMARY:HE 4. Liga Gr. 5 Hindelbank II vs Münchenbuchsee IV (18)
UID:1a5ec38f-77b3-4369-abd1-068aa46081df
STATUS:CONFIRMED
LAST-MODIFIED:20181117T084103Z
DESCRIPTION:4. Liga Herren Gruppe 5\nBegegnungs-Nr: 18\nHeim: Hindelbank II\nGast: Münchenbuchsee IV\n\nAdresse: Schulhausweg 8\, 3324 Hindelbank\n
LOCATION:Schulhausweg 8\, 3324 Hindelbank
CATEGORIES:Saison 2018/19
END:VEVENT
BEGIN:VEVENT
DTSTAMP:20260421T215245Z
DTSTART;TZID=Europe/Berlin:20180914T193000
DTEND;TZID=Europe/Berlin:20180914T223000
SUMMARY:HE 4. Liga Gr. 5 Burgdorf VI vs Hindelbank II (6)
UID:1cff185d-291c-46a4-8a89-ffd468e23b16
STATUS:CONFIRMED
LAST-MODIFIED:20180916T025654Z
DESCRIPTION:4. Liga Herren Gruppe 5\nBegegnungs-Nr: 6\nHeim: Burgdorf VI\nGast: Hindelbank II\n\nAdresse: Pestalozzistrasse 69\, 3400 Burgdorf\n
LOCATION:Pestalozzistrasse 69\, 3400 Burgdorf
CATEGORIES:Saison 2018/19
END:VEVENT
BEGIN:VEVENT
DTSTAMP:20260421T215245Z
DTSTART;TZID=Europe/Berlin:20190308T193000
DTEND;TZID=Europe/Berlin:20190308T223000
SUMMARY:HE 4. Liga Gr. 5 Münchenbuchsee IV vs Hindelbank II (18)
UID:2d268c04-52cd-4273-bf4d-badd07b24d44
STATUS:CONFIRMED
LAST-MODIFIED:20190310T091956Z
DESCRIPTION:4. Liga Herren Gruppe 5\nBegegnungs-Nr: 18\nHeim: Münchenbuchsee IV\nGast: Hindelbank II\n\nAdresse: Laubbergweg 41\, 3053 Münchenbuchsee\n
LOCATION:Laubbergweg 41\, 3053 Münchenbuchsee
CATEGORIES:Saison 2018/19
END:VEVENT
BEGIN:VEVENT
DTSTAMP:20260421T215245Z
DTSTART;TZID=Europe/Berlin:20190111T200000
DTEND;TZID=Europe/Berlin:20190111T230000
SUMMARY:HE 4. Liga Gr. 5 Grauholz II vs Hindelbank II (2)
UID:129161b9-0a66-4c5c-b2e9-882fdb2c452f
STATUS:CONFIRMED
LAST-MODIFIED:20190115T185635Z
DESCRIPTION:4. Liga Herren Gruppe 5\nBegegnungs-Nr: 2\nHeim: Grauholz II\nGast: Hindelbank II\n\nAdresse: Schulhausweg 8\, 3324 Hindelbank\n
LOCATION:Schulhausweg 8\, 3324 Hindelbank
CATEGORIES:Saison 2018/19
END:VEVENT
BEGIN:VEVENT
DTSTAMP:20260421T215245Z
DTSTART;TZID=Europe/Berlin:20181206T200000
DTEND;TZID=Europe/Berlin:20181206T230000
SUMMARY:HE 4. Liga Gr. 5 Langnau III vs Hindelbank II (25)
UID:433e965d-6fc3-415e-9a52-d6d95d30fb94
STATUS:CONFIRMED
LAST-MODIFIED:20181208T071644Z
DESCRIPTION:4. Liga Herren Gruppe 5\nBegegnungs-Nr: 25\nHeim: Langnau III\nGast: Hindelbank II\n\nAdresse: Bleicheweg 11\, 3550 Langnau\n
LOCATION:Bleicheweg 11\, 3550 Langnau
CATEGORIES:Saison 2018/19
END:VEVENT
BEGIN:VEVENT
DTSTAMP:20260421T215245Z
DTSTART;TZID=Europe/Berlin:20181130T193000
DTEND;TZID=Europe/Berlin:20181130T223000
SUMMARY:HE 4. Liga Gr. 5 Bern VII vs Hindelbank II (22)
UID:a9cbefe0-5204-4b68-9dea-3685ec1f6f10
STATUS:CONFIRMED
LAST-MODIFIED:20181201T201512Z
DESCRIPTION:4. Liga Herren Gruppe 5\nBegegnungs-Nr: 22\nHeim: Bern VII\nGast: Hindelbank II\n\nAdresse: Papiermühlestrasse 81\, 3014 Bern\n
LOCATION:Papiermühlestrasse 81\, 3014 Bern
CATEGORIES:Saison 2018/19
END:VEVENT
BEGIN:VEVENT
DTSTAMP:20260421T215245Z
DTSTART;TZID=Europe/Berlin:20181030T200000
DTEND;TZID=Europe/Berlin:20181030T230000
SUMMARY:HE 4. Liga Gr. 5 Regio Moossee vs Hindelbank II (14)
UID:dcca2fb3-e6fd-48b3-8266-5a0b8688a55e
STATUS:CONFIRMED
LAST-MODIFIED:20181031T181651Z
DESCRIPTION:4. Liga Herren Gruppe 5\nBegegnungs-Nr: 14\nHeim: Regio Moossee\nGast: Hindelbank II\n\nAdresse: Schulhausstrasse 23-25\, 3302 Moosseedorf\n
LOCATION:Schulhausstrasse 23-25\, 3302 Moosseedorf
CATEGORIES:Saison 2018/19
END:VEVENT
BEGIN:VEVENT
DTSTAMP:20260421T215245Z
DTSTART;TZID=Europe/Berlin:20190213T200000
DTEND;TZID=Europe/Berlin:20190213T230000
SUMMARY:HE 4. Liga Gr. 5 Stettlen II vs Hindelbank II (10)
UID:fc42576a-14ea-40da-9353-105c7dcc6e30
STATUS:CONFIRMED
LAST-MODIFIED:20190214T192715Z
DESCRIPTION:4. Liga Herren Gruppe 5\nBegegnungs-Nr: 10\nHeim: Stettlen II\nGast: Hindelbank II\n\nAdresse: Bernstrasse 45\, 3066 Stettlen\n
LOCATION:Bernstrasse 45\, 3066 Stettlen
CATEGORIES:Saison 2018/19
END:VEVENT
END:VCALENDAR
