BEGIN:VCALENDAR
PRODID:-//nuDatenautomaten//framework iCal4j //DE
VERSION:2.0
CALSCALE:GREGORIAN
BEGIN:VTIMEZONE
TZID:Europe/Berlin
LAST-MODIFIED:20260306T231828Z
TZURL:https://www.tzurl.org/zoneinfo/Europe/Berlin
X-LIC-LOCATION:Europe/Berlin
X-PROLEPTIC-TZNAME:LMT
BEGIN:STANDARD
TZNAME:CET
TZOFFSETFROM:+005328
TZOFFSETTO:+0100
DTSTART:18930401T000000
END:STANDARD
BEGIN:DAYLIGHT
TZNAME:CEST
TZOFFSETFROM:+0100
TZOFFSETTO:+0200
DTSTART:19160430T230000
RDATE:19400401T020000
RDATE:19430329T020000
RDATE:19460414T020000
RDATE:19470406T030000
RDATE:19480418T020000
RDATE:19490410T020000
RDATE:19800406T020000
END:DAYLIGHT
BEGIN:STANDARD
TZNAME:CET
TZOFFSETFROM:+0200
TZOFFSETTO:+0100
DTSTART:19161001T010000
RDATE:19421102T030000
RDATE:19431004T030000
RDATE:19441002T030000
RDATE:19451118T030000
RDATE:19461007T030000
END:STANDARD
BEGIN:DAYLIGHT
TZNAME:CEST
TZOFFSETFROM:+0100
TZOFFSETTO:+0200
DTSTART:19170416T020000
RRULE:FREQ=YEARLY;UNTIL=19180415T010000Z;BYMONTH=4;BYDAY=3MO
END:DAYLIGHT
BEGIN:STANDARD
TZNAME:CET
TZOFFSETFROM:+0200
TZOFFSETTO:+0100
DTSTART:19170917T030000
RRULE:FREQ=YEARLY;UNTIL=19180916T010000Z;BYMONTH=9;BYDAY=3MO
END:STANDARD
BEGIN:DAYLIGHT
TZNAME:CEST
TZOFFSETFROM:+0100
TZOFFSETTO:+0200
DTSTART:19440403T020000
RRULE:FREQ=YEARLY;UNTIL=19450402T010000Z;BYMONTH=4;BYDAY=1MO
END:DAYLIGHT
BEGIN:DAYLIGHT
TZNAME:CEMT
TZOFFSETFROM:+0200
TZOFFSETTO:+0300
DTSTART:19450524T020000
RDATE:19470511T030000
END:DAYLIGHT
BEGIN:DAYLIGHT
TZNAME:CEST
TZOFFSETFROM:+0300
TZOFFSETTO:+0200
DTSTART:19450924T030000
RDATE:19470629T030000
END:DAYLIGHT
BEGIN:STANDARD
TZNAME:CET
TZOFFSETFROM:+0100
TZOFFSETTO:+0100
DTSTART:19460101T000000
RDATE:19800101T000000
END:STANDARD
BEGIN:STANDARD
TZNAME:CET
TZOFFSETFROM:+0200
TZOFFSETTO:+0100
DTSTART:19471005T030000
RRULE:FREQ=YEARLY;UNTIL=19491002T010000Z;BYMONTH=10;BYDAY=1SU
END:STANDARD
BEGIN:STANDARD
TZNAME:CET
TZOFFSETFROM:+0200
TZOFFSETTO:+0100
DTSTART:19800928T030000
RRULE:FREQ=YEARLY;UNTIL=19950924T010000Z;BYMONTH=9;BYDAY=-1SU
END:STANDARD
BEGIN:DAYLIGHT
TZNAME:CEST
TZOFFSETFROM:+0100
TZOFFSETTO:+0200
DTSTART:19810329T020000
RRULE:FREQ=YEARLY;BYMONTH=3;BYDAY=-1SU
END:DAYLIGHT
BEGIN:STANDARD
TZNAME:CET
TZOFFSETFROM:+0200
TZOFFSETTO:+0100
DTSTART:19961027T030000
RRULE:FREQ=YEARLY;BYMONTH=10;BYDAY=-1SU
END:STANDARD
END:VTIMEZONE
BEGIN:VEVENT
DTSTAMP:20260421T203921Z
DTSTART;TZID=Europe/Berlin:20190109T194500
DTEND;TZID=Europe/Berlin:20190109T224500
SUMMARY:O40 1. Liga Münchenbuchsee vs Port (3)
UID:7e52e2f8-ad2b-4c11-9e9e-d8f9669b8e45
STATUS:CONFIRMED
LAST-MODIFIED:20190115T185906Z
DESCRIPTION:1. Liga O40 Gruppe 1\nBegegnungs-Nr: 3\nHeim: Münchenbuchsee\nGast: Port\n\nAdresse: Laubbergweg 41\, 3053 Münchenbuchsee\n
LOCATION:Laubbergweg 41\, 3053 Münchenbuchsee
CATEGORIES:Saison 2018/19
END:VEVENT
BEGIN:VEVENT
DTSTAMP:20260421T203921Z
DTSTART;TZID=Europe/Berlin:20181114T194500
DTEND;TZID=Europe/Berlin:20181114T224500
SUMMARY:O40 1. Liga Münchenbuchsee vs Burgdorf (20)
UID:3c742154-3e48-4d8e-a944-7cdb222b77c9
STATUS:CONFIRMED
LAST-MODIFIED:20181115T183245Z
DESCRIPTION:1. Liga O40 Gruppe 1\nBegegnungs-Nr: 20\nHeim: Münchenbuchsee\nGast: Burgdorf\n\nAdresse: Laubbergweg 41\, 3053 Münchenbuchsee\n
LOCATION:Laubbergweg 41\, 3053 Münchenbuchsee
CATEGORIES:Saison 2018/19
END:VEVENT
BEGIN:VEVENT
DTSTAMP:20260421T203921Z
DTSTART;TZID=Europe/Berlin:20190227T194500
DTEND;TZID=Europe/Berlin:20190227T224500
SUMMARY:O40 1. Liga Münchenbuchsee vs Burgdorf II (9)
UID:1b4dff60-0b50-43f1-ae4c-e5f763c8a4c9
STATUS:CONFIRMED
LAST-MODIFIED:20190301T222838Z
DESCRIPTION:1. Liga O40 Gruppe 1\nBegegnungs-Nr: 9\nHeim: Münchenbuchsee\nGast: Burgdorf II\n\nAdresse: Laubbergweg 41\, 3053 Münchenbuchsee\n
LOCATION:Laubbergweg 41\, 3053 Münchenbuchsee
CATEGORIES:Saison 2018/19
END:VEVENT
BEGIN:VEVENT
DTSTAMP:20260421T203921Z
DTSTART;TZID=Europe/Berlin:20181031T194500
DTEND;TZID=Europe/Berlin:20181031T224500
SUMMARY:O40 1. Liga Münchenbuchsee vs Langnau (14)
UID:21182ab9-9f33-475b-8366-16fcff80a794
STATUS:CONFIRMED
LAST-MODIFIED:20181102T212511Z
DESCRIPTION:1. Liga O40 Gruppe 1\nBegegnungs-Nr: 14\nHeim: Münchenbuchsee\nGast: Langnau\n\nAdresse: Laubbergweg 41\, 3053 Münchenbuchsee\n
LOCATION:Laubbergweg 41\, 3053 Münchenbuchsee
CATEGORIES:Saison 2018/19
END:VEVENT
BEGIN:VEVENT
DTSTAMP:20260421T203921Z
DTSTART;TZID=Europe/Berlin:20180919T194500
DTEND;TZID=Europe/Berlin:20180919T224500
SUMMARY:O40 1. Liga Münchenbuchsee vs Aarberg (8)
UID:27fed7d3-b28e-4160-bdac-3d339c6ba160
STATUS:CONFIRMED
LAST-MODIFIED:20180921T001450Z
DESCRIPTION:1. Liga O40 Gruppe 1\nBegegnungs-Nr: 8\nHeim: Münchenbuchsee\nGast: Aarberg\n\nAdresse: Laubbergweg 41\, 3053 Münchenbuchsee\n
LOCATION:Laubbergweg 41\, 3053 Münchenbuchsee
CATEGORIES:Saison 2018/19
END:VEVENT
BEGIN:VEVENT
DTSTAMP:20260421T203921Z
DTSTART;TZID=Europe/Berlin:20190412T193000
DTEND;TZID=Europe/Berlin:20190412T223000
SUMMARY:O40 1. Liga Münchenbuchsee vs Ostermundigen (27)
UID:e6f37c17-649f-49ad-b8fe-42d804d091d9
STATUS:CONFIRMED
LAST-MODIFIED:20190413T085443Z
DESCRIPTION:1. Liga O40 Gruppe 1\nBegegnungs-Nr: 27\nHeim: Münchenbuchsee\nGast: Ostermundigen\n\nAdresse: Laubbergweg 41\, 3053 Münchenbuchsee\n
LOCATION:Laubbergweg 41\, 3053 Münchenbuchsee
CATEGORIES:Saison 2018/19
END:VEVENT
BEGIN:VEVENT
DTSTAMP:20260421T203921Z
DTSTART;TZID=Europe/Berlin:20190410T194500
DTEND;TZID=Europe/Berlin:20190410T224500
SUMMARY:O40 1. Liga Münchenbuchsee vs Solothurn (24)
UID:258557d2-ac42-4d42-8833-9c39b66e5dc6
STATUS:CONFIRMED
LAST-MODIFIED:20190411T171812Z
DESCRIPTION:1. Liga O40 Gruppe 1\nBegegnungs-Nr: 24\nHeim: Münchenbuchsee\nGast: Solothurn\n\nAdresse: Laubbergweg 41\, 3053 Münchenbuchsee\n
LOCATION:Laubbergweg 41\, 3053 Münchenbuchsee
CATEGORIES:Saison 2018/19
END:VEVENT
BEGIN:VEVENT
DTSTAMP:20260421T203921Z
DTSTART;TZID=Europe/Berlin:20181123T200000
DTEND;TZID=Europe/Berlin:20181123T230000
SUMMARY:O40 1. Liga Solothurn vs Münchenbuchsee (24)
UID:78c7f78d-382a-41d5-ab60-a4eb16f8429f
STATUS:CONFIRMED
LAST-MODIFIED:20181127T154710Z
DESCRIPTION:1. Liga O40 Gruppe 1\nBegegnungs-Nr: 24\nHeim: Solothurn\nGast: Münchenbuchsee\n\nAdresse: Untere Sternengasse 24\, 4500 Solothurn\n
LOCATION:Untere Sternengasse 24\, 4500 Solothurn
CATEGORIES:Saison 2018/19
END:VEVENT
BEGIN:VEVENT
DTSTAMP:20260421T203921Z
DTSTART;TZID=Europe/Berlin:20180914T193000
DTEND;TZID=Europe/Berlin:20180914T223000
SUMMARY:O40 1. Liga Burgdorf II vs Münchenbuchsee (9)
UID:13406bc8-15e1-4257-9960-ccf7455c8ef8
STATUS:CONFIRMED
LAST-MODIFIED:20180917T031939Z
DESCRIPTION:1. Liga O40 Gruppe 1\nBegegnungs-Nr: 9\nHeim: Burgdorf II\nGast: Münchenbuchsee\n\nAdresse: Pestalozzistrasse 69\, 3400 Burgdorf\n
LOCATION:Pestalozzistrasse 69\, 3400 Burgdorf
CATEGORIES:Saison 2018/19
END:VEVENT
BEGIN:VEVENT
DTSTAMP:20260421T203921Z
DTSTART;TZID=Europe/Berlin:20180911T194500
DTEND;TZID=Europe/Berlin:20180911T224500
SUMMARY:O40 1. Liga Port vs Münchenbuchsee (3)
UID:f04fa12f-77b5-490a-82ed-bf8f55a14184
STATUS:CONFIRMED
LAST-MODIFIED:20180913T024807Z
DESCRIPTION:1. Liga O40 Gruppe 1\nBegegnungs-Nr: 3\nHeim: Port\nGast: Münchenbuchsee\n\nAdresse: Allmendstrasse 23\, 2562 Port\n
LOCATION:Allmendstrasse 23\, 2562 Port
CATEGORIES:Saison 2018/19
END:VEVENT
BEGIN:VEVENT
DTSTAMP:20260421T203921Z
DTSTART;TZID=Europe/Berlin:20190309T140000
DTEND;TZID=Europe/Berlin:20190309T170000
SUMMARY:O40 1. Liga Langnau vs Münchenbuchsee (14)
UID:303d1310-37f8-49e6-a653-380038bb31c9
STATUS:CONFIRMED
LAST-MODIFIED:20190310T092256Z
DESCRIPTION:1. Liga O40 Gruppe 1\nBegegnungs-Nr: 14\nHeim: Langnau\nGast: Münchenbuchsee\n\nAdresse: Bleicheweg 11\, 3550 Langnau\n
LOCATION:Bleicheweg 11\, 3550 Langnau
CATEGORIES:Saison 2018/19
END:VEVENT
BEGIN:VEVENT
DTSTAMP:20260421T203921Z
DTSTART;TZID=Europe/Berlin:20190123T201500
DTEND;TZID=Europe/Berlin:20190123T231500
SUMMARY:O40 1. Liga Aarberg vs Münchenbuchsee (8)
UID:be20c61a-c59c-4b3f-9de1-1d41c20f3901
STATUS:CONFIRMED
LAST-MODIFIED:20190124T194428Z
DESCRIPTION:1. Liga O40 Gruppe 1\nBegegnungs-Nr: 8\nHeim: Aarberg\nGast: Münchenbuchsee\n\nAdresse: Nidaustrasse 7\, 3270 Aarberg\n
LOCATION:Nidaustrasse 7\, 3270 Aarberg
CATEGORIES:Saison 2018/19
END:VEVENT
BEGIN:VEVENT
DTSTAMP:20260421T203921Z
DTSTART;TZID=Europe/Berlin:20190308T193000
DTEND;TZID=Europe/Berlin:20190308T223000
SUMMARY:O40 1. Liga Burgdorf vs Münchenbuchsee (20)
UID:70ae4ae1-ac82-4f48-aea1-fcf59aeb6df2
STATUS:CONFIRMED
LAST-MODIFIED:20190310T092236Z
DESCRIPTION:1. Liga O40 Gruppe 1\nBegegnungs-Nr: 20\nHeim: Burgdorf\nGast: Münchenbuchsee\n\nAdresse: Pestalozzistrasse 69\, 3400 Burgdorf\n
LOCATION:Pestalozzistrasse 69\, 3400 Burgdorf
CATEGORIES:Saison 2018/19
END:VEVENT
BEGIN:VEVENT
DTSTAMP:20260421T203921Z
DTSTART;TZID=Europe/Berlin:20181211T201000
DTEND;TZID=Europe/Berlin:20181211T231000
SUMMARY:O40 1. Liga Ostermundigen vs Münchenbuchsee (27)
UID:d5901e68-f60b-4490-b6e4-bdaef50d374f
STATUS:CONFIRMED
LAST-MODIFIED:20181213T162450Z
DESCRIPTION:1. Liga O40 Gruppe 1\nBegegnungs-Nr: 27\nHeim: Ostermundigen\nGast: Münchenbuchsee\n\nAdresse: Dennigkofenweg 169\, 3072 Ostermundigen\n
LOCATION:Dennigkofenweg 169\, 3072 Ostermundigen
CATEGORIES:Saison 2018/19
END:VEVENT
END:VCALENDAR
