BEGIN:VCALENDAR
PRODID:-//nuDatenautomaten//framework iCal4j //DE
VERSION:2.0
CALSCALE:GREGORIAN
BEGIN:VTIMEZONE
TZID:Europe/Berlin
LAST-MODIFIED:20260306T231828Z
TZURL:https://www.tzurl.org/zoneinfo/Europe/Berlin
X-LIC-LOCATION:Europe/Berlin
X-PROLEPTIC-TZNAME:LMT
BEGIN:STANDARD
TZNAME:CET
TZOFFSETFROM:+005328
TZOFFSETTO:+0100
DTSTART:18930401T000000
END:STANDARD
BEGIN:DAYLIGHT
TZNAME:CEST
TZOFFSETFROM:+0100
TZOFFSETTO:+0200
DTSTART:19160430T230000
RDATE:19400401T020000
RDATE:19430329T020000
RDATE:19460414T020000
RDATE:19470406T030000
RDATE:19480418T020000
RDATE:19490410T020000
RDATE:19800406T020000
END:DAYLIGHT
BEGIN:STANDARD
TZNAME:CET
TZOFFSETFROM:+0200
TZOFFSETTO:+0100
DTSTART:19161001T010000
RDATE:19421102T030000
RDATE:19431004T030000
RDATE:19441002T030000
RDATE:19451118T030000
RDATE:19461007T030000
END:STANDARD
BEGIN:DAYLIGHT
TZNAME:CEST
TZOFFSETFROM:+0100
TZOFFSETTO:+0200
DTSTART:19170416T020000
RRULE:FREQ=YEARLY;UNTIL=19180415T010000Z;BYMONTH=4;BYDAY=3MO
END:DAYLIGHT
BEGIN:STANDARD
TZNAME:CET
TZOFFSETFROM:+0200
TZOFFSETTO:+0100
DTSTART:19170917T030000
RRULE:FREQ=YEARLY;UNTIL=19180916T010000Z;BYMONTH=9;BYDAY=3MO
END:STANDARD
BEGIN:DAYLIGHT
TZNAME:CEST
TZOFFSETFROM:+0100
TZOFFSETTO:+0200
DTSTART:19440403T020000
RRULE:FREQ=YEARLY;UNTIL=19450402T010000Z;BYMONTH=4;BYDAY=1MO
END:DAYLIGHT
BEGIN:DAYLIGHT
TZNAME:CEMT
TZOFFSETFROM:+0200
TZOFFSETTO:+0300
DTSTART:19450524T020000
RDATE:19470511T030000
END:DAYLIGHT
BEGIN:DAYLIGHT
TZNAME:CEST
TZOFFSETFROM:+0300
TZOFFSETTO:+0200
DTSTART:19450924T030000
RDATE:19470629T030000
END:DAYLIGHT
BEGIN:STANDARD
TZNAME:CET
TZOFFSETFROM:+0100
TZOFFSETTO:+0100
DTSTART:19460101T000000
RDATE:19800101T000000
END:STANDARD
BEGIN:STANDARD
TZNAME:CET
TZOFFSETFROM:+0200
TZOFFSETTO:+0100
DTSTART:19471005T030000
RRULE:FREQ=YEARLY;UNTIL=19491002T010000Z;BYMONTH=10;BYDAY=1SU
END:STANDARD
BEGIN:STANDARD
TZNAME:CET
TZOFFSETFROM:+0200
TZOFFSETTO:+0100
DTSTART:19800928T030000
RRULE:FREQ=YEARLY;UNTIL=19950924T010000Z;BYMONTH=9;BYDAY=-1SU
END:STANDARD
BEGIN:DAYLIGHT
TZNAME:CEST
TZOFFSETFROM:+0100
TZOFFSETTO:+0200
DTSTART:19810329T020000
RRULE:FREQ=YEARLY;BYMONTH=3;BYDAY=-1SU
END:DAYLIGHT
BEGIN:STANDARD
TZNAME:CET
TZOFFSETFROM:+0200
TZOFFSETTO:+0100
DTSTART:19961027T030000
RRULE:FREQ=YEARLY;BYMONTH=10;BYDAY=-1SU
END:STANDARD
END:VTIMEZONE
BEGIN:VEVENT
DTSTAMP:20260421T203927Z
DTSTART;TZID=Europe/Berlin:20181130T194500
DTEND;TZID=Europe/Berlin:20181130T224500
SUMMARY:O40 1. Liga Aarberg vs Langnau (22)
UID:5851e6f0-9ec7-407d-a46f-2cfed1aa533f
STATUS:CONFIRMED
LAST-MODIFIED:20181201T201549Z
DESCRIPTION:1. Liga O40 Gruppe 1\nBegegnungs-Nr: 22\nHeim: Aarberg\nGast: Langnau\n\nAdresse: Nidaustrasse 7\, 3270 Aarberg\n
LOCATION:Nidaustrasse 7\, 3270 Aarberg
CATEGORIES:Saison 2018/19
END:VEVENT
BEGIN:VEVENT
DTSTAMP:20260421T203927Z
DTSTART;TZID=Europe/Berlin:20181010T201500
DTEND;TZID=Europe/Berlin:20181010T231500
SUMMARY:O40 1. Liga Aarberg vs Solothurn (4)
UID:d714064c-1192-4b5b-862b-327ee65600c6
STATUS:CONFIRMED
LAST-MODIFIED:20181011T175708Z
DESCRIPTION:1. Liga O40 Gruppe 1\nBegegnungs-Nr: 4\nHeim: Aarberg\nGast: Solothurn\n\nAdresse: Nidaustrasse 7\, 3270 Aarberg\n
LOCATION:Nidaustrasse 7\, 3270 Aarberg
CATEGORIES:Saison 2018/19
END:VEVENT
BEGIN:VEVENT
DTSTAMP:20260421T203927Z
DTSTART;TZID=Europe/Berlin:20190405T194500
DTEND;TZID=Europe/Berlin:20190405T224500
SUMMARY:O40 1. Liga Aarberg vs Port (26)
UID:7bc3e013-3bad-40fb-8c47-2346dfce24f7
STATUS:CONFIRMED
LAST-MODIFIED:20190406T080513Z
DESCRIPTION:1. Liga O40 Gruppe 1\nBegegnungs-Nr: 26\nHeim: Aarberg\nGast: Port\n\nAdresse: Nidaustrasse 7\, 3270 Aarberg\n
LOCATION:Nidaustrasse 7\, 3270 Aarberg
CATEGORIES:Saison 2018/19
END:VEVENT
BEGIN:VEVENT
DTSTAMP:20260421T203927Z
DTSTART;TZID=Europe/Berlin:20190313T201500
DTEND;TZID=Europe/Berlin:20190313T231500
SUMMARY:O40 1. Liga Aarberg vs Burgdorf II (17)
UID:809858d8-1084-4f01-87bb-b5cff103d0db
STATUS:CONFIRMED
LAST-MODIFIED:20190315T230206Z
DESCRIPTION:1. Liga O40 Gruppe 1\nBegegnungs-Nr: 17\nHeim: Aarberg\nGast: Burgdorf II\n\nAdresse: Nidaustrasse 7\, 3270 Aarberg\n
LOCATION:Nidaustrasse 7\, 3270 Aarberg
CATEGORIES:Saison 2018/19
END:VEVENT
BEGIN:VEVENT
DTSTAMP:20260421T203927Z
DTSTART;TZID=Europe/Berlin:20190123T201500
DTEND;TZID=Europe/Berlin:20190123T231500
SUMMARY:O40 1. Liga Aarberg vs Münchenbuchsee (8)
UID:be20c61a-c59c-4b3f-9de1-1d41c20f3901
STATUS:CONFIRMED
LAST-MODIFIED:20190124T194428Z
DESCRIPTION:1. Liga O40 Gruppe 1\nBegegnungs-Nr: 8\nHeim: Aarberg\nGast: Münchenbuchsee\n\nAdresse: Nidaustrasse 7\, 3270 Aarberg\n
LOCATION:Nidaustrasse 7\, 3270 Aarberg
CATEGORIES:Saison 2018/19
END:VEVENT
BEGIN:VEVENT
DTSTAMP:20260421T203927Z
DTSTART;TZID=Europe/Berlin:20181024T201500
DTEND;TZID=Europe/Berlin:20181024T231500
SUMMARY:O40 1. Liga Aarberg vs Ostermundigen (12)
UID:d4bb4846-2997-44b7-8b29-6c9b1a0328fa
STATUS:CONFIRMED
LAST-MODIFIED:20181025T151126Z
DESCRIPTION:1. Liga O40 Gruppe 1\nBegegnungs-Nr: 12\nHeim: Aarberg\nGast: Ostermundigen\n\nAdresse: Nidaustrasse 7\, 3270 Aarberg\n
LOCATION:Nidaustrasse 7\, 3270 Aarberg
CATEGORIES:Saison 2018/19
END:VEVENT
BEGIN:VEVENT
DTSTAMP:20260421T203927Z
DTSTART;TZID=Europe/Berlin:20190306T201500
DTEND;TZID=Europe/Berlin:20190306T231500
SUMMARY:O40 1. Liga Aarberg vs Burgdorf (16)
UID:b3475f8c-6621-4b06-a15f-a8905f4a34af
STATUS:CONFIRMED
LAST-MODIFIED:20190308T182038Z
DESCRIPTION:1. Liga O40 Gruppe 1\nBegegnungs-Nr: 16\nHeim: Aarberg\nGast: Burgdorf\n\nAdresse: Nidaustrasse 7\, 3270 Aarberg\n
LOCATION:Nidaustrasse 7\, 3270 Aarberg
CATEGORIES:Saison 2018/19
END:VEVENT
BEGIN:VEVENT
DTSTAMP:20260421T203927Z
DTSTART;TZID=Europe/Berlin:20181211T194500
DTEND;TZID=Europe/Berlin:20181211T224500
SUMMARY:O40 1. Liga Port vs Aarberg (26)
UID:8197e55d-155a-4437-b646-a0107649ab22
STATUS:CONFIRMED
LAST-MODIFIED:20181213T162437Z
DESCRIPTION:1. Liga O40 Gruppe 1\nBegegnungs-Nr: 26\nHeim: Port\nGast: Aarberg\n\nAdresse: Allmendstrasse 23\, 2562 Port\n
LOCATION:Allmendstrasse 23\, 2562 Port
CATEGORIES:Saison 2018/19
END:VEVENT
BEGIN:VEVENT
DTSTAMP:20260421T203927Z
DTSTART;TZID=Europe/Berlin:20180919T194500
DTEND;TZID=Europe/Berlin:20180919T224500
SUMMARY:O40 1. Liga Münchenbuchsee vs Aarberg (8)
UID:27fed7d3-b28e-4160-bdac-3d339c6ba160
STATUS:CONFIRMED
LAST-MODIFIED:20180921T001450Z
DESCRIPTION:1. Liga O40 Gruppe 1\nBegegnungs-Nr: 8\nHeim: Münchenbuchsee\nGast: Aarberg\n\nAdresse: Laubbergweg 41\, 3053 Münchenbuchsee\n
LOCATION:Laubbergweg 41\, 3053 Münchenbuchsee
CATEGORIES:Saison 2018/19
END:VEVENT
BEGIN:VEVENT
DTSTAMP:20260421T203927Z
DTSTART;TZID=Europe/Berlin:20190208T193000
DTEND;TZID=Europe/Berlin:20190208T223000
SUMMARY:O40 1. Liga Ostermundigen vs Aarberg (12)
UID:0d1af169-9e08-4422-9b61-3a4eaebc6ef4
STATUS:CONFIRMED
LAST-MODIFIED:20190209T205600Z
DESCRIPTION:1. Liga O40 Gruppe 1\nBegegnungs-Nr: 12\nHeim: Ostermundigen\nGast: Aarberg\n\nAdresse: Dennigkofenweg 169\, 3072 Ostermundigen\n
LOCATION:Dennigkofenweg 169\, 3072 Ostermundigen
CATEGORIES:Saison 2018/19
END:VEVENT
BEGIN:VEVENT
DTSTAMP:20260421T203927Z
DTSTART;TZID=Europe/Berlin:20190116T194500
DTEND;TZID=Europe/Berlin:20190116T224500
SUMMARY:O40 1. Liga Solothurn vs Aarberg (4)
UID:034854a4-9f8c-411a-b523-09be89ab12f3
STATUS:CONFIRMED
LAST-MODIFIED:20190118T182451Z
DESCRIPTION:1. Liga O40 Gruppe 1\nBegegnungs-Nr: 4\nHeim: Solothurn\nGast: Aarberg\n\nAdresse: Untere Sternengasse 24\, 4500 Solothurn\n
LOCATION:Untere Sternengasse 24\, 4500 Solothurn
CATEGORIES:Saison 2018/19
END:VEVENT
BEGIN:VEVENT
DTSTAMP:20260421T203927Z
DTSTART;TZID=Europe/Berlin:20181027T133000
DTEND;TZID=Europe/Berlin:20181027T163000
SUMMARY:O40 1. Liga Burgdorf vs Aarberg (16)
UID:099daf30-273a-4d26-98d5-aa1d611517c7
STATUS:CONFIRMED
LAST-MODIFIED:20181030T190027Z
DESCRIPTION:1. Liga O40 Gruppe 1\nBegegnungs-Nr: 16\nHeim: Burgdorf\nGast: Aarberg\n\nAdresse: Pestalozzistrasse 69\, 3400 Burgdorf\n
LOCATION:Pestalozzistrasse 69\, 3400 Burgdorf
CATEGORIES:Saison 2018/19
END:VEVENT
BEGIN:VEVENT
DTSTAMP:20260421T203927Z
DTSTART;TZID=Europe/Berlin:20181124T133000
DTEND;TZID=Europe/Berlin:20181124T163000
SUMMARY:O40 1. Liga Burgdorf II vs Aarberg (17)
UID:47a73314-7231-45af-9438-d81420ae1784
STATUS:CONFIRMED
LAST-MODIFIED:20181127T154720Z
DESCRIPTION:1. Liga O40 Gruppe 1\nBegegnungs-Nr: 17\nHeim: Burgdorf II\nGast: Aarberg\n\nAdresse: Pestalozzistrasse 69\, 3400 Burgdorf\n
LOCATION:Pestalozzistrasse 69\, 3400 Burgdorf
CATEGORIES:Saison 2018/19
END:VEVENT
BEGIN:VEVENT
DTSTAMP:20260421T203927Z
DTSTART;TZID=Europe/Berlin:20190323T140000
DTEND;TZID=Europe/Berlin:20190323T170000
SUMMARY:O40 1. Liga Langnau vs Aarberg (22)
UID:37d638cf-182c-4d27-9ac4-7be49767d6f1
STATUS:CONFIRMED
LAST-MODIFIED:20190324T092059Z
DESCRIPTION:1. Liga O40 Gruppe 1\nBegegnungs-Nr: 22\nHeim: Langnau\nGast: Aarberg\n\nAdresse: Bleicheweg 11\, 3550 Langnau\n
LOCATION:Bleicheweg 11\, 3550 Langnau
CATEGORIES:Saison 2018/19
END:VEVENT
END:VCALENDAR
