BEGIN:VCALENDAR
PRODID:-//nuDatenautomaten//framework iCal4j //DE
VERSION:2.0
CALSCALE:GREGORIAN
BEGIN:VTIMEZONE
TZID:Europe/Berlin
LAST-MODIFIED:20260306T231828Z
TZURL:https://www.tzurl.org/zoneinfo/Europe/Berlin
X-LIC-LOCATION:Europe/Berlin
X-PROLEPTIC-TZNAME:LMT
BEGIN:STANDARD
TZNAME:CET
TZOFFSETFROM:+005328
TZOFFSETTO:+0100
DTSTART:18930401T000000
END:STANDARD
BEGIN:DAYLIGHT
TZNAME:CEST
TZOFFSETFROM:+0100
TZOFFSETTO:+0200
DTSTART:19160430T230000
RDATE:19400401T020000
RDATE:19430329T020000
RDATE:19460414T020000
RDATE:19470406T030000
RDATE:19480418T020000
RDATE:19490410T020000
RDATE:19800406T020000
END:DAYLIGHT
BEGIN:STANDARD
TZNAME:CET
TZOFFSETFROM:+0200
TZOFFSETTO:+0100
DTSTART:19161001T010000
RDATE:19421102T030000
RDATE:19431004T030000
RDATE:19441002T030000
RDATE:19451118T030000
RDATE:19461007T030000
END:STANDARD
BEGIN:DAYLIGHT
TZNAME:CEST
TZOFFSETFROM:+0100
TZOFFSETTO:+0200
DTSTART:19170416T020000
RRULE:FREQ=YEARLY;UNTIL=19180415T010000Z;BYMONTH=4;BYDAY=3MO
END:DAYLIGHT
BEGIN:STANDARD
TZNAME:CET
TZOFFSETFROM:+0200
TZOFFSETTO:+0100
DTSTART:19170917T030000
RRULE:FREQ=YEARLY;UNTIL=19180916T010000Z;BYMONTH=9;BYDAY=3MO
END:STANDARD
BEGIN:DAYLIGHT
TZNAME:CEST
TZOFFSETFROM:+0100
TZOFFSETTO:+0200
DTSTART:19440403T020000
RRULE:FREQ=YEARLY;UNTIL=19450402T010000Z;BYMONTH=4;BYDAY=1MO
END:DAYLIGHT
BEGIN:DAYLIGHT
TZNAME:CEMT
TZOFFSETFROM:+0200
TZOFFSETTO:+0300
DTSTART:19450524T020000
RDATE:19470511T030000
END:DAYLIGHT
BEGIN:DAYLIGHT
TZNAME:CEST
TZOFFSETFROM:+0300
TZOFFSETTO:+0200
DTSTART:19450924T030000
RDATE:19470629T030000
END:DAYLIGHT
BEGIN:STANDARD
TZNAME:CET
TZOFFSETFROM:+0100
TZOFFSETTO:+0100
DTSTART:19460101T000000
RDATE:19800101T000000
END:STANDARD
BEGIN:STANDARD
TZNAME:CET
TZOFFSETFROM:+0200
TZOFFSETTO:+0100
DTSTART:19471005T030000
RRULE:FREQ=YEARLY;UNTIL=19491002T010000Z;BYMONTH=10;BYDAY=1SU
END:STANDARD
BEGIN:STANDARD
TZNAME:CET
TZOFFSETFROM:+0200
TZOFFSETTO:+0100
DTSTART:19800928T030000
RRULE:FREQ=YEARLY;UNTIL=19950924T010000Z;BYMONTH=9;BYDAY=-1SU
END:STANDARD
BEGIN:DAYLIGHT
TZNAME:CEST
TZOFFSETFROM:+0100
TZOFFSETTO:+0200
DTSTART:19810329T020000
RRULE:FREQ=YEARLY;BYMONTH=3;BYDAY=-1SU
END:DAYLIGHT
BEGIN:STANDARD
TZNAME:CET
TZOFFSETFROM:+0200
TZOFFSETTO:+0100
DTSTART:19961027T030000
RRULE:FREQ=YEARLY;BYMONTH=10;BYDAY=-1SU
END:STANDARD
END:VTIMEZONE
BEGIN:VEVENT
DTSTAMP:20260421T202803Z
DTSTART;TZID=Europe/Berlin:20190111T193000
DTEND;TZID=Europe/Berlin:20190111T223000
SUMMARY:O40 1. Liga Ostermundigen vs Langnau (2)
UID:33c16612-3626-4637-a48e-ecc728a19b6f
STATUS:CONFIRMED
LAST-MODIFIED:20190115T185920Z
DESCRIPTION:1. Liga O40 Gruppe 1\nBegegnungs-Nr: 2\nHeim: Ostermundigen\nGast: Langnau\n\nAdresse: Dennigkofenweg 169\, 3072 Ostermundigen\n
LOCATION:Dennigkofenweg 169\, 3072 Ostermundigen
CATEGORIES:Saison 2018/19
END:VEVENT
BEGIN:VEVENT
DTSTAMP:20260421T202803Z
DTSTART;TZID=Europe/Berlin:20181119T193000
DTEND;TZID=Europe/Berlin:20181119T223000
SUMMARY:O40 1. Liga Ostermundigen vs Solothurn (19)
UID:3761a630-38ff-4908-a7bb-95f661ec05b3
STATUS:CONFIRMED
LAST-MODIFIED:20181120T181048Z
DESCRIPTION:1. Liga O40 Gruppe 1\nBegegnungs-Nr: 19\nHeim: Ostermundigen\nGast: Solothurn\n\nAdresse: Dennigkofenweg 169\, 3072 Ostermundigen\n
LOCATION:Dennigkofenweg 169\, 3072 Ostermundigen
CATEGORIES:Saison 2018/19
END:VEVENT
BEGIN:VEVENT
DTSTAMP:20260421T202803Z
DTSTART;TZID=Europe/Berlin:20180907T193000
DTEND;TZID=Europe/Berlin:20180907T223000
SUMMARY:O40 1. Liga Ostermundigen vs Port (7)
UID:7c134655-b860-4913-ac1d-2416629c1c9d
STATUS:CONFIRMED
LAST-MODIFIED:20180910T192250Z
DESCRIPTION:1. Liga O40 Gruppe 1\nBegegnungs-Nr: 7\nHeim: Ostermundigen\nGast: Port\n\nAdresse: Dennigkofenweg 169\, 3072 Ostermundigen\n
LOCATION:Dennigkofenweg 169\, 3072 Ostermundigen
CATEGORIES:Saison 2018/19
END:VEVENT
BEGIN:VEVENT
DTSTAMP:20260421T202803Z
DTSTART;TZID=Europe/Berlin:20190320T193000
DTEND;TZID=Europe/Berlin:20190320T223000
SUMMARY:O40 1. Liga Ostermundigen vs Burgdorf (23)
UID:9c4cbe45-b0d9-4281-867d-fb8adf3a2b65
STATUS:CONFIRMED
LAST-MODIFIED:20190321T183527Z
DESCRIPTION:1. Liga O40 Gruppe 1\nBegegnungs-Nr: 23\nHeim: Ostermundigen\nGast: Burgdorf\n\nAdresse: Dennigkofenweg 169\, 3072 Ostermundigen\n
LOCATION:Dennigkofenweg 169\, 3072 Ostermundigen
CATEGORIES:Saison 2018/19
END:VEVENT
BEGIN:VEVENT
DTSTAMP:20260421T202803Z
DTSTART;TZID=Europe/Berlin:20190208T193000
DTEND;TZID=Europe/Berlin:20190208T223000
SUMMARY:O40 1. Liga Ostermundigen vs Aarberg (12)
UID:0d1af169-9e08-4422-9b61-3a4eaebc6ef4
STATUS:CONFIRMED
LAST-MODIFIED:20190209T205600Z
DESCRIPTION:1. Liga O40 Gruppe 1\nBegegnungs-Nr: 12\nHeim: Ostermundigen\nGast: Aarberg\n\nAdresse: Dennigkofenweg 169\, 3072 Ostermundigen\n
LOCATION:Dennigkofenweg 169\, 3072 Ostermundigen
CATEGORIES:Saison 2018/19
END:VEVENT
BEGIN:VEVENT
DTSTAMP:20260421T202803Z
DTSTART;TZID=Europe/Berlin:20181030T201500
DTEND;TZID=Europe/Berlin:20181030T231500
SUMMARY:O40 1. Liga Ostermundigen vs Burgdorf II (13)
UID:ff0239cd-ea0d-4772-b7e7-96ec2e44a05f
STATUS:CONFIRMED
LAST-MODIFIED:20181031T181847Z
DESCRIPTION:1. Liga O40 Gruppe 1\nBegegnungs-Nr: 13\nHeim: Ostermundigen\nGast: Burgdorf II\n\nAdresse: Dennigkofenweg 169\, 3072 Ostermundigen\n
LOCATION:Dennigkofenweg 169\, 3072 Ostermundigen
CATEGORIES:Saison 2018/19
END:VEVENT
BEGIN:VEVENT
DTSTAMP:20260421T202803Z
DTSTART;TZID=Europe/Berlin:20181211T201000
DTEND;TZID=Europe/Berlin:20181211T231000
SUMMARY:O40 1. Liga Ostermundigen vs Münchenbuchsee (27)
UID:d5901e68-f60b-4490-b6e4-bdaef50d374f
STATUS:CONFIRMED
LAST-MODIFIED:20181213T162450Z
DESCRIPTION:1. Liga O40 Gruppe 1\nBegegnungs-Nr: 27\nHeim: Ostermundigen\nGast: Münchenbuchsee\n\nAdresse: Dennigkofenweg 169\, 3072 Ostermundigen\n
LOCATION:Dennigkofenweg 169\, 3072 Ostermundigen
CATEGORIES:Saison 2018/19
END:VEVENT
BEGIN:VEVENT
DTSTAMP:20260421T202803Z
DTSTART;TZID=Europe/Berlin:20181124T160000
DTEND;TZID=Europe/Berlin:20181124T190000
SUMMARY:O40 1. Liga Burgdorf vs Ostermundigen (23)
UID:4d8492e7-66b1-4231-a1da-89a0743da44e
STATUS:CONFIRMED
LAST-MODIFIED:20181127T154731Z
DESCRIPTION:1. Liga O40 Gruppe 1\nBegegnungs-Nr: 23\nHeim: Burgdorf\nGast: Ostermundigen\n\nAdresse: Pestalozzistrasse 69\, 3400 Burgdorf\n
LOCATION:Pestalozzistrasse 69\, 3400 Burgdorf
CATEGORIES:Saison 2018/19
END:VEVENT
BEGIN:VEVENT
DTSTAMP:20260421T202803Z
DTSTART;TZID=Europe/Berlin:20190412T193000
DTEND;TZID=Europe/Berlin:20190412T223000
SUMMARY:O40 1. Liga Münchenbuchsee vs Ostermundigen (27)
UID:e6f37c17-649f-49ad-b8fe-42d804d091d9
STATUS:CONFIRMED
LAST-MODIFIED:20190413T085443Z
DESCRIPTION:1. Liga O40 Gruppe 1\nBegegnungs-Nr: 27\nHeim: Münchenbuchsee\nGast: Ostermundigen\n\nAdresse: Laubbergweg 41\, 3053 Münchenbuchsee\n
LOCATION:Laubbergweg 41\, 3053 Münchenbuchsee
CATEGORIES:Saison 2018/19
END:VEVENT
BEGIN:VEVENT
DTSTAMP:20260421T202803Z
DTSTART;TZID=Europe/Berlin:20190313T194500
DTEND;TZID=Europe/Berlin:20190313T224500
SUMMARY:O40 1. Liga Solothurn vs Ostermundigen (19)
UID:525cf93a-6f8b-4726-83ce-af3b00fed7ec
STATUS:CONFIRMED
LAST-MODIFIED:20190315T230154Z
DESCRIPTION:1. Liga O40 Gruppe 1\nBegegnungs-Nr: 19\nHeim: Solothurn\nGast: Ostermundigen\n\nAdresse: Untere Sternengasse 24\, 4500 Solothurn\n
LOCATION:Untere Sternengasse 24\, 4500 Solothurn
CATEGORIES:Saison 2018/19
END:VEVENT
BEGIN:VEVENT
DTSTAMP:20260421T202803Z
DTSTART;TZID=Europe/Berlin:20190308T193000
DTEND;TZID=Europe/Berlin:20190308T223000
SUMMARY:O40 1. Liga Burgdorf II vs Ostermundigen (13)
UID:0db25f05-12a6-47a5-b5b3-887c0be96440
STATUS:CONFIRMED
LAST-MODIFIED:20190310T092219Z
DESCRIPTION:1. Liga O40 Gruppe 1\nBegegnungs-Nr: 13\nHeim: Burgdorf II\nGast: Ostermundigen\n\nAdresse: Pestalozzistrasse 69\, 3400 Burgdorf\n
LOCATION:Pestalozzistrasse 69\, 3400 Burgdorf
CATEGORIES:Saison 2018/19
END:VEVENT
BEGIN:VEVENT
DTSTAMP:20260421T202803Z
DTSTART;TZID=Europe/Berlin:20190128T200000
DTEND;TZID=Europe/Berlin:20190128T230000
SUMMARY:O40 1. Liga Port vs Ostermundigen (7)
UID:95f0e403-2fff-4756-8443-94edbc46a594
STATUS:CONFIRMED
LAST-MODIFIED:20190201T195335Z
DESCRIPTION:1. Liga O40 Gruppe 1\nBegegnungs-Nr: 7\nHeim: Port\nGast: Ostermundigen\n\nAdresse: Allmendstrasse 23\, 2562 Port\n
LOCATION:Allmendstrasse 23\, 2562 Port
CATEGORIES:Saison 2018/19
END:VEVENT
BEGIN:VEVENT
DTSTAMP:20260421T202803Z
DTSTART;TZID=Europe/Berlin:20181024T201500
DTEND;TZID=Europe/Berlin:20181024T231500
SUMMARY:O40 1. Liga Aarberg vs Ostermundigen (12)
UID:d4bb4846-2997-44b7-8b29-6c9b1a0328fa
STATUS:CONFIRMED
LAST-MODIFIED:20181025T151126Z
DESCRIPTION:1. Liga O40 Gruppe 1\nBegegnungs-Nr: 12\nHeim: Aarberg\nGast: Ostermundigen\n\nAdresse: Nidaustrasse 7\, 3270 Aarberg\n
LOCATION:Nidaustrasse 7\, 3270 Aarberg
CATEGORIES:Saison 2018/19
END:VEVENT
BEGIN:VEVENT
DTSTAMP:20260421T202803Z
DTSTART;TZID=Europe/Berlin:20181006T140000
DTEND;TZID=Europe/Berlin:20181006T170000
SUMMARY:O40 1. Liga Langnau vs Ostermundigen (2)
UID:34b675d9-2d82-4ec3-926f-e7ef0062db46
STATUS:CONFIRMED
LAST-MODIFIED:20181006T123314Z
DESCRIPTION:1. Liga O40 Gruppe 1\nBegegnungs-Nr: 2\nHeim: Langnau\nGast: Ostermundigen\n\nAdresse: Bleicheweg 11\, 3550 Langnau\n
LOCATION:Bleicheweg 11\, 3550 Langnau
CATEGORIES:Saison 2018/19
END:VEVENT
END:VCALENDAR
