BEGIN:VCALENDAR
PRODID:-//nuDatenautomaten//framework iCal4j //DE
VERSION:2.0
CALSCALE:GREGORIAN
BEGIN:VTIMEZONE
TZID:Europe/Berlin
LAST-MODIFIED:20260306T231828Z
TZURL:https://www.tzurl.org/zoneinfo/Europe/Berlin
X-LIC-LOCATION:Europe/Berlin
X-PROLEPTIC-TZNAME:LMT
BEGIN:STANDARD
TZNAME:CET
TZOFFSETFROM:+005328
TZOFFSETTO:+0100
DTSTART:18930401T000000
END:STANDARD
BEGIN:DAYLIGHT
TZNAME:CEST
TZOFFSETFROM:+0100
TZOFFSETTO:+0200
DTSTART:19160430T230000
RDATE:19400401T020000
RDATE:19430329T020000
RDATE:19460414T020000
RDATE:19470406T030000
RDATE:19480418T020000
RDATE:19490410T020000
RDATE:19800406T020000
END:DAYLIGHT
BEGIN:STANDARD
TZNAME:CET
TZOFFSETFROM:+0200
TZOFFSETTO:+0100
DTSTART:19161001T010000
RDATE:19421102T030000
RDATE:19431004T030000
RDATE:19441002T030000
RDATE:19451118T030000
RDATE:19461007T030000
END:STANDARD
BEGIN:DAYLIGHT
TZNAME:CEST
TZOFFSETFROM:+0100
TZOFFSETTO:+0200
DTSTART:19170416T020000
RRULE:FREQ=YEARLY;UNTIL=19180415T010000Z;BYMONTH=4;BYDAY=3MO
END:DAYLIGHT
BEGIN:STANDARD
TZNAME:CET
TZOFFSETFROM:+0200
TZOFFSETTO:+0100
DTSTART:19170917T030000
RRULE:FREQ=YEARLY;UNTIL=19180916T010000Z;BYMONTH=9;BYDAY=3MO
END:STANDARD
BEGIN:DAYLIGHT
TZNAME:CEST
TZOFFSETFROM:+0100
TZOFFSETTO:+0200
DTSTART:19440403T020000
RRULE:FREQ=YEARLY;UNTIL=19450402T010000Z;BYMONTH=4;BYDAY=1MO
END:DAYLIGHT
BEGIN:DAYLIGHT
TZNAME:CEMT
TZOFFSETFROM:+0200
TZOFFSETTO:+0300
DTSTART:19450524T020000
RDATE:19470511T030000
END:DAYLIGHT
BEGIN:DAYLIGHT
TZNAME:CEST
TZOFFSETFROM:+0300
TZOFFSETTO:+0200
DTSTART:19450924T030000
RDATE:19470629T030000
END:DAYLIGHT
BEGIN:STANDARD
TZNAME:CET
TZOFFSETFROM:+0100
TZOFFSETTO:+0100
DTSTART:19460101T000000
RDATE:19800101T000000
END:STANDARD
BEGIN:STANDARD
TZNAME:CET
TZOFFSETFROM:+0200
TZOFFSETTO:+0100
DTSTART:19471005T030000
RRULE:FREQ=YEARLY;UNTIL=19491002T010000Z;BYMONTH=10;BYDAY=1SU
END:STANDARD
BEGIN:STANDARD
TZNAME:CET
TZOFFSETFROM:+0200
TZOFFSETTO:+0100
DTSTART:19800928T030000
RRULE:FREQ=YEARLY;UNTIL=19950924T010000Z;BYMONTH=9;BYDAY=-1SU
END:STANDARD
BEGIN:DAYLIGHT
TZNAME:CEST
TZOFFSETFROM:+0100
TZOFFSETTO:+0200
DTSTART:19810329T020000
RRULE:FREQ=YEARLY;BYMONTH=3;BYDAY=-1SU
END:DAYLIGHT
BEGIN:STANDARD
TZNAME:CET
TZOFFSETFROM:+0200
TZOFFSETTO:+0100
DTSTART:19961027T030000
RRULE:FREQ=YEARLY;BYMONTH=10;BYDAY=-1SU
END:STANDARD
END:VTIMEZONE
BEGIN:VEVENT
DTSTAMP:20260421T202059Z
DTSTART;TZID=Europe/Berlin:20190116T200000
DTEND;TZID=Europe/Berlin:20190116T230000
SUMMARY:HE 4. Liga Gr. 5 Stettlen II vs Bern VII (4)
UID:bbd6edb2-ff46-4e3f-864b-9ab86e5aec20
STATUS:CONFIRMED
LAST-MODIFIED:20190118T182255Z
DESCRIPTION:4. Liga Herren Gruppe 5\nBegegnungs-Nr: 4\nHeim: Stettlen II\nGast: Bern VII\n\nAdresse: Bernstrasse 45\, 3066 Stettlen\n
LOCATION:Bernstrasse 45\, 3066 Stettlen
CATEGORIES:Saison 2018/19
END:VEVENT
BEGIN:VEVENT
DTSTAMP:20260421T202059Z
DTSTART;TZID=Europe/Berlin:20180912T200000
DTEND;TZID=Europe/Berlin:20180912T230000
SUMMARY:HE 4. Liga Gr. 5 Stettlen II vs Langnau III (5)
UID:d72a00aa-1a32-48d7-8126-df5471b452a7
STATUS:CONFIRMED
LAST-MODIFIED:20180913T024445Z
DESCRIPTION:4. Liga Herren Gruppe 5\nBegegnungs-Nr: 5\nHeim: Stettlen II\nGast: Langnau III\n\nAdresse: Bernstrasse 45\, 3066 Stettlen\n
LOCATION:Bernstrasse 45\, 3066 Stettlen
CATEGORIES:Saison 2018/19
END:VEVENT
BEGIN:VEVENT
DTSTAMP:20260421T202059Z
DTSTART;TZID=Europe/Berlin:20181205T200000
DTEND;TZID=Europe/Berlin:20181205T230000
SUMMARY:HE 4. Liga Gr. 5 Stettlen II vs Burgdorf VI (28)
UID:a45661b1-ff62-49e0-b553-1d8c5a8f4171
STATUS:CONFIRMED
LAST-MODIFIED:20181206T185129Z
DESCRIPTION:4. Liga Herren Gruppe 5\nBegegnungs-Nr: 28\nHeim: Stettlen II\nGast: Burgdorf VI\n\nAdresse: Bernstrasse 45\, 3066 Stettlen\n
LOCATION:Bernstrasse 45\, 3066 Stettlen
CATEGORIES:Saison 2018/19
END:VEVENT
BEGIN:VEVENT
DTSTAMP:20260421T202059Z
DTSTART;TZID=Europe/Berlin:20181031T200000
DTEND;TZID=Europe/Berlin:20181031T230000
SUMMARY:HE 4. Liga Gr. 5 Stettlen II vs Münchenbuchsee IV (15)
UID:9dfc4220-e745-4c24-a171-aa5efcc52969
STATUS:CONFIRMED
LAST-MODIFIED:20181102T212424Z
DESCRIPTION:4. Liga Herren Gruppe 5\nBegegnungs-Nr: 15\nHeim: Stettlen II\nGast: Münchenbuchsee IV\n\nAdresse: Bernstrasse 45\, 3066 Stettlen\n
LOCATION:Bernstrasse 45\, 3066 Stettlen
CATEGORIES:Saison 2018/19
END:VEVENT
BEGIN:VEVENT
DTSTAMP:20260421T202059Z
DTSTART;TZID=Europe/Berlin:20190313T200000
DTEND;TZID=Europe/Berlin:20190313T230000
SUMMARY:HE 4. Liga Gr. 5 Stettlen II vs Grauholz II (19)
UID:73f22151-ffb1-4b8d-ac60-edd388303621
STATUS:CONFIRMED
LAST-MODIFIED:20190315T230034Z
DESCRIPTION:4. Liga Herren Gruppe 5\nBegegnungs-Nr: 19\nHeim: Stettlen II\nGast: Grauholz II\n\nAdresse: Bernstrasse 45\, 3066 Stettlen\n
LOCATION:Bernstrasse 45\, 3066 Stettlen
CATEGORIES:Saison 2018/19
END:VEVENT
BEGIN:VEVENT
DTSTAMP:20260421T202059Z
DTSTART;TZID=Europe/Berlin:20181129T201500
DTEND;TZID=Europe/Berlin:20181129T231500
SUMMARY:HE 4. Liga Gr. 5 Stettlen II vs Regio Moossee (24)
UID:dfb0f90e-a167-4c8c-a1c5-8c2ea0ff05f6
STATUS:CONFIRMED
LAST-MODIFIED:20181130T153909Z
DESCRIPTION:4. Liga Herren Gruppe 5\nBegegnungs-Nr: 24\nHeim: Stettlen II\nGast: Regio Moossee\n\nAdresse: Bernstrasse 45\, 3066 Stettlen\n
LOCATION:Bernstrasse 45\, 3066 Stettlen
CATEGORIES:Saison 2018/19
END:VEVENT
BEGIN:VEVENT
DTSTAMP:20260421T202059Z
DTSTART;TZID=Europe/Berlin:20190213T200000
DTEND;TZID=Europe/Berlin:20190213T230000
SUMMARY:HE 4. Liga Gr. 5 Stettlen II vs Hindelbank II (10)
UID:fc42576a-14ea-40da-9353-105c7dcc6e30
STATUS:CONFIRMED
LAST-MODIFIED:20190214T192715Z
DESCRIPTION:4. Liga Herren Gruppe 5\nBegegnungs-Nr: 10\nHeim: Stettlen II\nGast: Hindelbank II\n\nAdresse: Bernstrasse 45\, 3066 Stettlen\n
LOCATION:Bernstrasse 45\, 3066 Stettlen
CATEGORIES:Saison 2018/19
END:VEVENT
BEGIN:VEVENT
DTSTAMP:20260421T202059Z
DTSTART;TZID=Europe/Berlin:20180921T193000
DTEND;TZID=Europe/Berlin:20180921T223000
SUMMARY:HE 4. Liga Gr. 5 Bern VII vs Stettlen II (4)
UID:b5f85233-8688-4a7b-96f8-d809d4ed1140
STATUS:CONFIRMED
LAST-MODIFIED:20180924T015029Z
DESCRIPTION:4. Liga Herren Gruppe 5\nBegegnungs-Nr: 4\nHeim: Bern VII\nGast: Stettlen II\n\nAdresse: Papiermühlestrasse 81\, 3014 Bern\n
LOCATION:Papiermühlestrasse 81\, 3014 Bern
CATEGORIES:Saison 2018/19
END:VEVENT
BEGIN:VEVENT
DTSTAMP:20260421T202059Z
DTSTART;TZID=Europe/Berlin:20190222T193000
DTEND;TZID=Europe/Berlin:20190222T223000
SUMMARY:HE 4. Liga Gr. 5 Münchenbuchsee IV vs Stettlen II (15)
UID:cb66f9ae-45a9-4373-83e6-03f3d29fe195
STATUS:CONFIRMED
LAST-MODIFIED:20190225T182258Z
DESCRIPTION:4. Liga Herren Gruppe 5\nBegegnungs-Nr: 15\nHeim: Münchenbuchsee IV\nGast: Stettlen II\n\nAdresse: Laubbergweg 41\, 3053 Münchenbuchsee\n
LOCATION:Laubbergweg 41\, 3053 Münchenbuchsee
CATEGORIES:Saison 2018/19
END:VEVENT
BEGIN:VEVENT
DTSTAMP:20260421T202059Z
DTSTART;TZID=Europe/Berlin:20190327T201500
DTEND;TZID=Europe/Berlin:20190327T231500
SUMMARY:HE 4. Liga Gr. 5 Burgdorf VI vs Stettlen II (28)
UID:0826c302-7e76-48ec-b0cb-172f5712ad0f
STATUS:CONFIRMED
LAST-MODIFIED:20190328T185148Z
DESCRIPTION:4. Liga Herren Gruppe 5\nBegegnungs-Nr: 28\nHeim: Burgdorf VI\nGast: Stettlen II\n\nAdresse: Pestalozzistrasse 69\, 3400 Burgdorf\n
LOCATION:Pestalozzistrasse 69\, 3400 Burgdorf
CATEGORIES:Saison 2018/19
END:VEVENT
BEGIN:VEVENT
DTSTAMP:20260421T202059Z
DTSTART;TZID=Europe/Berlin:20190131T200000
DTEND;TZID=Europe/Berlin:20190131T230000
SUMMARY:HE 4. Liga Gr. 5 Langnau III vs Stettlen II (5)
UID:54d4bb0e-a4bf-4fcd-a40e-e0cbe5083d59
STATUS:CONFIRMED
LAST-MODIFIED:20190201T195216Z
DESCRIPTION:4. Liga Herren Gruppe 5\nBegegnungs-Nr: 5\nHeim: Langnau III\nGast: Stettlen II\n\nAdresse: Bleicheweg 11\, 3550 Langnau\n
LOCATION:Bleicheweg 11\, 3550 Langnau
CATEGORIES:Saison 2018/19
END:VEVENT
BEGIN:VEVENT
DTSTAMP:20260421T202059Z
DTSTART;TZID=Europe/Berlin:20181116T200000
DTEND;TZID=Europe/Berlin:20181116T230000
SUMMARY:HE 4. Liga Gr. 5 Grauholz II vs Stettlen II (19)
UID:4986afa3-9148-4b77-8de0-252495d16a2a
STATUS:CONFIRMED
LAST-MODIFIED:20181117T084113Z
DESCRIPTION:4. Liga Herren Gruppe 5\nBegegnungs-Nr: 19\nHeim: Grauholz II\nGast: Stettlen II\n\nAdresse: Schulhausweg 8\, 3324 Hindelbank\n
LOCATION:Schulhausweg 8\, 3324 Hindelbank
CATEGORIES:Saison 2018/19
END:VEVENT
BEGIN:VEVENT
DTSTAMP:20260421T202059Z
DTSTART;TZID=Europe/Berlin:20181019T200000
DTEND;TZID=Europe/Berlin:20181019T230000
SUMMARY:HE 4. Liga Gr. 5 Hindelbank II vs Stettlen II (10)
UID:f55f85bb-cc90-4a56-87af-23fc7fef7d87
STATUS:CONFIRMED
LAST-MODIFIED:20181021T130119Z
DESCRIPTION:4. Liga Herren Gruppe 5\nBegegnungs-Nr: 10\nHeim: Hindelbank II\nGast: Stettlen II\n\nAdresse: Schulhausweg 8\, 3324 Hindelbank\n
LOCATION:Schulhausweg 8\, 3324 Hindelbank
CATEGORIES:Saison 2018/19
END:VEVENT
BEGIN:VEVENT
DTSTAMP:20260421T202059Z
DTSTART;TZID=Europe/Berlin:20190322T200000
DTEND;TZID=Europe/Berlin:20190322T230000
SUMMARY:HE 4. Liga Gr. 5 Regio Moossee vs Stettlen II (24)
UID:478f781a-0178-4c66-b6d6-91bd22b435c2
STATUS:CONFIRMED
LAST-MODIFIED:20190324T091850Z
DESCRIPTION:4. Liga Herren Gruppe 5\nBegegnungs-Nr: 24\nHeim: Regio Moossee\nGast: Stettlen II\n\nAdresse: Schulhausstrasse 23-25\, 3302 Moosseedorf\n
LOCATION:Schulhausstrasse 23-25\, 3302 Moosseedorf
CATEGORIES:Saison 2018/19
END:VEVENT
END:VCALENDAR
