BEGIN:VCALENDAR
PRODID:-//nuDatenautomaten//framework iCal4j //DE
VERSION:2.0
CALSCALE:GREGORIAN
BEGIN:VTIMEZONE
TZID:Europe/Berlin
LAST-MODIFIED:20260306T231828Z
TZURL:https://www.tzurl.org/zoneinfo/Europe/Berlin
X-LIC-LOCATION:Europe/Berlin
X-PROLEPTIC-TZNAME:LMT
BEGIN:STANDARD
TZNAME:CET
TZOFFSETFROM:+005328
TZOFFSETTO:+0100
DTSTART:18930401T000000
END:STANDARD
BEGIN:DAYLIGHT
TZNAME:CEST
TZOFFSETFROM:+0100
TZOFFSETTO:+0200
DTSTART:19160430T230000
RDATE:19400401T020000
RDATE:19430329T020000
RDATE:19460414T020000
RDATE:19470406T030000
RDATE:19480418T020000
RDATE:19490410T020000
RDATE:19800406T020000
END:DAYLIGHT
BEGIN:STANDARD
TZNAME:CET
TZOFFSETFROM:+0200
TZOFFSETTO:+0100
DTSTART:19161001T010000
RDATE:19421102T030000
RDATE:19431004T030000
RDATE:19441002T030000
RDATE:19451118T030000
RDATE:19461007T030000
END:STANDARD
BEGIN:DAYLIGHT
TZNAME:CEST
TZOFFSETFROM:+0100
TZOFFSETTO:+0200
DTSTART:19170416T020000
RRULE:FREQ=YEARLY;UNTIL=19180415T010000Z;BYMONTH=4;BYDAY=3MO
END:DAYLIGHT
BEGIN:STANDARD
TZNAME:CET
TZOFFSETFROM:+0200
TZOFFSETTO:+0100
DTSTART:19170917T030000
RRULE:FREQ=YEARLY;UNTIL=19180916T010000Z;BYMONTH=9;BYDAY=3MO
END:STANDARD
BEGIN:DAYLIGHT
TZNAME:CEST
TZOFFSETFROM:+0100
TZOFFSETTO:+0200
DTSTART:19440403T020000
RRULE:FREQ=YEARLY;UNTIL=19450402T010000Z;BYMONTH=4;BYDAY=1MO
END:DAYLIGHT
BEGIN:DAYLIGHT
TZNAME:CEMT
TZOFFSETFROM:+0200
TZOFFSETTO:+0300
DTSTART:19450524T020000
RDATE:19470511T030000
END:DAYLIGHT
BEGIN:DAYLIGHT
TZNAME:CEST
TZOFFSETFROM:+0300
TZOFFSETTO:+0200
DTSTART:19450924T030000
RDATE:19470629T030000
END:DAYLIGHT
BEGIN:STANDARD
TZNAME:CET
TZOFFSETFROM:+0100
TZOFFSETTO:+0100
DTSTART:19460101T000000
RDATE:19800101T000000
END:STANDARD
BEGIN:STANDARD
TZNAME:CET
TZOFFSETFROM:+0200
TZOFFSETTO:+0100
DTSTART:19471005T030000
RRULE:FREQ=YEARLY;UNTIL=19491002T010000Z;BYMONTH=10;BYDAY=1SU
END:STANDARD
BEGIN:STANDARD
TZNAME:CET
TZOFFSETFROM:+0200
TZOFFSETTO:+0100
DTSTART:19800928T030000
RRULE:FREQ=YEARLY;UNTIL=19950924T010000Z;BYMONTH=9;BYDAY=-1SU
END:STANDARD
BEGIN:DAYLIGHT
TZNAME:CEST
TZOFFSETFROM:+0100
TZOFFSETTO:+0200
DTSTART:19810329T020000
RRULE:FREQ=YEARLY;BYMONTH=3;BYDAY=-1SU
END:DAYLIGHT
BEGIN:STANDARD
TZNAME:CET
TZOFFSETFROM:+0200
TZOFFSETTO:+0100
DTSTART:19961027T030000
RRULE:FREQ=YEARLY;BYMONTH=10;BYDAY=-1SU
END:STANDARD
END:VTIMEZONE
BEGIN:VEVENT
DTSTAMP:20260419T224258Z
DTSTART;TZID=Europe/Berlin:20180317T133000
DTEND;TZID=Europe/Berlin:20180317T163000
SUMMARY:LRD Gr 1 Vernier vs Veyrier (10)
UID:6010be51-5964-5356-e053-1fc7a80a74f7
STATUS:CONFIRMED
LAST-MODIFIED:20180326T162402Z
DESCRIPTION:Ligue Romandie Dames Groupe unique\nBegegnungs-Nr: 10\nHeim: Vernier\nGast: Veyrier\n
LOCATION:
CATEGORIES:Saison 2017/18
END:VEVENT
BEGIN:VEVENT
DTSTAMP:20260419T224258Z
DTSTART;TZID=Europe/Berlin:20171216T100000
DTEND;TZID=Europe/Berlin:20171216T130000
SUMMARY:LRD Gr 1 Vernier vs ZZ-Lancy (5)
UID:6010be51-5c94-5356-e053-1fc7a80a74f7
STATUS:CONFIRMED
LAST-MODIFIED:20171222T103324Z
DESCRIPTION:Ligue Romandie Dames Groupe unique\nBegegnungs-Nr: 5\nHeim: Vernier\nGast: ZZ-Lancy\n
LOCATION:
CATEGORIES:Saison 2017/18
END:VEVENT
BEGIN:VEVENT
DTSTAMP:20260419T224258Z
DTSTART;TZID=Europe/Berlin:20171216T133000
DTEND;TZID=Europe/Berlin:20171216T163000
SUMMARY:LRD Gr 1 Lausanne II vs Vernier (1)
UID:6010be51-5958-5356-e053-1fc7a80a74f7
STATUS:CONFIRMED
LAST-MODIFIED:20171221T163234Z
DESCRIPTION:Ligue Romandie Dames Groupe unique\nBegegnungs-Nr: 1\nHeim: Lausanne II\nGast: Vernier\n\nAdresse: Vaudoise Aréna\, Ch. du Viaduc 14\, 1008 Prilly\n
LOCATION:Vaudoise Aréna\, Ch. du Viaduc 14\, 1008 Prilly
CATEGORIES:Saison 2017/18
END:VEVENT
BEGIN:VEVENT
DTSTAMP:20260419T224258Z
DTSTART;TZID=Europe/Berlin:20180429T143000
DTEND;TZID=Europe/Berlin:20180429T173000
SUMMARY:LRD Gr 1 Lausanne II vs Vernier (7)
UID:6010be51-5960-5356-e053-1fc7a80a74f7
STATUS:CONFIRMED
LAST-MODIFIED:20180507T134543Z
DESCRIPTION:Ligue Romandie Dames Groupe unique\nBegegnungs-Nr: 7\nHeim: Lausanne II\nGast: Vernier\n\nAdresse: Vaudoise Aréna\, Ch. du Viaduc 14\, 1008 Prilly\n
LOCATION:Vaudoise Aréna\, Ch. du Viaduc 14\, 1008 Prilly
CATEGORIES:Saison 2017/18
END:VEVENT
BEGIN:VEVENT
DTSTAMP:20260419T224258Z
DTSTART;TZID=Europe/Berlin:20180414T143000
DTEND;TZID=Europe/Berlin:20180414T173000
SUMMARY:LRD Gr 1 ZZ-Lancy vs Vernier (11)
UID:6010be51-5965-5356-e053-1fc7a80a74f7
STATUS:CONFIRMED
LAST-MODIFIED:20180420T091049Z
DESCRIPTION:Ligue Romandie Dames Groupe unique\nBegegnungs-Nr: 11\nHeim: ZZ-Lancy\nGast: Vernier\n
LOCATION:
CATEGORIES:Saison 2017/18
END:VEVENT
BEGIN:VEVENT
DTSTAMP:20260419T224258Z
DTSTART;TZID=Europe/Berlin:20171202T133000
DTEND;TZID=Europe/Berlin:20171202T163000
SUMMARY:LRD Gr 1 Veyrier vs Vernier (3)
UID:6010be51-5c92-5356-e053-1fc7a80a74f7
STATUS:CONFIRMED
LAST-MODIFIED:20171204T172533Z
DESCRIPTION:Ligue Romandie Dames Groupe unique\nBegegnungs-Nr: 3\nHeim: Veyrier\nGast: Vernier\n\nAdresse: -\, 1255 Veyrier\n
LOCATION:-\, 1255 Veyrier
CATEGORIES:Saison 2017/18
END:VEVENT
END:VCALENDAR
