BEGIN:VCALENDAR
PRODID:-//nuDatenautomaten//framework iCal4j //DE
VERSION:2.0
CALSCALE:GREGORIAN
BEGIN:VTIMEZONE
TZID:Europe/Berlin
LAST-MODIFIED:20260306T231828Z
TZURL:https://www.tzurl.org/zoneinfo/Europe/Berlin
X-LIC-LOCATION:Europe/Berlin
X-PROLEPTIC-TZNAME:LMT
BEGIN:STANDARD
TZNAME:CET
TZOFFSETFROM:+005328
TZOFFSETTO:+0100
DTSTART:18930401T000000
END:STANDARD
BEGIN:DAYLIGHT
TZNAME:CEST
TZOFFSETFROM:+0100
TZOFFSETTO:+0200
DTSTART:19160430T230000
RDATE:19400401T020000
RDATE:19430329T020000
RDATE:19460414T020000
RDATE:19470406T030000
RDATE:19480418T020000
RDATE:19490410T020000
RDATE:19800406T020000
END:DAYLIGHT
BEGIN:STANDARD
TZNAME:CET
TZOFFSETFROM:+0200
TZOFFSETTO:+0100
DTSTART:19161001T010000
RDATE:19421102T030000
RDATE:19431004T030000
RDATE:19441002T030000
RDATE:19451118T030000
RDATE:19461007T030000
END:STANDARD
BEGIN:DAYLIGHT
TZNAME:CEST
TZOFFSETFROM:+0100
TZOFFSETTO:+0200
DTSTART:19170416T020000
RRULE:FREQ=YEARLY;UNTIL=19180415T010000Z;BYMONTH=4;BYDAY=3MO
END:DAYLIGHT
BEGIN:STANDARD
TZNAME:CET
TZOFFSETFROM:+0200
TZOFFSETTO:+0100
DTSTART:19170917T030000
RRULE:FREQ=YEARLY;UNTIL=19180916T010000Z;BYMONTH=9;BYDAY=3MO
END:STANDARD
BEGIN:DAYLIGHT
TZNAME:CEST
TZOFFSETFROM:+0100
TZOFFSETTO:+0200
DTSTART:19440403T020000
RRULE:FREQ=YEARLY;UNTIL=19450402T010000Z;BYMONTH=4;BYDAY=1MO
END:DAYLIGHT
BEGIN:DAYLIGHT
TZNAME:CEMT
TZOFFSETFROM:+0200
TZOFFSETTO:+0300
DTSTART:19450524T020000
RDATE:19470511T030000
END:DAYLIGHT
BEGIN:DAYLIGHT
TZNAME:CEST
TZOFFSETFROM:+0300
TZOFFSETTO:+0200
DTSTART:19450924T030000
RDATE:19470629T030000
END:DAYLIGHT
BEGIN:STANDARD
TZNAME:CET
TZOFFSETFROM:+0100
TZOFFSETTO:+0100
DTSTART:19460101T000000
RDATE:19800101T000000
END:STANDARD
BEGIN:STANDARD
TZNAME:CET
TZOFFSETFROM:+0200
TZOFFSETTO:+0100
DTSTART:19471005T030000
RRULE:FREQ=YEARLY;UNTIL=19491002T010000Z;BYMONTH=10;BYDAY=1SU
END:STANDARD
BEGIN:STANDARD
TZNAME:CET
TZOFFSETFROM:+0200
TZOFFSETTO:+0100
DTSTART:19800928T030000
RRULE:FREQ=YEARLY;UNTIL=19950924T010000Z;BYMONTH=9;BYDAY=-1SU
END:STANDARD
BEGIN:DAYLIGHT
TZNAME:CEST
TZOFFSETFROM:+0100
TZOFFSETTO:+0200
DTSTART:19810329T020000
RRULE:FREQ=YEARLY;BYMONTH=3;BYDAY=-1SU
END:DAYLIGHT
BEGIN:STANDARD
TZNAME:CET
TZOFFSETFROM:+0200
TZOFFSETTO:+0100
DTSTART:19961027T030000
RRULE:FREQ=YEARLY;BYMONTH=10;BYDAY=-1SU
END:STANDARD
END:VTIMEZONE
BEGIN:VEVENT
DTSTAMP:20260424T151712Z
DTSTART;TZID=Europe/Berlin:20170921T194500
DTEND;TZID=Europe/Berlin:20170921T224500
SUMMARY:Ligue 4 Gr.5\, Ph. A ZZ-Lancy XIII vs Versoix VII (6)
UID:6010be51-52d7-5356-e053-1fc7a80a74f7
STATUS:CONFIRMED
LAST-MODIFIED:20170922T161833Z
DESCRIPTION:4ème ligue Hommes Gr. 5 Phase A\nBegegnungs-Nr: 6\nHeim: ZZ-Lancy XIII\nGast: Versoix VII\n
LOCATION:
CATEGORIES:Saison 2017/18
END:VEVENT
BEGIN:VEVENT
DTSTAMP:20260424T151712Z
DTSTART;TZID=Europe/Berlin:20180118T194500
DTEND;TZID=Europe/Berlin:20180118T224500
SUMMARY:Ligue 4 Gr.3\, Ph. B ZZ-Lancy XIII vs Châtelaine VI (4)
UID:2b05fe42-4399-4137-bd4e-41c9f841553c
STATUS:CONFIRMED
LAST-MODIFIED:20180119T201026Z
DESCRIPTION:4ème ligue Hommes Gr. 3 Phase B\nBegegnungs-Nr: 4\nHeim: ZZ-Lancy XIII\nGast: Châtelaine VI\n
LOCATION:
CATEGORIES:Saison 2017/18
END:VEVENT
BEGIN:VEVENT
DTSTAMP:20260424T151712Z
DTSTART;TZID=Europe/Berlin:20171214T000000
DTEND;TZID=Europe/Berlin:20171214T030000
SUMMARY:Ligue 4 Gr.5\, Ph. A ZZ-Lancy XIII vs spielfrei (28)
UID:6010be51-4ec5-5356-e053-1fc7a80a74f7
STATUS:CONFIRMED
DESCRIPTION:4ème ligue Hommes Gr. 5 Phase A\nBegegnungs-Nr: 28\nHeim: ZZ-Lancy XIII\nGast: spielfrei\n
LOCATION:
CATEGORIES:Saison 2017/18
END:VEVENT
BEGIN:VEVENT
DTSTAMP:20260424T151712Z
DTSTART;TZID=Europe/Berlin:20171207T194500
DTEND;TZID=Europe/Berlin:20171207T224500
SUMMARY:Ligue 4 Gr.5\, Ph. A ZZ-Lancy XIII vs Meyrin VIII (27)
UID:6010be51-4ec6-5356-e053-1fc7a80a74f7
STATUS:CONFIRMED
LAST-MODIFIED:20171208T160545Z
DESCRIPTION:4ème ligue Hommes Gr. 5 Phase A\nBegegnungs-Nr: 27\nHeim: ZZ-Lancy XIII\nGast: Meyrin VIII\n
LOCATION:
CATEGORIES:Saison 2017/18
END:VEVENT
BEGIN:VEVENT
DTSTAMP:20260424T151712Z
DTSTART;TZID=Europe/Berlin:20171109T194500
DTEND;TZID=Europe/Berlin:20171109T224500
SUMMARY:Ligue 4 Gr.5\, Ph. A ZZ-Lancy XIII vs UGS-Chênois XII (18)
UID:6010be51-4ecf-5356-e053-1fc7a80a74f7
STATUS:CONFIRMED
LAST-MODIFIED:20171111T194633Z
DESCRIPTION:4ème ligue Hommes Gr. 5 Phase A\nBegegnungs-Nr: 18\nHeim: ZZ-Lancy XIII\nGast: UGS-Chênois XII\n
LOCATION:
CATEGORIES:Saison 2017/18
END:VEVENT
BEGIN:VEVENT
DTSTAMP:20260424T151712Z
DTSTART;TZID=Europe/Berlin:20170928T194500
DTEND;TZID=Europe/Berlin:20170928T224500
SUMMARY:Ligue 4 Gr.5\, Ph. A ZZ-Lancy XIII vs Onex IV (9)
UID:6010be51-5bc6-5356-e053-1fc7a80a74f7
STATUS:CONFIRMED
LAST-MODIFIED:20170929T080147Z
DESCRIPTION:4ème ligue Hommes Gr. 5 Phase A\nBegegnungs-Nr: 9\nHeim: ZZ-Lancy XIII\nGast: Onex IV\n
LOCATION:
CATEGORIES:Saison 2017/18
END:VEVENT
BEGIN:VEVENT
DTSTAMP:20260424T151712Z
DTSTART;TZID=Europe/Berlin:20180412T194500
DTEND;TZID=Europe/Berlin:20180412T224500
SUMMARY:Ligue 4 Gr.3\, Ph. B ZZ-Lancy XIII vs Versoix VI (26)
UID:0655d85c-063b-4f4e-9291-2313e9ec4ad5
STATUS:CONFIRMED
LAST-MODIFIED:20180413T075354Z
DESCRIPTION:4ème ligue Hommes Gr. 3 Phase B\nBegegnungs-Nr: 26\nHeim: ZZ-Lancy XIII\nGast: Versoix VI\n
LOCATION:
CATEGORIES:Saison 2017/18
END:VEVENT
BEGIN:VEVENT
DTSTAMP:20260424T151712Z
DTSTART;TZID=Europe/Berlin:20180322T194500
DTEND;TZID=Europe/Berlin:20180322T224500
SUMMARY:Ligue 4 Gr.3\, Ph. B ZZ-Lancy XIII vs Meyrin VI (22)
UID:8f641cf4-1c4f-497e-a02f-50b546edb6a5
STATUS:CONFIRMED
LAST-MODIFIED:20180323T084836Z
DESCRIPTION:4ème ligue Hommes Gr. 3 Phase B\nBegegnungs-Nr: 22\nHeim: ZZ-Lancy XIII\nGast: Meyrin VI\n
LOCATION:
CATEGORIES:Saison 2017/18
END:VEVENT
BEGIN:VEVENT
DTSTAMP:20260424T151712Z
DTSTART;TZID=Europe/Berlin:20180308T194500
DTEND;TZID=Europe/Berlin:20180308T224500
SUMMARY:Ligue 4 Gr.3\, Ph. B ZZ-Lancy XIII vs UGS-Chênois XI (17)
UID:e632d5d2-8d4e-4859-aff6-ae596ed6b2bb
STATUS:CONFIRMED
LAST-MODIFIED:20180309T091514Z
DESCRIPTION:4ème ligue Hommes Gr. 3 Phase B\nBegegnungs-Nr: 17\nHeim: ZZ-Lancy XIII\nGast: UGS-Chênois XI\n
LOCATION:
CATEGORIES:Saison 2017/18
END:VEVENT
BEGIN:VEVENT
DTSTAMP:20260424T151712Z
DTSTART;TZID=Europe/Berlin:20180301T194500
DTEND;TZID=Europe/Berlin:20180301T224500
SUMMARY:Ligue 4 Gr.3\, Ph. B ZZ-Lancy XIII vs Carouge VIII (15)
UID:f04b3de1-65c9-49b8-8984-598bc4ab2ef1
STATUS:CONFIRMED
LAST-MODIFIED:20180302T082855Z
DESCRIPTION:4ème ligue Hommes Gr. 3 Phase B\nBegegnungs-Nr: 15\nHeim: ZZ-Lancy XIII\nGast: Carouge VIII\n
LOCATION:
CATEGORIES:Saison 2017/18
END:VEVENT
BEGIN:VEVENT
DTSTAMP:20260424T151712Z
DTSTART;TZID=Europe/Berlin:20171116T194500
DTEND;TZID=Europe/Berlin:20171116T224500
SUMMARY:Ligue 4 Gr.5\, Ph. A Versoix VII vs ZZ-Lancy XIII (21)
UID:6010be51-57ef-5356-e053-1fc7a80a74f7
STATUS:CONFIRMED
LAST-MODIFIED:20171117T082623Z
DESCRIPTION:4ème ligue Hommes Gr. 5 Phase A\nBegegnungs-Nr: 21\nHeim: Versoix VII\nGast: ZZ-Lancy XIII\n
LOCATION:
CATEGORIES:Saison 2017/18
END:VEVENT
BEGIN:VEVENT
DTSTAMP:20260424T151712Z
DTSTART;TZID=Europe/Berlin:20170914T194500
DTEND;TZID=Europe/Berlin:20170914T224500
SUMMARY:Ligue 4 Gr.5\, Ph. A UGS-Chênois XII vs ZZ-Lancy XIII (3)
UID:6010be51-52da-5356-e053-1fc7a80a74f7
STATUS:CONFIRMED
LAST-MODIFIED:20170928T142131Z
DESCRIPTION:4ème ligue Hommes Gr. 5 Phase A\nBegegnungs-Nr: 3\nHeim: UGS-Chênois XII\nGast: ZZ-Lancy XIII\n
LOCATION:
CATEGORIES:Saison 2017/18
END:VEVENT
BEGIN:VEVENT
DTSTAMP:20260424T151712Z
DTSTART;TZID=Europe/Berlin:20171019T000000
DTEND;TZID=Europe/Berlin:20171019T030000
SUMMARY:Ligue 4 Gr.5\, Ph. A spielfrei vs ZZ-Lancy XIII (13)
UID:6010be51-4ed4-5356-e053-1fc7a80a74f7
STATUS:CONFIRMED
DESCRIPTION:4ème ligue Hommes Gr. 5 Phase A\nBegegnungs-Nr: 13\nHeim: spielfrei\nGast: ZZ-Lancy XIII\n
LOCATION:
CATEGORIES:Saison 2017/18
END:VEVENT
BEGIN:VEVENT
DTSTAMP:20260424T151712Z
DTSTART;TZID=Europe/Berlin:20171130T194500
DTEND;TZID=Europe/Berlin:20171130T224500
SUMMARY:Ligue 4 Gr.5\, Ph. A Onex IV vs ZZ-Lancy XIII (24)
UID:6010be51-58b2-5356-e053-1fc7a80a74f7
STATUS:CONFIRMED
LAST-MODIFIED:20171202T125112Z
DESCRIPTION:4ème ligue Hommes Gr. 5 Phase A\nBegegnungs-Nr: 24\nHeim: Onex IV\nGast: ZZ-Lancy XIII\n
LOCATION:
CATEGORIES:Saison 2017/18
END:VEVENT
BEGIN:VEVENT
DTSTAMP:20260424T151712Z
DTSTART;TZID=Europe/Berlin:20171012T194500
DTEND;TZID=Europe/Berlin:20171012T224500
SUMMARY:Ligue 4 Gr.5\, Ph. A Meyrin VIII vs ZZ-Lancy XIII (12)
UID:6010be51-5bc3-5356-e053-1fc7a80a74f7
STATUS:CONFIRMED
LAST-MODIFIED:20171013T080920Z
DESCRIPTION:4ème ligue Hommes Gr. 5 Phase A\nBegegnungs-Nr: 12\nHeim: Meyrin VIII\nGast: ZZ-Lancy XIII\n
LOCATION:
CATEGORIES:Saison 2017/18
END:VEVENT
BEGIN:VEVENT
DTSTAMP:20260424T151712Z
DTSTART;TZID=Europe/Berlin:20180419T194500
DTEND;TZID=Europe/Berlin:20180419T224500
SUMMARY:Ligue 4 Gr.3\, Ph. B Carouge VIII vs ZZ-Lancy XIII (30)
UID:2477642c-ac75-43eb-b849-928cbe169e2b
STATUS:CONFIRMED
LAST-MODIFIED:20180421T162425Z
DESCRIPTION:4ème ligue Hommes Gr. 3 Phase B\nBegegnungs-Nr: 30\nHeim: Carouge VIII\nGast: ZZ-Lancy XIII\n
LOCATION:
CATEGORIES:Saison 2017/18
END:VEVENT
BEGIN:VEVENT
DTSTAMP:20260424T151712Z
DTSTART;TZID=Europe/Berlin:20180315T201500
DTEND;TZID=Europe/Berlin:20180315T231500
SUMMARY:Ligue 4 Gr.3\, Ph. B Châtelaine VI vs ZZ-Lancy XIII (19)
UID:72c46d54-4f3e-4474-a343-992a37807241
STATUS:CONFIRMED
LAST-MODIFIED:20180316T081409Z
DESCRIPTION:4ème ligue Hommes Gr. 3 Phase B\nBegegnungs-Nr: 19\nHeim: Châtelaine VI\nGast: ZZ-Lancy XIII\n
LOCATION:
CATEGORIES:Saison 2017/18
END:VEVENT
BEGIN:VEVENT
DTSTAMP:20260424T151712Z
DTSTART;TZID=Europe/Berlin:20180111T194500
DTEND;TZID=Europe/Berlin:20180111T224500
SUMMARY:Ligue 4 Gr.3\, Ph. B UGS-Chênois XI vs ZZ-Lancy XIII (2)
UID:2e7d227e-5bcc-4ac3-a05b-d8ccf3b3e812
STATUS:CONFIRMED
LAST-MODIFIED:20180112T085614Z
DESCRIPTION:4ème ligue Hommes Gr. 3 Phase B\nBegegnungs-Nr: 2\nHeim: UGS-Chênois XI\nGast: ZZ-Lancy XIII\n
LOCATION:
CATEGORIES:Saison 2017/18
END:VEVENT
BEGIN:VEVENT
DTSTAMP:20260424T151712Z
DTSTART;TZID=Europe/Berlin:20180208T194500
DTEND;TZID=Europe/Berlin:20180208T224500
SUMMARY:Ligue 4 Gr.3\, Ph. B Versoix VI vs ZZ-Lancy XIII (11)
UID:cdcc885d-425d-4e0c-95dd-82edb1203e5c
STATUS:CONFIRMED
LAST-MODIFIED:20180209T203436Z
DESCRIPTION:4ème ligue Hommes Gr. 3 Phase B\nBegegnungs-Nr: 11\nHeim: Versoix VI\nGast: ZZ-Lancy XIII\n
LOCATION:
CATEGORIES:Saison 2017/18
END:VEVENT
BEGIN:VEVENT
DTSTAMP:20260424T151712Z
DTSTART;TZID=Europe/Berlin:20180201T194500
DTEND;TZID=Europe/Berlin:20180201T224500
SUMMARY:Ligue 4 Gr.3\, Ph. B Meyrin VI vs ZZ-Lancy XIII (7)
UID:ed519b6c-5086-43a5-9d3b-f6fdf5cb3aa9
STATUS:CONFIRMED
LAST-MODIFIED:20180202T081836Z
DESCRIPTION:4ème ligue Hommes Gr. 3 Phase B\nBegegnungs-Nr: 7\nHeim: Meyrin VI\nGast: ZZ-Lancy XIII\n
LOCATION:
CATEGORIES:Saison 2017/18
END:VEVENT
END:VCALENDAR
