BEGIN:VCALENDAR
PRODID:-//nuDatenautomaten//framework iCal4j //DE
VERSION:2.0
CALSCALE:GREGORIAN
BEGIN:VTIMEZONE
TZID:Europe/Berlin
LAST-MODIFIED:20260306T231828Z
TZURL:https://www.tzurl.org/zoneinfo/Europe/Berlin
X-LIC-LOCATION:Europe/Berlin
X-PROLEPTIC-TZNAME:LMT
BEGIN:STANDARD
TZNAME:CET
TZOFFSETFROM:+005328
TZOFFSETTO:+0100
DTSTART:18930401T000000
END:STANDARD
BEGIN:DAYLIGHT
TZNAME:CEST
TZOFFSETFROM:+0100
TZOFFSETTO:+0200
DTSTART:19160430T230000
RDATE:19400401T020000
RDATE:19430329T020000
RDATE:19460414T020000
RDATE:19470406T030000
RDATE:19480418T020000
RDATE:19490410T020000
RDATE:19800406T020000
END:DAYLIGHT
BEGIN:STANDARD
TZNAME:CET
TZOFFSETFROM:+0200
TZOFFSETTO:+0100
DTSTART:19161001T010000
RDATE:19421102T030000
RDATE:19431004T030000
RDATE:19441002T030000
RDATE:19451118T030000
RDATE:19461007T030000
END:STANDARD
BEGIN:DAYLIGHT
TZNAME:CEST
TZOFFSETFROM:+0100
TZOFFSETTO:+0200
DTSTART:19170416T020000
RRULE:FREQ=YEARLY;UNTIL=19180415T010000Z;BYMONTH=4;BYDAY=3MO
END:DAYLIGHT
BEGIN:STANDARD
TZNAME:CET
TZOFFSETFROM:+0200
TZOFFSETTO:+0100
DTSTART:19170917T030000
RRULE:FREQ=YEARLY;UNTIL=19180916T010000Z;BYMONTH=9;BYDAY=3MO
END:STANDARD
BEGIN:DAYLIGHT
TZNAME:CEST
TZOFFSETFROM:+0100
TZOFFSETTO:+0200
DTSTART:19440403T020000
RRULE:FREQ=YEARLY;UNTIL=19450402T010000Z;BYMONTH=4;BYDAY=1MO
END:DAYLIGHT
BEGIN:DAYLIGHT
TZNAME:CEMT
TZOFFSETFROM:+0200
TZOFFSETTO:+0300
DTSTART:19450524T020000
RDATE:19470511T030000
END:DAYLIGHT
BEGIN:DAYLIGHT
TZNAME:CEST
TZOFFSETFROM:+0300
TZOFFSETTO:+0200
DTSTART:19450924T030000
RDATE:19470629T030000
END:DAYLIGHT
BEGIN:STANDARD
TZNAME:CET
TZOFFSETFROM:+0100
TZOFFSETTO:+0100
DTSTART:19460101T000000
RDATE:19800101T000000
END:STANDARD
BEGIN:STANDARD
TZNAME:CET
TZOFFSETFROM:+0200
TZOFFSETTO:+0100
DTSTART:19471005T030000
RRULE:FREQ=YEARLY;UNTIL=19491002T010000Z;BYMONTH=10;BYDAY=1SU
END:STANDARD
BEGIN:STANDARD
TZNAME:CET
TZOFFSETFROM:+0200
TZOFFSETTO:+0100
DTSTART:19800928T030000
RRULE:FREQ=YEARLY;UNTIL=19950924T010000Z;BYMONTH=9;BYDAY=-1SU
END:STANDARD
BEGIN:DAYLIGHT
TZNAME:CEST
TZOFFSETFROM:+0100
TZOFFSETTO:+0200
DTSTART:19810329T020000
RRULE:FREQ=YEARLY;BYMONTH=3;BYDAY=-1SU
END:DAYLIGHT
BEGIN:STANDARD
TZNAME:CET
TZOFFSETFROM:+0200
TZOFFSETTO:+0100
DTSTART:19961027T030000
RRULE:FREQ=YEARLY;BYMONTH=10;BYDAY=-1SU
END:STANDARD
END:VTIMEZONE
BEGIN:VEVENT
DTSTAMP:20260424T181547Z
DTSTART;TZID=Europe/Berlin:20170902T133000
DTEND;TZID=Europe/Berlin:20170902T163000
SUMMARY:R1 1.Div B Dierikon-Ebikon vs Rothenburg (2)
UID:6010be51-4e41-5356-e053-1fc7a80a74f7
STATUS:CONFIRMED
LAST-MODIFIED:20170904T051351Z
DESCRIPTION:1. Runde 1. Division Gruppe B\nBegegnungs-Nr: 2\nHeim: Dierikon-Ebikon\nGast: Rothenburg\nHalle: Kriens\nAdresse: Rankstrasse\, 6030 Ebikon\n
LOCATION:Kriens Rankstrasse\, 6030 Ebikon
CATEGORIES:Saison 2017/18
END:VEVENT
BEGIN:VEVENT
DTSTAMP:20260424T181547Z
DTSTART;TZID=Europe/Berlin:20171216T163000
DTEND;TZID=Europe/Berlin:20171216T193000
SUMMARY:R2 2.Div Dierikon-Ebikon vs Reussbühl (6)
UID:6010be51-5069-5356-e053-1fc7a80a74f7
STATUS:CONFIRMED
LAST-MODIFIED:20171215T153804Z
DESCRIPTION:2. Runde 2. Division\nBegegnungs-Nr: 6\nHeim: Dierikon-Ebikon\nGast: Reussbühl\nHalle: Reussbühl\nAdresse: Rankstrasse\, 6030 Ebikon\n
LOCATION:Reussbühl Rankstrasse\, 6030 Ebikon
CATEGORIES:Saison 2017/18
END:VEVENT
BEGIN:VEVENT
DTSTAMP:20260424T181547Z
DTSTART;TZID=Europe/Berlin:20170310T163000
DTEND;TZID=Europe/Berlin:20170310T193000
SUMMARY:R3 2.Div Dierikon-Ebikon vs Rotkreuz (6)
UID:7b2e12d3-b743-47e0-8322-3d666fd451aa
STATUS:CONFIRMED
LAST-MODIFIED:20180311T085247Z
DESCRIPTION:3. Runde 2. Division\nBegegnungs-Nr: 6\nHeim: Dierikon-Ebikon\nGast: Rotkreuz\nHalle: Rothenburg\nAdresse: Rankstrasse\, 6030 Ebikon\n
LOCATION:Rothenburg Rankstrasse\, 6030 Ebikon
CATEGORIES:Saison 2017/18
END:VEVENT
BEGIN:VEVENT
DTSTAMP:20260424T181547Z
DTSTART;TZID=Europe/Berlin:20170902T150000
DTEND;TZID=Europe/Berlin:20170902T180000
SUMMARY:R1 1.Div B Kriens vs Dierikon-Ebikon (4)
UID:6010be51-4e3a-5356-e053-1fc7a80a74f7
STATUS:CONFIRMED
LAST-MODIFIED:20170904T051120Z
DESCRIPTION:1. Runde 1. Division Gruppe B\nBegegnungs-Nr: 4\nHeim: Kriens\nGast: Dierikon-Ebikon\n
LOCATION:
CATEGORIES:Saison 2017/18
END:VEVENT
BEGIN:VEVENT
DTSTAMP:20260424T181547Z
DTSTART;TZID=Europe/Berlin:20171216T150000
DTEND;TZID=Europe/Berlin:20171216T180000
SUMMARY:R2 2.Div Schenkon vs Dierikon-Ebikon (4)
UID:6010be51-5065-5356-e053-1fc7a80a74f7
STATUS:CONFIRMED
LAST-MODIFIED:20171215T153727Z
DESCRIPTION:2. Runde 2. Division\nBegegnungs-Nr: 4\nHeim: Schenkon\nGast: Dierikon-Ebikon\n
LOCATION:
CATEGORIES:Saison 2017/18
END:VEVENT
BEGIN:VEVENT
DTSTAMP:20260424T181547Z
DTSTART;TZID=Europe/Berlin:20170310T133000
DTEND;TZID=Europe/Berlin:20170310T163000
SUMMARY:R3 2.Div Reussbühl vs Dierikon-Ebikon (2)
UID:fe4a3188-7afe-435e-acf0-86cd6248da4c
STATUS:CONFIRMED
LAST-MODIFIED:20180311T084632Z
DESCRIPTION:3. Runde 2. Division\nBegegnungs-Nr: 2\nHeim: Reussbühl\nGast: Dierikon-Ebikon\n
LOCATION:
CATEGORIES:Saison 2017/18
END:VEVENT
END:VCALENDAR
