BEGIN:VCALENDAR
PRODID:-//nuDatenautomaten//framework iCal4j //DE
VERSION:2.0
CALSCALE:GREGORIAN
BEGIN:VTIMEZONE
TZID:Europe/Berlin
LAST-MODIFIED:20260306T231828Z
TZURL:https://www.tzurl.org/zoneinfo/Europe/Berlin
X-LIC-LOCATION:Europe/Berlin
X-PROLEPTIC-TZNAME:LMT
BEGIN:STANDARD
TZNAME:CET
TZOFFSETFROM:+005328
TZOFFSETTO:+0100
DTSTART:18930401T000000
END:STANDARD
BEGIN:DAYLIGHT
TZNAME:CEST
TZOFFSETFROM:+0100
TZOFFSETTO:+0200
DTSTART:19160430T230000
RDATE:19400401T020000
RDATE:19430329T020000
RDATE:19460414T020000
RDATE:19470406T030000
RDATE:19480418T020000
RDATE:19490410T020000
RDATE:19800406T020000
END:DAYLIGHT
BEGIN:STANDARD
TZNAME:CET
TZOFFSETFROM:+0200
TZOFFSETTO:+0100
DTSTART:19161001T010000
RDATE:19421102T030000
RDATE:19431004T030000
RDATE:19441002T030000
RDATE:19451118T030000
RDATE:19461007T030000
END:STANDARD
BEGIN:DAYLIGHT
TZNAME:CEST
TZOFFSETFROM:+0100
TZOFFSETTO:+0200
DTSTART:19170416T020000
RRULE:FREQ=YEARLY;UNTIL=19180415T010000Z;BYMONTH=4;BYDAY=3MO
END:DAYLIGHT
BEGIN:STANDARD
TZNAME:CET
TZOFFSETFROM:+0200
TZOFFSETTO:+0100
DTSTART:19170917T030000
RRULE:FREQ=YEARLY;UNTIL=19180916T010000Z;BYMONTH=9;BYDAY=3MO
END:STANDARD
BEGIN:DAYLIGHT
TZNAME:CEST
TZOFFSETFROM:+0100
TZOFFSETTO:+0200
DTSTART:19440403T020000
RRULE:FREQ=YEARLY;UNTIL=19450402T010000Z;BYMONTH=4;BYDAY=1MO
END:DAYLIGHT
BEGIN:DAYLIGHT
TZNAME:CEMT
TZOFFSETFROM:+0200
TZOFFSETTO:+0300
DTSTART:19450524T020000
RDATE:19470511T030000
END:DAYLIGHT
BEGIN:DAYLIGHT
TZNAME:CEST
TZOFFSETFROM:+0300
TZOFFSETTO:+0200
DTSTART:19450924T030000
RDATE:19470629T030000
END:DAYLIGHT
BEGIN:STANDARD
TZNAME:CET
TZOFFSETFROM:+0100
TZOFFSETTO:+0100
DTSTART:19460101T000000
RDATE:19800101T000000
END:STANDARD
BEGIN:STANDARD
TZNAME:CET
TZOFFSETFROM:+0200
TZOFFSETTO:+0100
DTSTART:19471005T030000
RRULE:FREQ=YEARLY;UNTIL=19491002T010000Z;BYMONTH=10;BYDAY=1SU
END:STANDARD
BEGIN:STANDARD
TZNAME:CET
TZOFFSETFROM:+0200
TZOFFSETTO:+0100
DTSTART:19800928T030000
RRULE:FREQ=YEARLY;UNTIL=19950924T010000Z;BYMONTH=9;BYDAY=-1SU
END:STANDARD
BEGIN:DAYLIGHT
TZNAME:CEST
TZOFFSETFROM:+0100
TZOFFSETTO:+0200
DTSTART:19810329T020000
RRULE:FREQ=YEARLY;BYMONTH=3;BYDAY=-1SU
END:DAYLIGHT
BEGIN:STANDARD
TZNAME:CET
TZOFFSETFROM:+0200
TZOFFSETTO:+0100
DTSTART:19961027T030000
RRULE:FREQ=YEARLY;BYMONTH=10;BYDAY=-1SU
END:STANDARD
END:VTIMEZONE
BEGIN:VEVENT
DTSTAMP:20260424T163251Z
DTSTART;TZID=Europe/Berlin:20171207T194500
DTEND;TZID=Europe/Berlin:20171207T224500
SUMMARY:Ligue 4 Gr.2\, Ph. A Silver Star VII vs Mandement VI (26)
UID:6010be51-51c3-5356-e053-1fc7a80a74f7
STATUS:CONFIRMED
LAST-MODIFIED:20171208T160005Z
DESCRIPTION:4ème ligue Hommes Gr. 2 Phase A\nBegegnungs-Nr: 26\nHeim: Silver Star VII\nGast: Mandement VI\n\nAdresse: Rue de Vermont 33\, 1202 Genève\n
LOCATION:Rue de Vermont 33\, 1202 Genève
CATEGORIES:Saison 2017/18
END:VEVENT
BEGIN:VEVENT
DTSTAMP:20260424T163251Z
DTSTART;TZID=Europe/Berlin:20171130T194500
DTEND;TZID=Europe/Berlin:20171130T224500
SUMMARY:Ligue 4 Gr.2\, Ph. A Silver Star VII vs Puplinge II (23)
UID:6010be51-51c6-5356-e053-1fc7a80a74f7
STATUS:CONFIRMED
LAST-MODIFIED:20171201T080846Z
DESCRIPTION:4ème ligue Hommes Gr. 2 Phase A\nBegegnungs-Nr: 23\nHeim: Silver Star VII\nGast: Puplinge II\n\nAdresse: Rue de Vermont 33\, 1202 Genève\n
LOCATION:Rue de Vermont 33\, 1202 Genève
CATEGORIES:Saison 2017/18
END:VEVENT
BEGIN:VEVENT
DTSTAMP:20260424T163251Z
DTSTART;TZID=Europe/Berlin:20171019T000000
DTEND;TZID=Europe/Berlin:20171019T030000
SUMMARY:Ligue 4 Gr.2\, Ph. A Silver Star VII vs spielfrei (13)
UID:6010be51-51d0-5356-e053-1fc7a80a74f7
STATUS:CONFIRMED
DESCRIPTION:4ème ligue Hommes Gr. 2 Phase A\nBegegnungs-Nr: 13\nHeim: Silver Star VII\nGast: spielfrei\n\nAdresse: Rue de Vermont 33\, 1202 Genève\n
LOCATION:Rue de Vermont 33\, 1202 Genève
CATEGORIES:Saison 2017/18
END:VEVENT
BEGIN:VEVENT
DTSTAMP:20260424T163251Z
DTSTART;TZID=Europe/Berlin:20170921T194500
DTEND;TZID=Europe/Berlin:20170921T224500
SUMMARY:Ligue 4 Gr.2\, Ph. A Silver Star VII vs Carouge VIII (6)
UID:6010be51-5208-5356-e053-1fc7a80a74f7
STATUS:CONFIRMED
LAST-MODIFIED:20170922T161332Z
DESCRIPTION:4ème ligue Hommes Gr. 2 Phase A\nBegegnungs-Nr: 6\nHeim: Silver Star VII\nGast: Carouge VIII\n\nAdresse: Rue de Vermont 33\, 1202 Genève\n
LOCATION:Rue de Vermont 33\, 1202 Genève
CATEGORIES:Saison 2017/18
END:VEVENT
BEGIN:VEVENT
DTSTAMP:20260424T163251Z
DTSTART;TZID=Europe/Berlin:20171109T194500
DTEND;TZID=Europe/Berlin:20171109T224500
SUMMARY:Ligue 4 Gr.2\, Ph. A Silver Star VII vs Onex V (17)
UID:6010be51-5711-5356-e053-1fc7a80a74f7
STATUS:CONFIRMED
LAST-MODIFIED:20171110T081258Z
DESCRIPTION:4ème ligue Hommes Gr. 2 Phase A\nBegegnungs-Nr: 17\nHeim: Silver Star VII\nGast: Onex V\n\nAdresse: Rue de Vermont 33\, 1202 Genève\n
LOCATION:Rue de Vermont 33\, 1202 Genève
CATEGORIES:Saison 2017/18
END:VEVENT
BEGIN:VEVENT
DTSTAMP:20260424T163251Z
DTSTART;TZID=Europe/Berlin:20180118T194500
DTEND;TZID=Europe/Berlin:20180118T224500
SUMMARY:Ligue 4 Gr.2\, Ph. B Silver Star VII vs UGS-Chênois XIII (5)
UID:5eb0a7c4-6b72-45d1-8797-60b3ea67cb11
STATUS:CONFIRMED
LAST-MODIFIED:20180117T145716Z
DESCRIPTION:4ème ligue Hommes Gr. 2 Phase B\nBegegnungs-Nr: 5\nHeim: Silver Star VII\nGast: UGS-Chênois XIII\n\nAdresse: Rue de Vermont 33\, 1202 Genève\n
LOCATION:Rue de Vermont 33\, 1202 Genève
CATEGORIES:Saison 2017/18
END:VEVENT
BEGIN:VEVENT
DTSTAMP:20260424T163251Z
DTSTART;TZID=Europe/Berlin:20180419T194500
DTEND;TZID=Europe/Berlin:20180419T224500
SUMMARY:Ligue 4 Gr.2\, Ph. B Silver Star VII vs Onex III (29)
UID:1801b988-c4e7-4102-bd18-92f5f031111f
STATUS:CONFIRMED
LAST-MODIFIED:20180420T074555Z
DESCRIPTION:4ème ligue Hommes Gr. 2 Phase B\nBegegnungs-Nr: 29\nHeim: Silver Star VII\nGast: Onex III\n\nAdresse: Rue de Vermont 33\, 1202 Genève\n
LOCATION:Rue de Vermont 33\, 1202 Genève
CATEGORIES:Saison 2017/18
END:VEVENT
BEGIN:VEVENT
DTSTAMP:20260424T163251Z
DTSTART;TZID=Europe/Berlin:20180322T194500
DTEND;TZID=Europe/Berlin:20180322T224500
SUMMARY:Ligue 4 Gr.2\, Ph. B Silver Star VII vs Migros II (24)
UID:0bfac184-edb5-4d9b-ace5-a799f953f99d
STATUS:CONFIRMED
LAST-MODIFIED:20180323T084644Z
DESCRIPTION:4ème ligue Hommes Gr. 2 Phase B\nBegegnungs-Nr: 24\nHeim: Silver Star VII\nGast: Migros II\n\nAdresse: Rue de Vermont 33\, 1202 Genève\n
LOCATION:Rue de Vermont 33\, 1202 Genève
CATEGORIES:Saison 2017/18
END:VEVENT
BEGIN:VEVENT
DTSTAMP:20260424T163251Z
DTSTART;TZID=Europe/Berlin:20180308T194500
DTEND;TZID=Europe/Berlin:20180308T224500
SUMMARY:Ligue 4 Gr.2\, Ph. B Silver Star VII vs Meyrin V (16)
UID:287d57aa-816a-40ca-89e8-378036b5cac7
STATUS:CONFIRMED
LAST-MODIFIED:20180420T075645Z
DESCRIPTION:4ème ligue Hommes Gr. 2 Phase B\nBegegnungs-Nr: 16\nHeim: Silver Star VII\nGast: Meyrin V\n\nAdresse: Rue de Vermont 33\, 1202 Genève\n
LOCATION:Rue de Vermont 33\, 1202 Genève
CATEGORIES:Saison 2017/18
END:VEVENT
BEGIN:VEVENT
DTSTAMP:20260424T163251Z
DTSTART;TZID=Europe/Berlin:20180208T194500
DTEND;TZID=Europe/Berlin:20180208T224500
SUMMARY:Ligue 4 Gr.2\, Ph. B Silver Star VII vs Rapid-Genève V (11)
UID:d06d9868-1ca7-4129-b11b-8dc1f741ae22
STATUS:CONFIRMED
LAST-MODIFIED:20180209T101457Z
DESCRIPTION:4ème ligue Hommes Gr. 2 Phase B\nBegegnungs-Nr: 11\nHeim: Silver Star VII\nGast: Rapid-Genève V\n\nAdresse: Rue de Vermont 33\, 1202 Genève\n
LOCATION:Rue de Vermont 33\, 1202 Genève
CATEGORIES:Saison 2017/18
END:VEVENT
BEGIN:VEVENT
DTSTAMP:20260424T163251Z
DTSTART;TZID=Europe/Berlin:20180524T194500
DTEND;TZID=Europe/Berlin:20180524T224500
SUMMARY:Ligue 4 Titre demi\, Ph.B Silver Star VII vs Vernier IV (2)
UID:e94fe3b6-e7f8-41bb-94e2-17f5cc32fc4e
STATUS:CONFIRMED
LAST-MODIFIED:20180525T092949Z
DESCRIPTION:4ème ligue Hommes Titre demi Phase B\nBegegnungs-Nr: 2\nHeim: Silver Star VII\nGast: Vernier IV\n
LOCATION:
CATEGORIES:Saison 2017/18
END:VEVENT
BEGIN:VEVENT
DTSTAMP:20260424T163251Z
DTSTART;TZID=Europe/Berlin:20171116T194500
DTEND;TZID=Europe/Berlin:20171116T224500
SUMMARY:Ligue 4 Gr.2\, Ph. A Carouge VIII vs Silver Star VII (20)
UID:6010be51-51c8-5356-e053-1fc7a80a74f7
STATUS:CONFIRMED
LAST-MODIFIED:20171117T082349Z
DESCRIPTION:4ème ligue Hommes Gr. 2 Phase A\nBegegnungs-Nr: 20\nHeim: Carouge VIII\nGast: Silver Star VII\n
LOCATION:
CATEGORIES:Saison 2017/18
END:VEVENT
BEGIN:VEVENT
DTSTAMP:20260424T163251Z
DTSTART;TZID=Europe/Berlin:20171012T194500
DTEND;TZID=Europe/Berlin:20171012T224500
SUMMARY:Ligue 4 Gr.2\, Ph. A Mandement VI vs Silver Star VII (12)
UID:6010be51-51d1-5356-e053-1fc7a80a74f7
STATUS:CONFIRMED
LAST-MODIFIED:20171013T080323Z
DESCRIPTION:4ème ligue Hommes Gr. 2 Phase A\nBegegnungs-Nr: 12\nHeim: Mandement VI\nGast: Silver Star VII\n
LOCATION:
CATEGORIES:Saison 2017/18
END:VEVENT
BEGIN:VEVENT
DTSTAMP:20260424T163251Z
DTSTART;TZID=Europe/Berlin:20170928T194500
DTEND;TZID=Europe/Berlin:20170928T224500
SUMMARY:Ligue 4 Gr.2\, Ph. A Puplinge II vs Silver Star VII (9)
UID:6010be51-5205-5356-e053-1fc7a80a74f7
STATUS:CONFIRMED
LAST-MODIFIED:20170929T073614Z
DESCRIPTION:4ème ligue Hommes Gr. 2 Phase A\nBegegnungs-Nr: 9\nHeim: Puplinge II\nGast: Silver Star VII\n
LOCATION:
CATEGORIES:Saison 2017/18
END:VEVENT
BEGIN:VEVENT
DTSTAMP:20260424T163251Z
DTSTART;TZID=Europe/Berlin:20180315T194500
DTEND;TZID=Europe/Berlin:20180315T224500
SUMMARY:Ligue 4 Gr.2\, Ph. B UGS-Chênois XIII vs Silver Star VII (20)
UID:8dc4c05e-f803-4a87-a673-58d0e970b090
STATUS:CONFIRMED
LAST-MODIFIED:20180315T192003Z
DESCRIPTION:4ème ligue Hommes Gr. 2 Phase B\nBegegnungs-Nr: 20\nHeim: UGS-Chênois XIII\nGast: Silver Star VII\n
LOCATION:
CATEGORIES:Saison 2017/18
END:VEVENT
BEGIN:VEVENT
DTSTAMP:20260424T163251Z
DTSTART;TZID=Europe/Berlin:20180111T194500
DTEND;TZID=Europe/Berlin:20180111T224500
SUMMARY:Ligue 4 Gr.2\, Ph. B Meyrin V vs Silver Star VII (1)
UID:8cc6b4ed-bd9e-4a19-9e1b-441dc2dc3eea
STATUS:CONFIRMED
LAST-MODIFIED:20180420T195641Z
DESCRIPTION:4ème ligue Hommes Gr. 2 Phase B\nBegegnungs-Nr: 1\nHeim: Meyrin V\nGast: Silver Star VII\n
LOCATION:
CATEGORIES:Saison 2017/18
END:VEVENT
BEGIN:VEVENT
DTSTAMP:20260424T163251Z
DTSTART;TZID=Europe/Berlin:20180301T194500
DTEND;TZID=Europe/Berlin:20180301T224500
SUMMARY:Ligue 4 Gr.2\, Ph. B Onex III vs Silver Star VII (14)
UID:cd11b57b-9ce2-4aef-846c-351a66d80825
STATUS:CONFIRMED
LAST-MODIFIED:20180302T205510Z
DESCRIPTION:4ème ligue Hommes Gr. 2 Phase B\nBegegnungs-Nr: 14\nHeim: Onex III\nGast: Silver Star VII\n
LOCATION:
CATEGORIES:Saison 2017/18
END:VEVENT
BEGIN:VEVENT
DTSTAMP:20260424T163251Z
DTSTART;TZID=Europe/Berlin:20180201T194500
DTEND;TZID=Europe/Berlin:20180201T224500
SUMMARY:Ligue 4 Gr.2\, Ph. B Migros II vs Silver Star VII (9)
UID:9356be0b-66a2-4762-af4a-41c4b9e55590
STATUS:CONFIRMED
LAST-MODIFIED:20180202T081711Z
DESCRIPTION:4ème ligue Hommes Gr. 2 Phase B\nBegegnungs-Nr: 9\nHeim: Migros II\nGast: Silver Star VII\n
LOCATION:
CATEGORIES:Saison 2017/18
END:VEVENT
BEGIN:VEVENT
DTSTAMP:20260424T163251Z
DTSTART;TZID=Europe/Berlin:20180412T194500
DTEND;TZID=Europe/Berlin:20180412T224500
SUMMARY:Ligue 4 Gr.2\, Ph. B Rapid-Genève V vs Silver Star VII (26)
UID:802605db-e537-4971-be29-9635e96ba77e
STATUS:CONFIRMED
LAST-MODIFIED:20180413T194833Z
DESCRIPTION:4ème ligue Hommes Gr. 2 Phase B\nBegegnungs-Nr: 26\nHeim: Rapid-Genève V\nGast: Silver Star VII\n
LOCATION:
CATEGORIES:Saison 2017/18
END:VEVENT
BEGIN:VEVENT
DTSTAMP:20260424T163251Z
DTSTART;TZID=Europe/Berlin:20180531T194500
DTEND;TZID=Europe/Berlin:20180531T224500
SUMMARY:Ligue 4 Titre finale\, Ph.B Grand-Saconnex vs Silver Star VII (1)
UID:d29ee735-ca24-439e-9888-437304817f38
STATUS:CONFIRMED
LAST-MODIFIED:20180601T155211Z
DESCRIPTION:4ème ligue Hommes Titre finale Phase B\nBegegnungs-Nr: 1\nHeim: Grand-Saconnex\nGast: Silver Star VII\n
LOCATION:
CATEGORIES:Saison 2017/18
END:VEVENT
BEGIN:VEVENT
DTSTAMP:20260424T163251Z
DTSTART;TZID=Europe/Berlin:20170914T194500
DTEND;TZID=Europe/Berlin:20170914T224500
SUMMARY:Ligue 4 Gr.2\, Ph. A Onex V vs Silver Star VII (3)
UID:6010be51-518c-5356-e053-1fc7a80a74f7
STATUS:CONFIRMED
LAST-MODIFIED:20170917T130011Z
DESCRIPTION:4ème ligue Hommes Gr. 2 Phase A\nBegegnungs-Nr: 3\nHeim: Onex V\nGast: Silver Star VII\n
LOCATION:
CATEGORIES:Saison 2017/18
END:VEVENT
BEGIN:VEVENT
DTSTAMP:20260424T163251Z
DTSTART;TZID=Europe/Berlin:20171214T000000
DTEND;TZID=Europe/Berlin:20171214T030000
SUMMARY:Ligue 4 Gr.2\, Ph. A spielfrei vs Silver Star VII (28)
UID:6010be51-518f-5356-e053-1fc7a80a74f7
STATUS:CONFIRMED
DESCRIPTION:4ème ligue Hommes Gr. 2 Phase A\nBegegnungs-Nr: 28\nHeim: spielfrei\nGast: Silver Star VII\n
LOCATION:
CATEGORIES:Saison 2017/18
END:VEVENT
BEGIN:VEVENT
DTSTAMP:20260424T163251Z
DTSTART;TZID=Europe/Berlin:20180608T194500
DTEND;TZID=Europe/Berlin:20180608T224500
SUMMARY:Ligue 4 Titre Vernier V vs Silver Star VII (1)
UID:a514852e-a805-4562-b733-838e5ce45c8f
STATUS:CONFIRMED
LAST-MODIFIED:20180610T111020Z
DESCRIPTION:4ème ligue Hommes Titre 2017 / 2018\nBegegnungs-Nr: 1\nHeim: Vernier V\nGast: Silver Star VII\n
LOCATION:
CATEGORIES:Saison 2017/18
END:VEVENT
END:VCALENDAR
