BEGIN:VCALENDAR
PRODID:-//nuDatenautomaten//framework iCal4j //DE
VERSION:2.0
CALSCALE:GREGORIAN
BEGIN:VTIMEZONE
TZID:Europe/Berlin
LAST-MODIFIED:20260306T231828Z
TZURL:https://www.tzurl.org/zoneinfo/Europe/Berlin
X-LIC-LOCATION:Europe/Berlin
X-PROLEPTIC-TZNAME:LMT
BEGIN:STANDARD
TZNAME:CET
TZOFFSETFROM:+005328
TZOFFSETTO:+0100
DTSTART:18930401T000000
END:STANDARD
BEGIN:DAYLIGHT
TZNAME:CEST
TZOFFSETFROM:+0100
TZOFFSETTO:+0200
DTSTART:19160430T230000
RDATE:19400401T020000
RDATE:19430329T020000
RDATE:19460414T020000
RDATE:19470406T030000
RDATE:19480418T020000
RDATE:19490410T020000
RDATE:19800406T020000
END:DAYLIGHT
BEGIN:STANDARD
TZNAME:CET
TZOFFSETFROM:+0200
TZOFFSETTO:+0100
DTSTART:19161001T010000
RDATE:19421102T030000
RDATE:19431004T030000
RDATE:19441002T030000
RDATE:19451118T030000
RDATE:19461007T030000
END:STANDARD
BEGIN:DAYLIGHT
TZNAME:CEST
TZOFFSETFROM:+0100
TZOFFSETTO:+0200
DTSTART:19170416T020000
RRULE:FREQ=YEARLY;UNTIL=19180415T010000Z;BYMONTH=4;BYDAY=3MO
END:DAYLIGHT
BEGIN:STANDARD
TZNAME:CET
TZOFFSETFROM:+0200
TZOFFSETTO:+0100
DTSTART:19170917T030000
RRULE:FREQ=YEARLY;UNTIL=19180916T010000Z;BYMONTH=9;BYDAY=3MO
END:STANDARD
BEGIN:DAYLIGHT
TZNAME:CEST
TZOFFSETFROM:+0100
TZOFFSETTO:+0200
DTSTART:19440403T020000
RRULE:FREQ=YEARLY;UNTIL=19450402T010000Z;BYMONTH=4;BYDAY=1MO
END:DAYLIGHT
BEGIN:DAYLIGHT
TZNAME:CEMT
TZOFFSETFROM:+0200
TZOFFSETTO:+0300
DTSTART:19450524T020000
RDATE:19470511T030000
END:DAYLIGHT
BEGIN:DAYLIGHT
TZNAME:CEST
TZOFFSETFROM:+0300
TZOFFSETTO:+0200
DTSTART:19450924T030000
RDATE:19470629T030000
END:DAYLIGHT
BEGIN:STANDARD
TZNAME:CET
TZOFFSETFROM:+0100
TZOFFSETTO:+0100
DTSTART:19460101T000000
RDATE:19800101T000000
END:STANDARD
BEGIN:STANDARD
TZNAME:CET
TZOFFSETFROM:+0200
TZOFFSETTO:+0100
DTSTART:19471005T030000
RRULE:FREQ=YEARLY;UNTIL=19491002T010000Z;BYMONTH=10;BYDAY=1SU
END:STANDARD
BEGIN:STANDARD
TZNAME:CET
TZOFFSETFROM:+0200
TZOFFSETTO:+0100
DTSTART:19800928T030000
RRULE:FREQ=YEARLY;UNTIL=19950924T010000Z;BYMONTH=9;BYDAY=-1SU
END:STANDARD
BEGIN:DAYLIGHT
TZNAME:CEST
TZOFFSETFROM:+0100
TZOFFSETTO:+0200
DTSTART:19810329T020000
RRULE:FREQ=YEARLY;BYMONTH=3;BYDAY=-1SU
END:DAYLIGHT
BEGIN:STANDARD
TZNAME:CET
TZOFFSETFROM:+0200
TZOFFSETTO:+0100
DTSTART:19961027T030000
RRULE:FREQ=YEARLY;BYMONTH=10;BYDAY=-1SU
END:STANDARD
END:VTIMEZONE
BEGIN:VEVENT
DTSTAMP:20260419T211425Z
DTSTART;TZID=Europe/Berlin:20171009T200000
DTEND;TZID=Europe/Berlin:20171009T230000
SUMMARY:S L1 Gr 1 Forward-Morges vs Montriond (0)
UID:6010be51-51ea-5356-e053-1fc7a80a74f7
STATUS:CONFIRMED
LAST-MODIFIED:20171016T115618Z
DESCRIPTION:1ère ligue Seniors Groupe 1\nBegegnungs-Nr: 0\nHeim: Forward-Morges\nGast: Montriond\n\nAdresse: Chemin de Tolochenaz\, 1110 Morges\n
LOCATION:Chemin de Tolochenaz\, 1110 Morges
CATEGORIES:Saison 2017/18
END:VEVENT
BEGIN:VEVENT
DTSTAMP:20260419T211425Z
DTSTART;TZID=Europe/Berlin:20171106T200000
DTEND;TZID=Europe/Berlin:20171106T230000
SUMMARY:S L1 Gr 1 Forward-Morges vs Collombey/Muraz (0)
UID:6010be51-51ee-5356-e053-1fc7a80a74f7
STATUS:CONFIRMED
LAST-MODIFIED:20171113T165343Z
DESCRIPTION:1ère ligue Seniors Groupe 1\nBegegnungs-Nr: 0\nHeim: Forward-Morges\nGast: Collombey/Muraz\n\nAdresse: Chemin de Tolochenaz\, 1110 Morges\n
LOCATION:Chemin de Tolochenaz\, 1110 Morges
CATEGORIES:Saison 2017/18
END:VEVENT
BEGIN:VEVENT
DTSTAMP:20260419T211425Z
DTSTART;TZID=Europe/Berlin:20180226T200000
DTEND;TZID=Europe/Berlin:20180226T230000
SUMMARY:S L1 Gr 1 Forward-Morges vs Vevey (0)
UID:6010be51-50a7-5356-e053-1fc7a80a74f7
STATUS:CONFIRMED
LAST-MODIFIED:20180305T175302Z
DESCRIPTION:1ère ligue Seniors Groupe 1\nBegegnungs-Nr: 0\nHeim: Forward-Morges\nGast: Vevey\n\nAdresse: Chemin de Tolochenaz\, 1110 Morges\n
LOCATION:Chemin de Tolochenaz\, 1110 Morges
CATEGORIES:Saison 2017/18
END:VEVENT
BEGIN:VEVENT
DTSTAMP:20260419T211425Z
DTSTART;TZID=Europe/Berlin:20180319T200000
DTEND;TZID=Europe/Berlin:20180319T230000
SUMMARY:S L1 Gr 1 Forward-Morges vs Bulle (0)
UID:6010be51-50a9-5356-e053-1fc7a80a74f7
STATUS:CONFIRMED
LAST-MODIFIED:20180326T162310Z
DESCRIPTION:1ère ligue Seniors Groupe 1\nBegegnungs-Nr: 0\nHeim: Forward-Morges\nGast: Bulle\n\nAdresse: Chemin de Tolochenaz\, 1110 Morges\n
LOCATION:Chemin de Tolochenaz\, 1110 Morges
CATEGORIES:Saison 2017/18
END:VEVENT
BEGIN:VEVENT
DTSTAMP:20260419T211425Z
DTSTART;TZID=Europe/Berlin:20171211T200000
DTEND;TZID=Europe/Berlin:20171211T230000
SUMMARY:S L1 Gr 1 Forward-Morges vs Crissier (0)
UID:6010be51-509d-5356-e053-1fc7a80a74f7
STATUS:CONFIRMED
LAST-MODIFIED:20171220T101403Z
DESCRIPTION:1ère ligue Seniors Groupe 1\nBegegnungs-Nr: 0\nHeim: Forward-Morges\nGast: Crissier\n\nAdresse: Chemin de Tolochenaz\, 1110 Morges\n
LOCATION:Chemin de Tolochenaz\, 1110 Morges
CATEGORIES:Saison 2017/18
END:VEVENT
BEGIN:VEVENT
DTSTAMP:20260419T211425Z
DTSTART;TZID=Europe/Berlin:20170921T193000
DTEND;TZID=Europe/Berlin:20170921T223000
SUMMARY:S L1 Gr 1 Crissier vs Forward-Morges (0)
UID:6010be51-51e8-5356-e053-1fc7a80a74f7
STATUS:CONFIRMED
LAST-MODIFIED:20170927T121454Z
DESCRIPTION:1ère ligue Seniors Groupe 1\nBegegnungs-Nr: 0\nHeim: Crissier\nGast: Forward-Morges\n\nAdresse: ch. des Oches du Mur\, 1023 Crissier\n
LOCATION:ch. des Oches du Mur\, 1023 Crissier
CATEGORIES:Saison 2017/18
END:VEVENT
BEGIN:VEVENT
DTSTAMP:20260419T211425Z
DTSTART;TZID=Europe/Berlin:20171123T193000
DTEND;TZID=Europe/Berlin:20171123T223000
SUMMARY:S L1 Gr 1 Vevey vs Forward-Morges (0)
UID:6010be51-51f0-5356-e053-1fc7a80a74f7
STATUS:CONFIRMED
LAST-MODIFIED:20171129T103838Z
DESCRIPTION:1ère ligue Seniors Groupe 1\nBegegnungs-Nr: 0\nHeim: Vevey\nGast: Forward-Morges\n\nAdresse: Rue Louis-Meyer\, 1800 Vevey\n
LOCATION:Rue Louis-Meyer\, 1800 Vevey
CATEGORIES:Saison 2017/18
END:VEVENT
BEGIN:VEVENT
DTSTAMP:20260419T211425Z
DTSTART;TZID=Europe/Berlin:20171206T193000
DTEND;TZID=Europe/Berlin:20171206T223000
SUMMARY:S L1 Gr 1 Bulle vs Forward-Morges (0)
UID:6010be51-51f2-5356-e053-1fc7a80a74f7
STATUS:CONFIRMED
LAST-MODIFIED:20171214T152455Z
DESCRIPTION:1ère ligue Seniors Groupe 1\nBegegnungs-Nr: 0\nHeim: Bulle\nGast: Forward-Morges\n\nAdresse: Rue du Stade 50\, 1630 Bulle\n
LOCATION:Rue du Stade 50\, 1630 Bulle
CATEGORIES:Saison 2017/18
END:VEVENT
BEGIN:VEVENT
DTSTAMP:20260419T211425Z
DTSTART;TZID=Europe/Berlin:20180112T193000
DTEND;TZID=Europe/Berlin:20180112T223000
SUMMARY:S L1 Gr 1 Montriond vs Forward-Morges (0)
UID:6010be51-509f-5356-e053-1fc7a80a74f7
STATUS:CONFIRMED
LAST-MODIFIED:20180118T165450Z
DESCRIPTION:1ère ligue Seniors Groupe 1\nBegegnungs-Nr: 0\nHeim: Montriond\nGast: Forward-Morges\n\nAdresse: Avenue d'Ouchy 45\, 1006 Lausanne\n
LOCATION:Avenue d'Ouchy 45\, 1006 Lausanne
CATEGORIES:Saison 2017/18
END:VEVENT
BEGIN:VEVENT
DTSTAMP:20260419T211425Z
DTSTART;TZID=Europe/Berlin:20180207T193000
DTEND;TZID=Europe/Berlin:20180207T223000
SUMMARY:S L1 Gr 1 Collombey/Muraz vs Forward-Morges (0)
UID:6010be51-50a4-5356-e053-1fc7a80a74f7
STATUS:CONFIRMED
LAST-MODIFIED:20180213T155156Z
DESCRIPTION:1ère ligue Seniors Groupe 1\nBegegnungs-Nr: 0\nHeim: Collombey/Muraz\nGast: Forward-Morges\n\nAdresse: Route du Montagnier 81\, 1868 Collombey\n
LOCATION:Route du Montagnier 81\, 1868 Collombey
CATEGORIES:Saison 2017/18
END:VEVENT
END:VCALENDAR
