BEGIN:VCALENDAR
PRODID:-//nuDatenautomaten//framework iCal4j //DE
VERSION:2.0
CALSCALE:GREGORIAN
BEGIN:VTIMEZONE
TZID:Europe/Berlin
LAST-MODIFIED:20260306T231828Z
TZURL:https://www.tzurl.org/zoneinfo/Europe/Berlin
X-LIC-LOCATION:Europe/Berlin
X-PROLEPTIC-TZNAME:LMT
BEGIN:STANDARD
TZNAME:CET
TZOFFSETFROM:+005328
TZOFFSETTO:+0100
DTSTART:18930401T000000
END:STANDARD
BEGIN:DAYLIGHT
TZNAME:CEST
TZOFFSETFROM:+0100
TZOFFSETTO:+0200
DTSTART:19160430T230000
RDATE:19400401T020000
RDATE:19430329T020000
RDATE:19460414T020000
RDATE:19470406T030000
RDATE:19480418T020000
RDATE:19490410T020000
RDATE:19800406T020000
END:DAYLIGHT
BEGIN:STANDARD
TZNAME:CET
TZOFFSETFROM:+0200
TZOFFSETTO:+0100
DTSTART:19161001T010000
RDATE:19421102T030000
RDATE:19431004T030000
RDATE:19441002T030000
RDATE:19451118T030000
RDATE:19461007T030000
END:STANDARD
BEGIN:DAYLIGHT
TZNAME:CEST
TZOFFSETFROM:+0100
TZOFFSETTO:+0200
DTSTART:19170416T020000
RRULE:FREQ=YEARLY;UNTIL=19180415T010000Z;BYMONTH=4;BYDAY=3MO
END:DAYLIGHT
BEGIN:STANDARD
TZNAME:CET
TZOFFSETFROM:+0200
TZOFFSETTO:+0100
DTSTART:19170917T030000
RRULE:FREQ=YEARLY;UNTIL=19180916T010000Z;BYMONTH=9;BYDAY=3MO
END:STANDARD
BEGIN:DAYLIGHT
TZNAME:CEST
TZOFFSETFROM:+0100
TZOFFSETTO:+0200
DTSTART:19440403T020000
RRULE:FREQ=YEARLY;UNTIL=19450402T010000Z;BYMONTH=4;BYDAY=1MO
END:DAYLIGHT
BEGIN:DAYLIGHT
TZNAME:CEMT
TZOFFSETFROM:+0200
TZOFFSETTO:+0300
DTSTART:19450524T020000
RDATE:19470511T030000
END:DAYLIGHT
BEGIN:DAYLIGHT
TZNAME:CEST
TZOFFSETFROM:+0300
TZOFFSETTO:+0200
DTSTART:19450924T030000
RDATE:19470629T030000
END:DAYLIGHT
BEGIN:STANDARD
TZNAME:CET
TZOFFSETFROM:+0100
TZOFFSETTO:+0100
DTSTART:19460101T000000
RDATE:19800101T000000
END:STANDARD
BEGIN:STANDARD
TZNAME:CET
TZOFFSETFROM:+0200
TZOFFSETTO:+0100
DTSTART:19471005T030000
RRULE:FREQ=YEARLY;UNTIL=19491002T010000Z;BYMONTH=10;BYDAY=1SU
END:STANDARD
BEGIN:STANDARD
TZNAME:CET
TZOFFSETFROM:+0200
TZOFFSETTO:+0100
DTSTART:19800928T030000
RRULE:FREQ=YEARLY;UNTIL=19950924T010000Z;BYMONTH=9;BYDAY=-1SU
END:STANDARD
BEGIN:DAYLIGHT
TZNAME:CEST
TZOFFSETFROM:+0100
TZOFFSETTO:+0200
DTSTART:19810329T020000
RRULE:FREQ=YEARLY;BYMONTH=3;BYDAY=-1SU
END:DAYLIGHT
BEGIN:STANDARD
TZNAME:CET
TZOFFSETFROM:+0200
TZOFFSETTO:+0100
DTSTART:19961027T030000
RRULE:FREQ=YEARLY;BYMONTH=10;BYDAY=-1SU
END:STANDARD
END:VTIMEZONE
BEGIN:VEVENT
DTSTAMP:20260424T164556Z
DTSTART;TZID=Europe/Berlin:20170824T194500
DTEND;TZID=Europe/Berlin:20170824T224500
SUMMARY:L4P1G1 Porrentruy III vs Côte Peseux III (2)
UID:6010be51-4738-5356-e053-1fc7a80a74f7
STATUS:CONFIRMED
LAST-MODIFIED:20170827T091006Z
DESCRIPTION:4ème ligue phase 1 groupe 1\nBegegnungs-Nr: 2\nHeim: Porrentruy III\nGast: Côte Peseux III\n\nAdresse: Rue du Banné 14\, 2900 Porrentruy\n
LOCATION:Rue du Banné 14\, 2900 Porrentruy
CATEGORIES:Saison 2017/18
END:VEVENT
BEGIN:VEVENT
DTSTAMP:20260424T164556Z
DTSTART;TZID=Europe/Berlin:20170918T000000
DTEND;TZID=Europe/Berlin:20170918T030000
SUMMARY:L4P1G1 Porrentruy III vs spielfrei (12)
UID:6010be51-4741-5356-e053-1fc7a80a74f7
STATUS:CONFIRMED
DESCRIPTION:4ème ligue phase 1 groupe 1\nBegegnungs-Nr: 12\nHeim: Porrentruy III\nGast: spielfrei\n\nAdresse: Rue du Banné 14\, 2900 Porrentruy\n
LOCATION:Rue du Banné 14\, 2900 Porrentruy
CATEGORIES:Saison 2017/18
END:VEVENT
BEGIN:VEVENT
DTSTAMP:20260424T164556Z
DTSTART;TZID=Europe/Berlin:20171214T194500
DTEND;TZID=Europe/Berlin:20171214T224500
SUMMARY:L4P1G1 Porrentruy III vs Centre Portugais (41)
UID:6010be51-47b2-5356-e053-1fc7a80a74f7
STATUS:CONFIRMED
LAST-MODIFIED:20171217T171112Z
DESCRIPTION:4ème ligue phase 1 groupe 1\nBegegnungs-Nr: 41\nHeim: Porrentruy III\nGast: Centre Portugais\n\nAdresse: Rue du Banné 14\, 2900 Porrentruy\n
LOCATION:Rue du Banné 14\, 2900 Porrentruy
CATEGORIES:Saison 2017/18
END:VEVENT
BEGIN:VEVENT
DTSTAMP:20260424T164556Z
DTSTART;TZID=Europe/Berlin:20171116T194500
DTEND;TZID=Europe/Berlin:20171116T224500
SUMMARY:L4P1G1 Porrentruy III vs Nugerol-Le Landeron IV (32)
UID:6010be51-5731-5356-e053-1fc7a80a74f7
STATUS:CONFIRMED
LAST-MODIFIED:20171122T233906Z
DESCRIPTION:4ème ligue phase 1 groupe 1\nBegegnungs-Nr: 32\nHeim: Porrentruy III\nGast: Nugerol-Le Landeron IV\n\nAdresse: Rue du Banné 14\, 2900 Porrentruy\n
LOCATION:Rue du Banné 14\, 2900 Porrentruy
CATEGORIES:Saison 2017/18
END:VEVENT
BEGIN:VEVENT
DTSTAMP:20260424T164556Z
DTSTART;TZID=Europe/Berlin:20171019T194500
DTEND;TZID=Europe/Berlin:20171019T224500
SUMMARY:L4P1G1 Porrentruy III vs Moutier III (22)
UID:6010be51-4776-5356-e053-1fc7a80a74f7
STATUS:CONFIRMED
LAST-MODIFIED:20171020T105130Z
DESCRIPTION:4ème ligue phase 1 groupe 1\nBegegnungs-Nr: 22\nHeim: Porrentruy III\nGast: Moutier III\n\nAdresse: Rue du Banné 14\, 2900 Porrentruy\n
LOCATION:Rue du Banné 14\, 2900 Porrentruy
CATEGORIES:Saison 2017/18
END:VEVENT
BEGIN:VEVENT
DTSTAMP:20260424T164556Z
DTSTART;TZID=Europe/Berlin:20180208T194500
DTEND;TZID=Europe/Berlin:20180208T224500
SUMMARY:L4P2G1 Porrentruy III vs Centre Portugais (0)
UID:59d577e8-a38d-4500-b291-7630fc4ca8fc
STATUS:CONFIRMED
LAST-MODIFIED:20180212T150306Z
DESCRIPTION:4ème ligue phase 2 groupe 1\nBegegnungs-Nr: 0\nHeim: Porrentruy III\nGast: Centre Portugais\n\nAdresse: Rue du Banné 14\, 2900 Porrentruy\n
LOCATION:Rue du Banné 14\, 2900 Porrentruy
CATEGORIES:Saison 2017/18
END:VEVENT
BEGIN:VEVENT
DTSTAMP:20260424T164556Z
DTSTART;TZID=Europe/Berlin:20180412T194500
DTEND;TZID=Europe/Berlin:20180412T224500
SUMMARY:L4P2G1 Porrentruy III vs Coffrane II (0)
UID:45c0d93b-6d07-4c9c-93ab-94f0c2cd474c
STATUS:CONFIRMED
LAST-MODIFIED:20180416T084157Z
DESCRIPTION:4ème ligue phase 2 groupe 1\nBegegnungs-Nr: 0\nHeim: Porrentruy III\nGast: Coffrane II\n\nAdresse: Rue du Banné 14\, 2900 Porrentruy\n
LOCATION:Rue du Banné 14\, 2900 Porrentruy
CATEGORIES:Saison 2017/18
END:VEVENT
BEGIN:VEVENT
DTSTAMP:20260424T164556Z
DTSTART;TZID=Europe/Berlin:20180419T194500
DTEND;TZID=Europe/Berlin:20180419T224500
SUMMARY:L4P2G1 Porrentruy III vs Omega VI (0)
UID:c66f4029-e3f2-40f9-b09b-6bd55a3cfcd4
STATUS:CONFIRMED
LAST-MODIFIED:20180420T074316Z
DESCRIPTION:4ème ligue phase 2 groupe 1\nBegegnungs-Nr: 0\nHeim: Porrentruy III\nGast: Omega VI\n\nAdresse: Rue du Banné 14\, 2900 Porrentruy\n
LOCATION:Rue du Banné 14\, 2900 Porrentruy
CATEGORIES:Saison 2017/18
END:VEVENT
BEGIN:VEVENT
DTSTAMP:20260424T164556Z
DTSTART;TZID=Europe/Berlin:20180215T194500
DTEND;TZID=Europe/Berlin:20180215T224500
SUMMARY:L4P2G1 Porrentruy III vs Néraoui (0)
UID:13a30c61-b3e3-4f1a-8e4c-bf93227b206b
STATUS:CONFIRMED
LAST-MODIFIED:20180221T115238Z
DESCRIPTION:4ème ligue phase 2 groupe 1\nBegegnungs-Nr: 0\nHeim: Porrentruy III\nGast: Néraoui\n\nAdresse: Rue du Banné 14\, 2900 Porrentruy\n
LOCATION:Rue du Banné 14\, 2900 Porrentruy
CATEGORIES:Saison 2017/18
END:VEVENT
BEGIN:VEVENT
DTSTAMP:20260424T164556Z
DTSTART;TZID=Europe/Berlin:20170907T193000
DTEND;TZID=Europe/Berlin:20170907T223000
SUMMARY:L4P1G1 Néraoui II vs Porrentruy III (7)
UID:6010be51-473d-5356-e053-1fc7a80a74f7
STATUS:CONFIRMED
LAST-MODIFIED:20170909T094610Z
DESCRIPTION:4ème ligue phase 1 groupe 1\nBegegnungs-Nr: 7\nHeim: Néraoui II\nGast: Porrentruy III\n\nAdresse: Rue du collège 6\, 2103 Noiraigue\n
LOCATION:Rue du collège 6\, 2103 Noiraigue
CATEGORIES:Saison 2017/18
END:VEVENT
BEGIN:VEVENT
DTSTAMP:20260424T164556Z
DTSTART;TZID=Europe/Berlin:20171006T193000
DTEND;TZID=Europe/Berlin:20171006T223000
SUMMARY:L4P1G1 Omega VII vs Porrentruy III (17)
UID:6010be51-4745-5356-e053-1fc7a80a74f7
STATUS:CONFIRMED
LAST-MODIFIED:20171007T090440Z
DESCRIPTION:4ème ligue phase 1 groupe 1\nBegegnungs-Nr: 17\nHeim: Omega VII\nGast: Porrentruy III\n\nAdresse: Tennisweg 1\, 2504 Biel-Bienne\n
LOCATION:Tennisweg 1\, 2504 Biel-Bienne
CATEGORIES:Saison 2017/18
END:VEVENT
BEGIN:VEVENT
DTSTAMP:20260424T164556Z
DTSTART;TZID=Europe/Berlin:20171101T200000
DTEND;TZID=Europe/Berlin:20171101T230000
SUMMARY:L4P1G1 Omega VI vs Porrentruy III (27)
UID:6010be51-477a-5356-e053-1fc7a80a74f7
STATUS:CONFIRMED
LAST-MODIFIED:20171104T120032Z
DESCRIPTION:4ème ligue phase 1 groupe 1\nBegegnungs-Nr: 27\nHeim: Omega VI\nGast: Porrentruy III\n\nAdresse: Rue du Collège 1\, 2603 Péry\n
LOCATION:Rue du Collège 1\, 2603 Péry
CATEGORIES:Saison 2017/18
END:VEVENT
BEGIN:VEVENT
DTSTAMP:20260424T164556Z
DTSTART;TZID=Europe/Berlin:20171127T193000
DTEND;TZID=Europe/Berlin:20171127T223000
SUMMARY:L4P1G1 Le Locle IV vs Porrentruy III (37)
UID:6010be51-4784-5356-e053-1fc7a80a74f7
STATUS:CONFIRMED
LAST-MODIFIED:20171129T112220Z
DESCRIPTION:4ème ligue phase 1 groupe 1\nBegegnungs-Nr: 37\nHeim: Le Locle IV\nGast: Porrentruy III\n\nAdresse: Rue Girardet 9\, 2400 Le Locle\n
LOCATION:Rue Girardet 9\, 2400 Le Locle
CATEGORIES:Saison 2017/18
END:VEVENT
BEGIN:VEVENT
DTSTAMP:20260424T164556Z
DTSTART;TZID=Europe/Berlin:20180309T200000
DTEND;TZID=Europe/Berlin:20180309T230000
SUMMARY:L4P2G1 Moutier IV vs Porrentruy III (0)
UID:14322a45-a5b3-433d-96f7-43cc81b99694
STATUS:CONFIRMED
LAST-MODIFIED:20180313T104252Z
DESCRIPTION:4ème ligue phase 2 groupe 1\nBegegnungs-Nr: 0\nHeim: Moutier IV\nGast: Porrentruy III\n\nAdresse: Place Beseran\, 2740 Moutier\n
LOCATION:Place Beseran\, 2740 Moutier
CATEGORIES:Saison 2017/18
END:VEVENT
BEGIN:VEVENT
DTSTAMP:20260424T164556Z
DTSTART;TZID=Europe/Berlin:20180504T200000
DTEND;TZID=Europe/Berlin:20180504T230000
SUMMARY:L4P2G1 La Chaux-de-Fonds VII vs Porrentruy III (0)
UID:6a141660-ea90-46b4-8fd9-1a57664e3e48
STATUS:CONFIRMED
LAST-MODIFIED:20180507T080817Z
DESCRIPTION:4ème ligue phase 2 groupe 1\nBegegnungs-Nr: 0\nHeim: La Chaux-de-Fonds VII\nGast: Porrentruy III\n\nAdresse: Rue du Docteur-Kern 14\, 2300 La Chaux-de-Fonds\n
LOCATION:Rue du Docteur-Kern 14\, 2300 La Chaux-de-Fonds
CATEGORIES:Saison 2017/18
END:VEVENT
BEGIN:VEVENT
DTSTAMP:20260424T164556Z
DTSTART;TZID=Europe/Berlin:20180108T194500
DTEND;TZID=Europe/Berlin:20180108T224500
SUMMARY:L4P2G1 Tramelan III vs Porrentruy III (0)
UID:e5916755-9495-4531-b42a-e101d79cea14
STATUS:CONFIRMED
LAST-MODIFIED:20180112T115633Z
DESCRIPTION:4ème ligue phase 2 groupe 1\nBegegnungs-Nr: 0\nHeim: Tramelan III\nGast: Porrentruy III\n\nAdresse: Rue du Collège 13\, 2720 Tramelan\n
LOCATION:Rue du Collège 13\, 2720 Tramelan
CATEGORIES:Saison 2017/18
END:VEVENT
BEGIN:VEVENT
DTSTAMP:20260424T164556Z
DTSTART;TZID=Europe/Berlin:20180221T200000
DTEND;TZID=Europe/Berlin:20180221T230000
SUMMARY:L4P2G1 Omega V vs Porrentruy III (0)
UID:f230219a-cd78-48e5-818d-5e191159497d
STATUS:CONFIRMED
LAST-MODIFIED:20180223T101538Z
DESCRIPTION:4ème ligue phase 2 groupe 1\nBegegnungs-Nr: 0\nHeim: Omega V\nGast: Porrentruy III\n\nAdresse: Tennisweg 1\, 2504 Biel-Bienne\n
LOCATION:Tennisweg 1\, 2504 Biel-Bienne
CATEGORIES:Saison 2017/18
END:VEVENT
END:VCALENDAR
