BEGIN:VCALENDAR
PRODID:-//nuDatenautomaten//framework iCal4j //DE
VERSION:2.0
CALSCALE:GREGORIAN
BEGIN:VTIMEZONE
TZID:Europe/Berlin
LAST-MODIFIED:20260306T231828Z
TZURL:https://www.tzurl.org/zoneinfo/Europe/Berlin
X-LIC-LOCATION:Europe/Berlin
X-PROLEPTIC-TZNAME:LMT
BEGIN:STANDARD
TZNAME:CET
TZOFFSETFROM:+005328
TZOFFSETTO:+0100
DTSTART:18930401T000000
END:STANDARD
BEGIN:DAYLIGHT
TZNAME:CEST
TZOFFSETFROM:+0100
TZOFFSETTO:+0200
DTSTART:19160430T230000
RDATE:19400401T020000
RDATE:19430329T020000
RDATE:19460414T020000
RDATE:19470406T030000
RDATE:19480418T020000
RDATE:19490410T020000
RDATE:19800406T020000
END:DAYLIGHT
BEGIN:STANDARD
TZNAME:CET
TZOFFSETFROM:+0200
TZOFFSETTO:+0100
DTSTART:19161001T010000
RDATE:19421102T030000
RDATE:19431004T030000
RDATE:19441002T030000
RDATE:19451118T030000
RDATE:19461007T030000
END:STANDARD
BEGIN:DAYLIGHT
TZNAME:CEST
TZOFFSETFROM:+0100
TZOFFSETTO:+0200
DTSTART:19170416T020000
RRULE:FREQ=YEARLY;UNTIL=19180415T010000Z;BYMONTH=4;BYDAY=3MO
END:DAYLIGHT
BEGIN:STANDARD
TZNAME:CET
TZOFFSETFROM:+0200
TZOFFSETTO:+0100
DTSTART:19170917T030000
RRULE:FREQ=YEARLY;UNTIL=19180916T010000Z;BYMONTH=9;BYDAY=3MO
END:STANDARD
BEGIN:DAYLIGHT
TZNAME:CEST
TZOFFSETFROM:+0100
TZOFFSETTO:+0200
DTSTART:19440403T020000
RRULE:FREQ=YEARLY;UNTIL=19450402T010000Z;BYMONTH=4;BYDAY=1MO
END:DAYLIGHT
BEGIN:DAYLIGHT
TZNAME:CEMT
TZOFFSETFROM:+0200
TZOFFSETTO:+0300
DTSTART:19450524T020000
RDATE:19470511T030000
END:DAYLIGHT
BEGIN:DAYLIGHT
TZNAME:CEST
TZOFFSETFROM:+0300
TZOFFSETTO:+0200
DTSTART:19450924T030000
RDATE:19470629T030000
END:DAYLIGHT
BEGIN:STANDARD
TZNAME:CET
TZOFFSETFROM:+0100
TZOFFSETTO:+0100
DTSTART:19460101T000000
RDATE:19800101T000000
END:STANDARD
BEGIN:STANDARD
TZNAME:CET
TZOFFSETFROM:+0200
TZOFFSETTO:+0100
DTSTART:19471005T030000
RRULE:FREQ=YEARLY;UNTIL=19491002T010000Z;BYMONTH=10;BYDAY=1SU
END:STANDARD
BEGIN:STANDARD
TZNAME:CET
TZOFFSETFROM:+0200
TZOFFSETTO:+0100
DTSTART:19800928T030000
RRULE:FREQ=YEARLY;UNTIL=19950924T010000Z;BYMONTH=9;BYDAY=-1SU
END:STANDARD
BEGIN:DAYLIGHT
TZNAME:CEST
TZOFFSETFROM:+0100
TZOFFSETTO:+0200
DTSTART:19810329T020000
RRULE:FREQ=YEARLY;BYMONTH=3;BYDAY=-1SU
END:DAYLIGHT
BEGIN:STANDARD
TZNAME:CET
TZOFFSETFROM:+0200
TZOFFSETTO:+0100
DTSTART:19961027T030000
RRULE:FREQ=YEARLY;BYMONTH=10;BYDAY=-1SU
END:STANDARD
END:VTIMEZONE
BEGIN:VEVENT
DTSTAMP:20260424T181613Z
DTSTART;TZID=Europe/Berlin:20180219T200000
DTEND;TZID=Europe/Berlin:20180219T230000
SUMMARY:O40 3. Liga Gr. 3 Grossaffoltern vs Münchenbuchsee II (9)
UID:6010be51-4452-5356-e053-1fc7a80a74f7
STATUS:CONFIRMED
LAST-MODIFIED:20180220T190850Z
DESCRIPTION:3. Liga O40 Gruppe 3\nBegegnungs-Nr: 9\nHeim: Grossaffoltern\nGast: Münchenbuchsee II\n\nAdresse: Schulhausstrasse 5 \, 3257 Grossaffoltern\n
LOCATION:Schulhausstrasse 5 \, 3257 Grossaffoltern
CATEGORIES:Saison 2017/18
END:VEVENT
BEGIN:VEVENT
DTSTAMP:20260424T181613Z
DTSTART;TZID=Europe/Berlin:20180305T200000
DTEND;TZID=Europe/Berlin:20180305T230000
SUMMARY:O40 3. Liga Gr. 3 Grossaffoltern vs Port II (15)
UID:6010be51-4453-5356-e053-1fc7a80a74f7
STATUS:CONFIRMED
LAST-MODIFIED:20180308T180908Z
DESCRIPTION:3. Liga O40 Gruppe 3\nBegegnungs-Nr: 15\nHeim: Grossaffoltern\nGast: Port II\n\nAdresse: Schulhausstrasse 5 \, 3257 Grossaffoltern\n
LOCATION:Schulhausstrasse 5 \, 3257 Grossaffoltern
CATEGORIES:Saison 2017/18
END:VEVENT
BEGIN:VEVENT
DTSTAMP:20260424T181613Z
DTSTART;TZID=Europe/Berlin:20171211T200000
DTEND;TZID=Europe/Berlin:20171211T230000
SUMMARY:O40 3. Liga Gr. 3 Grossaffoltern vs Regio Moossee II (3)
UID:6010be51-445a-5356-e053-1fc7a80a74f7
STATUS:CONFIRMED
LAST-MODIFIED:20171212T163658Z
DESCRIPTION:3. Liga O40 Gruppe 3\nBegegnungs-Nr: 3\nHeim: Grossaffoltern\nGast: Regio Moossee II\n\nAdresse: Schulhausstrasse 5 \, 3257 Grossaffoltern\n
LOCATION:Schulhausstrasse 5 \, 3257 Grossaffoltern
CATEGORIES:Saison 2017/18
END:VEVENT
BEGIN:VEVENT
DTSTAMP:20260424T181613Z
DTSTART;TZID=Europe/Berlin:20171030T200000
DTEND;TZID=Europe/Berlin:20171030T230000
SUMMARY:O40 3. Liga Gr. 3 Grossaffoltern vs Burgdorf III (10)
UID:6010be51-56c8-5356-e053-1fc7a80a74f7
STATUS:CONFIRMED
LAST-MODIFIED:20171031T175749Z
DESCRIPTION:3. Liga O40 Gruppe 3\nBegegnungs-Nr: 10\nHeim: Grossaffoltern\nGast: Burgdorf III\n\nAdresse: Schulhausstrasse 5 \, 3257 Grossaffoltern\n
LOCATION:Schulhausstrasse 5 \, 3257 Grossaffoltern
CATEGORIES:Saison 2017/18
END:VEVENT
BEGIN:VEVENT
DTSTAMP:20260424T181613Z
DTSTART;TZID=Europe/Berlin:20180129T200000
DTEND;TZID=Europe/Berlin:20180129T230000
SUMMARY:O40 3. Liga Gr. 3 Grossaffoltern vs Grauholz (5)
UID:6010be51-4458-5356-e053-1fc7a80a74f7
STATUS:CONFIRMED
LAST-MODIFIED:20180131T161105Z
DESCRIPTION:3. Liga O40 Gruppe 3\nBegegnungs-Nr: 5\nHeim: Grossaffoltern\nGast: Grauholz\n\nAdresse: Schulhausstrasse 5 \, 3257 Grossaffoltern\n
LOCATION:Schulhausstrasse 5 \, 3257 Grossaffoltern
CATEGORIES:Saison 2017/18
END:VEVENT
BEGIN:VEVENT
DTSTAMP:20260424T181613Z
DTSTART;TZID=Europe/Berlin:20171018T194500
DTEND;TZID=Europe/Berlin:20171018T224500
SUMMARY:O40 3. Liga Gr. 3 Münchenbuchsee II vs Grossaffoltern (9)
UID:6010be51-4421-5356-e053-1fc7a80a74f7
STATUS:CONFIRMED
LAST-MODIFIED:20171019T153613Z
DESCRIPTION:3. Liga O40 Gruppe 3\nBegegnungs-Nr: 9\nHeim: Münchenbuchsee II\nGast: Grossaffoltern\n\nAdresse: Laubbergweg 41\, 3053 Münchenbuchsee\n
LOCATION:Laubbergweg 41\, 3053 Münchenbuchsee
CATEGORIES:Saison 2017/18
END:VEVENT
BEGIN:VEVENT
DTSTAMP:20260424T181613Z
DTSTART;TZID=Europe/Berlin:20170915T200000
DTEND;TZID=Europe/Berlin:20170915T230000
SUMMARY:O40 3. Liga Gr. 3 Grauholz vs Grossaffoltern (5)
UID:6010be51-441b-5356-e053-1fc7a80a74f7
STATUS:CONFIRMED
LAST-MODIFIED:20170916T113118Z
DESCRIPTION:3. Liga O40 Gruppe 3\nBegegnungs-Nr: 5\nHeim: Grauholz\nGast: Grossaffoltern\n\nAdresse: Schulhausweg 8\, 3324 Hindelbank\n
LOCATION:Schulhausweg 8\, 3324 Hindelbank
CATEGORIES:Saison 2017/18
END:VEVENT
BEGIN:VEVENT
DTSTAMP:20260424T181613Z
DTSTART;TZID=Europe/Berlin:20170905T200000
DTEND;TZID=Europe/Berlin:20170905T230000
SUMMARY:O40 3. Liga Gr. 3 Regio Moossee II vs Grossaffoltern (3)
UID:6010be51-441c-5356-e053-1fc7a80a74f7
STATUS:CONFIRMED
LAST-MODIFIED:20170906T163057Z
DESCRIPTION:3. Liga O40 Gruppe 3\nBegegnungs-Nr: 3\nHeim: Regio Moossee II\nGast: Grossaffoltern\n\nAdresse: Schulhausstrasse 23-25\, 3302 Moosseedorf\n
LOCATION:Schulhausstrasse 23-25\, 3302 Moosseedorf
CATEGORIES:Saison 2017/18
END:VEVENT
BEGIN:VEVENT
DTSTAMP:20260424T181613Z
DTSTART;TZID=Europe/Berlin:20180223T193000
DTEND;TZID=Europe/Berlin:20180223T223000
SUMMARY:O40 3. Liga Gr. 3 Burgdorf III vs Grossaffoltern (10)
UID:6010be51-4b09-5356-e053-1fc7a80a74f7
STATUS:CONFIRMED
LAST-MODIFIED:20180224T091609Z
DESCRIPTION:3. Liga O40 Gruppe 3\nBegegnungs-Nr: 10\nHeim: Burgdorf III\nGast: Grossaffoltern\n\nAdresse: Pestalozzistrasse 69\, 3400 Burgdorf\n
LOCATION:Pestalozzistrasse 69\, 3400 Burgdorf
CATEGORIES:Saison 2017/18
END:VEVENT
BEGIN:VEVENT
DTSTAMP:20260424T181613Z
DTSTART;TZID=Europe/Berlin:20171128T194500
DTEND;TZID=Europe/Berlin:20171128T224500
SUMMARY:O40 3. Liga Gr. 3 Port II vs Grossaffoltern (15)
UID:6010be51-5a4a-5356-e053-1fc7a80a74f7
STATUS:CONFIRMED
LAST-MODIFIED:20171208T162350Z
DESCRIPTION:3. Liga O40 Gruppe 3\nBegegnungs-Nr: 15\nHeim: Port II\nGast: Grossaffoltern\n\nAdresse: Allmendstrasse 23\, 2562 Port\n
LOCATION:Allmendstrasse 23\, 2562 Port
CATEGORIES:Saison 2017/18
END:VEVENT
END:VCALENDAR
