BEGIN:VCALENDAR
PRODID:-//nuDatenautomaten//framework iCal4j //DE
VERSION:2.0
CALSCALE:GREGORIAN
BEGIN:VTIMEZONE
TZID:Europe/Berlin
LAST-MODIFIED:20260306T231828Z
TZURL:https://www.tzurl.org/zoneinfo/Europe/Berlin
X-LIC-LOCATION:Europe/Berlin
X-PROLEPTIC-TZNAME:LMT
BEGIN:STANDARD
TZNAME:CET
TZOFFSETFROM:+005328
TZOFFSETTO:+0100
DTSTART:18930401T000000
END:STANDARD
BEGIN:DAYLIGHT
TZNAME:CEST
TZOFFSETFROM:+0100
TZOFFSETTO:+0200
DTSTART:19160430T230000
RDATE:19400401T020000
RDATE:19430329T020000
RDATE:19460414T020000
RDATE:19470406T030000
RDATE:19480418T020000
RDATE:19490410T020000
RDATE:19800406T020000
END:DAYLIGHT
BEGIN:STANDARD
TZNAME:CET
TZOFFSETFROM:+0200
TZOFFSETTO:+0100
DTSTART:19161001T010000
RDATE:19421102T030000
RDATE:19431004T030000
RDATE:19441002T030000
RDATE:19451118T030000
RDATE:19461007T030000
END:STANDARD
BEGIN:DAYLIGHT
TZNAME:CEST
TZOFFSETFROM:+0100
TZOFFSETTO:+0200
DTSTART:19170416T020000
RRULE:FREQ=YEARLY;UNTIL=19180415T010000Z;BYMONTH=4;BYDAY=3MO
END:DAYLIGHT
BEGIN:STANDARD
TZNAME:CET
TZOFFSETFROM:+0200
TZOFFSETTO:+0100
DTSTART:19170917T030000
RRULE:FREQ=YEARLY;UNTIL=19180916T010000Z;BYMONTH=9;BYDAY=3MO
END:STANDARD
BEGIN:DAYLIGHT
TZNAME:CEST
TZOFFSETFROM:+0100
TZOFFSETTO:+0200
DTSTART:19440403T020000
RRULE:FREQ=YEARLY;UNTIL=19450402T010000Z;BYMONTH=4;BYDAY=1MO
END:DAYLIGHT
BEGIN:DAYLIGHT
TZNAME:CEMT
TZOFFSETFROM:+0200
TZOFFSETTO:+0300
DTSTART:19450524T020000
RDATE:19470511T030000
END:DAYLIGHT
BEGIN:DAYLIGHT
TZNAME:CEST
TZOFFSETFROM:+0300
TZOFFSETTO:+0200
DTSTART:19450924T030000
RDATE:19470629T030000
END:DAYLIGHT
BEGIN:STANDARD
TZNAME:CET
TZOFFSETFROM:+0100
TZOFFSETTO:+0100
DTSTART:19460101T000000
RDATE:19800101T000000
END:STANDARD
BEGIN:STANDARD
TZNAME:CET
TZOFFSETFROM:+0200
TZOFFSETTO:+0100
DTSTART:19471005T030000
RRULE:FREQ=YEARLY;UNTIL=19491002T010000Z;BYMONTH=10;BYDAY=1SU
END:STANDARD
BEGIN:STANDARD
TZNAME:CET
TZOFFSETFROM:+0200
TZOFFSETTO:+0100
DTSTART:19800928T030000
RRULE:FREQ=YEARLY;UNTIL=19950924T010000Z;BYMONTH=9;BYDAY=-1SU
END:STANDARD
BEGIN:DAYLIGHT
TZNAME:CEST
TZOFFSETFROM:+0100
TZOFFSETTO:+0200
DTSTART:19810329T020000
RRULE:FREQ=YEARLY;BYMONTH=3;BYDAY=-1SU
END:DAYLIGHT
BEGIN:STANDARD
TZNAME:CET
TZOFFSETFROM:+0200
TZOFFSETTO:+0100
DTSTART:19961027T030000
RRULE:FREQ=YEARLY;BYMONTH=10;BYDAY=-1SU
END:STANDARD
END:VTIMEZONE
BEGIN:VEVENT
DTSTAMP:20260424T165458Z
DTSTART;TZID=Europe/Berlin:20170909T160000
DTEND;TZID=Europe/Berlin:20170909T190000
SUMMARY:JUG 3.Liga Gr.2A Vorrunde Chur II vs Buchs St.Gallen (4)
UID:6010be51-5625-5356-e053-1fc7a80a74f7
STATUS:CONFIRMED
LAST-MODIFIED:20170920T100126Z
DESCRIPTION:3. Liga Jugend Gruppe 2A Vorrunde\nBegegnungs-Nr: 4\nHeim: Chur II\nGast: Buchs St.Gallen\nHalle: Poule in Buchs SG bzb\nAdresse: Sandstr. 35\, 7000 Chur\n
LOCATION:Poule in Buchs SG bzb Sandstr. 35\, 7000 Chur
CATEGORIES:Saison 2017/18
END:VEVENT
BEGIN:VEVENT
DTSTAMP:20260424T165458Z
DTSTART;TZID=Europe/Berlin:20180324T130000
DTEND;TZID=Europe/Berlin:20180324T160000
SUMMARY:JUG 3.Liga Gr.1B Final Chur II vs Wädenswil IV (1)
UID:25d4ba1f-b589-4ec8-b03d-b51f8c72f7e3
STATUS:CONFIRMED
LAST-MODIFIED:20180327T082403Z
DESCRIPTION:3. Liga Jugend Gruppe 1B Final\nBegegnungs-Nr: 1\nHeim: Chur II\nGast: Wädenswil IV\nHalle: Poule in Chur Sporthalle Sand\nAdresse: Sandstr. 35\, 7000 Chur\n
LOCATION:Poule in Chur Sporthalle Sand Sandstr. 35\, 7000 Chur
CATEGORIES:Saison 2017/18
END:VEVENT
BEGIN:VEVENT
DTSTAMP:20260424T165458Z
DTSTART;TZID=Europe/Berlin:20171202T160000
DTEND;TZID=Europe/Berlin:20171202T190000
SUMMARY:JUG 3.Liga Gr.1B Zw-Rde. Chur II vs Rapperswil-Jona II (6)
UID:6010be51-59a5-5356-e053-1fc7a80a74f7
STATUS:CONFIRMED
LAST-MODIFIED:20171204T142203Z
DESCRIPTION:3. Liga Jugend Gruppe 1B Zw-Runde\nBegegnungs-Nr: 6\nHeim: Chur II\nGast: Rapperswil-Jona II\nHalle: Poule in Rapperswil Kreuzstrasse\nAdresse: Sandstr. 35\, 7000 Chur\n
LOCATION:Poule in Rapperswil Kreuzstrasse Sandstr. 35\, 7000 Chur
CATEGORIES:Saison 2017/18
END:VEVENT
BEGIN:VEVENT
DTSTAMP:20260424T165458Z
DTSTART;TZID=Europe/Berlin:20180324T143000
DTEND;TZID=Europe/Berlin:20180324T173000
SUMMARY:JUG 3.Liga Gr.1B Final Chur II vs Uster II (4)
UID:cf8f7a8f-a113-4020-8ac6-053a15795ffb
STATUS:CONFIRMED
LAST-MODIFIED:20180327T082511Z
DESCRIPTION:3. Liga Jugend Gruppe 1B Final\nBegegnungs-Nr: 4\nHeim: Chur II\nGast: Uster II\nHalle: Poule in Chur Sporthalle Sand\nAdresse: Sandstr. 35\, 7000 Chur\n
LOCATION:Poule in Chur Sporthalle Sand Sandstr. 35\, 7000 Chur
CATEGORIES:Saison 2017/18
END:VEVENT
BEGIN:VEVENT
DTSTAMP:20260424T165458Z
DTSTART;TZID=Europe/Berlin:20170909T143000
DTEND;TZID=Europe/Berlin:20170909T173000
SUMMARY:JUG 3.Liga Gr.2A Vorrunde Flums vs Chur II (6)
UID:6010be51-5626-5356-e053-1fc7a80a74f7
STATUS:CONFIRMED
LAST-MODIFIED:20170910T085841Z
DESCRIPTION:3. Liga Jugend Gruppe 2A Vorrunde\nBegegnungs-Nr: 6\nHeim: Flums\nGast: Chur II\nHalle: Poule in Buchs SG bzb\nAdresse: Bergstrasse\, 8890 Flums\n
LOCATION:Poule in Buchs SG bzb Bergstrasse\, 8890 Flums
CATEGORIES:Saison 2017/18
END:VEVENT
BEGIN:VEVENT
DTSTAMP:20260424T165458Z
DTSTART;TZID=Europe/Berlin:20171202T130000
DTEND;TZID=Europe/Berlin:20171202T160000
SUMMARY:JUG 3.Liga Gr.1B Zw-Rde. Wuppenau vs Chur II (2)
UID:6010be51-59a6-5356-e053-1fc7a80a74f7
STATUS:CONFIRMED
LAST-MODIFIED:20171204T142041Z
DESCRIPTION:3. Liga Jugend Gruppe 1B Zw-Runde\nBegegnungs-Nr: 2\nHeim: Wuppenau\nGast: Chur II\nHalle: Poule in Rapperswil Kreuzstrasse\nAdresse: Nollenstrasse\, 9514 Wuppenau\n
LOCATION:Poule in Rapperswil Kreuzstrasse Nollenstrasse\, 9514 Wuppenau
CATEGORIES:Saison 2017/18
END:VEVENT
BEGIN:VEVENT
DTSTAMP:20260424T165458Z
DTSTART;TZID=Europe/Berlin:20171202T143000
DTEND;TZID=Europe/Berlin:20171202T173000
SUMMARY:JUG 3.Liga Gr.1B Zw-Rde. Weinfelden vs Chur II (3)
UID:6010be51-59a7-5356-e053-1fc7a80a74f7
STATUS:CONFIRMED
LAST-MODIFIED:20171204T142059Z
DESCRIPTION:3. Liga Jugend Gruppe 1B Zw-Runde\nBegegnungs-Nr: 3\nHeim: Weinfelden\nGast: Chur II\nHalle: Poule in Rapperswil Kreuzstrasse\nAdresse: Bleichestrasse 3 (neben Hallenbad)\, 8570 Weinfelden\n
LOCATION:Poule in Rapperswil Kreuzstrasse Bleichestrasse 3 (neben Hallenbad)\, 8570 Weinfelden
CATEGORIES:Saison 2017/18
END:VEVENT
BEGIN:VEVENT
DTSTAMP:20260424T165458Z
DTSTART;TZID=Europe/Berlin:20180324T160000
DTEND;TZID=Europe/Berlin:20180324T190000
SUMMARY:JUG 3.Liga Gr.1B Final Romanshorn vs Chur II (6)
UID:2ff89410-e8c2-431b-9852-d9ae0b2f434e
STATUS:CONFIRMED
LAST-MODIFIED:20180327T082532Z
DESCRIPTION:3. Liga Jugend Gruppe 1B Final\nBegegnungs-Nr: 6\nHeim: Romanshorn\nGast: Chur II\nHalle: Poule in Chur Sporthalle Sand\nAdresse: Florastrasse\, 8590 Romanshorn\n
LOCATION:Poule in Chur Sporthalle Sand Florastrasse\, 8590 Romanshorn
CATEGORIES:Saison 2017/18
END:VEVENT
END:VCALENDAR
