BEGIN:VCALENDAR
PRODID:-//nuDatenautomaten//framework iCal4j //DE
VERSION:2.0
CALSCALE:GREGORIAN
BEGIN:VTIMEZONE
TZID:Europe/Berlin
LAST-MODIFIED:20260306T231828Z
TZURL:https://www.tzurl.org/zoneinfo/Europe/Berlin
X-LIC-LOCATION:Europe/Berlin
X-PROLEPTIC-TZNAME:LMT
BEGIN:STANDARD
TZNAME:CET
TZOFFSETFROM:+005328
TZOFFSETTO:+0100
DTSTART:18930401T000000
END:STANDARD
BEGIN:DAYLIGHT
TZNAME:CEST
TZOFFSETFROM:+0100
TZOFFSETTO:+0200
DTSTART:19160430T230000
RDATE:19400401T020000
RDATE:19430329T020000
RDATE:19460414T020000
RDATE:19470406T030000
RDATE:19480418T020000
RDATE:19490410T020000
RDATE:19800406T020000
END:DAYLIGHT
BEGIN:STANDARD
TZNAME:CET
TZOFFSETFROM:+0200
TZOFFSETTO:+0100
DTSTART:19161001T010000
RDATE:19421102T030000
RDATE:19431004T030000
RDATE:19441002T030000
RDATE:19451118T030000
RDATE:19461007T030000
END:STANDARD
BEGIN:DAYLIGHT
TZNAME:CEST
TZOFFSETFROM:+0100
TZOFFSETTO:+0200
DTSTART:19170416T020000
RRULE:FREQ=YEARLY;UNTIL=19180415T010000Z;BYMONTH=4;BYDAY=3MO
END:DAYLIGHT
BEGIN:STANDARD
TZNAME:CET
TZOFFSETFROM:+0200
TZOFFSETTO:+0100
DTSTART:19170917T030000
RRULE:FREQ=YEARLY;UNTIL=19180916T010000Z;BYMONTH=9;BYDAY=3MO
END:STANDARD
BEGIN:DAYLIGHT
TZNAME:CEST
TZOFFSETFROM:+0100
TZOFFSETTO:+0200
DTSTART:19440403T020000
RRULE:FREQ=YEARLY;UNTIL=19450402T010000Z;BYMONTH=4;BYDAY=1MO
END:DAYLIGHT
BEGIN:DAYLIGHT
TZNAME:CEMT
TZOFFSETFROM:+0200
TZOFFSETTO:+0300
DTSTART:19450524T020000
RDATE:19470511T030000
END:DAYLIGHT
BEGIN:DAYLIGHT
TZNAME:CEST
TZOFFSETFROM:+0300
TZOFFSETTO:+0200
DTSTART:19450924T030000
RDATE:19470629T030000
END:DAYLIGHT
BEGIN:STANDARD
TZNAME:CET
TZOFFSETFROM:+0100
TZOFFSETTO:+0100
DTSTART:19460101T000000
RDATE:19800101T000000
END:STANDARD
BEGIN:STANDARD
TZNAME:CET
TZOFFSETFROM:+0200
TZOFFSETTO:+0100
DTSTART:19471005T030000
RRULE:FREQ=YEARLY;UNTIL=19491002T010000Z;BYMONTH=10;BYDAY=1SU
END:STANDARD
BEGIN:STANDARD
TZNAME:CET
TZOFFSETFROM:+0200
TZOFFSETTO:+0100
DTSTART:19800928T030000
RRULE:FREQ=YEARLY;UNTIL=19950924T010000Z;BYMONTH=9;BYDAY=-1SU
END:STANDARD
BEGIN:DAYLIGHT
TZNAME:CEST
TZOFFSETFROM:+0100
TZOFFSETTO:+0200
DTSTART:19810329T020000
RRULE:FREQ=YEARLY;BYMONTH=3;BYDAY=-1SU
END:DAYLIGHT
BEGIN:STANDARD
TZNAME:CET
TZOFFSETFROM:+0200
TZOFFSETTO:+0100
DTSTART:19961027T030000
RRULE:FREQ=YEARLY;BYMONTH=10;BYDAY=-1SU
END:STANDARD
END:VTIMEZONE
BEGIN:VEVENT
DTSTAMP:20260424T151032Z
DTSTART;TZID=Europe/Berlin:20170925T194500
DTEND;TZID=Europe/Berlin:20170925T224500
SUMMARY:Ligue 1 Gr.2\, Ph A Vernier vs Mandement II (7)
UID:6010be51-48d5-5356-e053-1fc7a80a74f7
STATUS:CONFIRMED
LAST-MODIFIED:20170926T071853Z
DESCRIPTION:1ère ligue Homme Gr.2 Phase A\nBegegnungs-Nr: 7\nHeim: Vernier\nGast: Mandement II\n\nAdresse: Rue du Village 6\, 1214 Vernier\n
LOCATION:Rue du Village 6\, 1214 Vernier
CATEGORIES:Saison 2017/18
END:VEVENT
BEGIN:VEVENT
DTSTAMP:20260424T151032Z
DTSTART;TZID=Europe/Berlin:20171211T194500
DTEND;TZID=Europe/Berlin:20171211T224500
SUMMARY:Ligue 1 Gr.2\, Ph A Vernier vs ZZ-Lancy IV (28)
UID:6010be51-497d-5356-e053-1fc7a80a74f7
STATUS:CONFIRMED
LAST-MODIFIED:20171212T152146Z
DESCRIPTION:1ère ligue Homme Gr.2 Phase A\nBegegnungs-Nr: 28\nHeim: Vernier\nGast: ZZ-Lancy IV\n\nAdresse: Rue du Village 6\, 1214 Vernier\n
LOCATION:Rue du Village 6\, 1214 Vernier
CATEGORIES:Saison 2017/18
END:VEVENT
BEGIN:VEVENT
DTSTAMP:20260424T151032Z
DTSTART;TZID=Europe/Berlin:20170911T194500
DTEND;TZID=Europe/Berlin:20170911T224500
SUMMARY:Ligue 1 Gr.2\, Ph A Vernier vs UGS-Chênois IV (2)
UID:6010be51-531b-5356-e053-1fc7a80a74f7
STATUS:CONFIRMED
LAST-MODIFIED:20170912T075341Z
DESCRIPTION:1ère ligue Homme Gr.2 Phase A\nBegegnungs-Nr: 2\nHeim: Vernier\nGast: UGS-Chênois IV\n\nAdresse: Rue du Village 6\, 1214 Vernier\n
LOCATION:Rue du Village 6\, 1214 Vernier
CATEGORIES:Saison 2017/18
END:VEVENT
BEGIN:VEVENT
DTSTAMP:20260424T151032Z
DTSTART;TZID=Europe/Berlin:20171009T194500
DTEND;TZID=Europe/Berlin:20171009T224500
SUMMARY:Ligue 1 Gr.2\, Ph A Vernier vs Châtelaine III (12)
UID:6010be51-5322-5356-e053-1fc7a80a74f7
STATUS:CONFIRMED
LAST-MODIFIED:20171010T071541Z
DESCRIPTION:1ère ligue Homme Gr.2 Phase A\nBegegnungs-Nr: 12\nHeim: Vernier\nGast: Châtelaine III\n\nAdresse: Rue du Village 6\, 1214 Vernier\n
LOCATION:Rue du Village 6\, 1214 Vernier
CATEGORIES:Saison 2017/18
END:VEVENT
BEGIN:VEVENT
DTSTAMP:20260424T151032Z
DTSTART;TZID=Europe/Berlin:20171113T194500
DTEND;TZID=Europe/Berlin:20171113T224500
SUMMARY:Ligue 1 Gr.2\, Ph A Vernier vs Silver Star II (20)
UID:6010be51-56a8-5356-e053-1fc7a80a74f7
STATUS:CONFIRMED
LAST-MODIFIED:20171114T195959Z
DESCRIPTION:1ère ligue Homme Gr.2 Phase A\nBegegnungs-Nr: 20\nHeim: Vernier\nGast: Silver Star II\n\nAdresse: Rue du Village 6\, 1214 Vernier\n
LOCATION:Rue du Village 6\, 1214 Vernier
CATEGORIES:Saison 2017/18
END:VEVENT
BEGIN:VEVENT
DTSTAMP:20260424T151032Z
DTSTART;TZID=Europe/Berlin:20180305T194500
DTEND;TZID=Europe/Berlin:20180305T224500
SUMMARY:Ligue 1 Gr.2\, Ph B Vernier vs Châtelaine III (16)
UID:f00d39bc-4863-4150-acf1-9b59d630def4
STATUS:CONFIRMED
LAST-MODIFIED:20180306T095216Z
DESCRIPTION:1ère ligue Homme Gr.2 Phase B\nBegegnungs-Nr: 16\nHeim: Vernier\nGast: Châtelaine III\n
LOCATION:
CATEGORIES:Saison 2017/18
END:VEVENT
BEGIN:VEVENT
DTSTAMP:20260424T151032Z
DTSTART;TZID=Europe/Berlin:20180430T194500
DTEND;TZID=Europe/Berlin:20180430T224500
SUMMARY:Ligue 1 Titre finale Vernier vs Versoix (1)
UID:13a3b9a7-36bd-417c-93ed-ac31dbb49712
STATUS:CONFIRMED
LAST-MODIFIED:20180509T100857Z
DESCRIPTION:1ère ligue Hommes Titre finale\nBegegnungs-Nr: 1\nHeim: Vernier\nGast: Versoix\n
LOCATION:
CATEGORIES:Saison 2017/18
END:VEVENT
BEGIN:VEVENT
DTSTAMP:20260424T151032Z
DTSTART;TZID=Europe/Berlin:20180226T194500
DTEND;TZID=Europe/Berlin:20180226T224500
SUMMARY:Ligue 1 Gr.2\, Ph B Vernier vs Mandement (15)
UID:55c762ce-f05d-4742-a7f5-4fdf50353519
STATUS:CONFIRMED
LAST-MODIFIED:20180227T084041Z
DESCRIPTION:1ère ligue Homme Gr.2 Phase B\nBegegnungs-Nr: 15\nHeim: Vernier\nGast: Mandement\n
LOCATION:
CATEGORIES:Saison 2017/18
END:VEVENT
BEGIN:VEVENT
DTSTAMP:20260424T151032Z
DTSTART;TZID=Europe/Berlin:20180409T194500
DTEND;TZID=Europe/Berlin:20180409T224500
SUMMARY:Ligue 1 Gr.2\, Ph B Vernier vs UGS-Chênois VII (25)
UID:9c9da049-ad95-412e-9856-84eb44470049
STATUS:CONFIRMED
LAST-MODIFIED:20180410T161926Z
DESCRIPTION:1ère ligue Homme Gr.2 Phase B\nBegegnungs-Nr: 25\nHeim: Vernier\nGast: UGS-Chênois VII\n
LOCATION:
CATEGORIES:Saison 2017/18
END:VEVENT
BEGIN:VEVENT
DTSTAMP:20260424T151032Z
DTSTART;TZID=Europe/Berlin:20180319T194500
DTEND;TZID=Europe/Berlin:20180319T224500
SUMMARY:Ligue 1 Gr.2\, Ph B Vernier vs UGS-Chênois V (22)
UID:1f5d5d04-5853-40bb-8e86-98460be90871
STATUS:CONFIRMED
LAST-MODIFIED:20180322T172324Z
DESCRIPTION:1ère ligue Homme Gr.2 Phase B\nBegegnungs-Nr: 22\nHeim: Vernier\nGast: UGS-Chênois V\n
LOCATION:
CATEGORIES:Saison 2017/18
END:VEVENT
BEGIN:VEVENT
DTSTAMP:20260424T151032Z
DTSTART;TZID=Europe/Berlin:20180115T194500
DTEND;TZID=Europe/Berlin:20180115T224500
SUMMARY:Ligue 1 Gr.2\, Ph B Vernier vs Veyrier IV (5)
UID:67d32e86-945e-45a1-859e-8018f43c3bd3
STATUS:CONFIRMED
LAST-MODIFIED:20180117T112340Z
DESCRIPTION:1ère ligue Homme Gr.2 Phase B\nBegegnungs-Nr: 5\nHeim: Vernier\nGast: Veyrier IV\n
LOCATION:
CATEGORIES:Saison 2017/18
END:VEVENT
BEGIN:VEVENT
DTSTAMP:20260424T151032Z
DTSTART;TZID=Europe/Berlin:20180505T160000
DTEND;TZID=Europe/Berlin:20180505T190000
SUMMARY:Aufstieg NLC Gr. C Vernier vs Tenero II (5)
UID:2a5895bd-c29d-4c69-8165-ad1b7ae873bf
STATUS:CONFIRMED
LAST-MODIFIED:20180507T085622Z
DESCRIPTION:Aufstieg NLC Gruppe C\nBegegnungs-Nr: 5\nHeim: Vernier\nGast: Tenero II\n
LOCATION:
CATEGORIES:Saison 2017/18
END:VEVENT
BEGIN:VEVENT
DTSTAMP:20260424T151032Z
DTSTART;TZID=Europe/Berlin:20180505T103000
DTEND;TZID=Europe/Berlin:20180505T133000
SUMMARY:Aufstieg NLC Gr. C Vernier vs Lausanne (1)
UID:9bd57075-51d1-40cf-bf30-4c69185bda41
STATUS:CONFIRMED
LAST-MODIFIED:20180507T085332Z
DESCRIPTION:Aufstieg NLC Gruppe C\nBegegnungs-Nr: 1\nHeim: Vernier\nGast: Lausanne\n
LOCATION:
CATEGORIES:Saison 2017/18
END:VEVENT
BEGIN:VEVENT
DTSTAMP:20260424T151032Z
DTSTART;TZID=Europe/Berlin:20180505T133000
DTEND;TZID=Europe/Berlin:20180505T163000
SUMMARY:Aufstieg NLC Gr. C Vernier vs Lenzburg (3)
UID:7bc52af4-d117-457c-81c6-b22cb5ffea48
STATUS:CONFIRMED
LAST-MODIFIED:20180507T085528Z
DESCRIPTION:Aufstieg NLC Gruppe C\nBegegnungs-Nr: 3\nHeim: Vernier\nGast: Lenzburg\n
LOCATION:
CATEGORIES:Saison 2017/18
END:VEVENT
BEGIN:VEVENT
DTSTAMP:20260424T151032Z
DTSTART;TZID=Europe/Berlin:20170918T194500
DTEND;TZID=Europe/Berlin:20170918T224500
SUMMARY:Ligue 1 Gr.2\, Ph A Silver Star II vs Vernier (4)
UID:6010be51-4942-5356-e053-1fc7a80a74f7
STATUS:CONFIRMED
LAST-MODIFIED:20170919T075005Z
DESCRIPTION:1ère ligue Homme Gr.2 Phase A\nBegegnungs-Nr: 4\nHeim: Silver Star II\nGast: Vernier\n\nAdresse: Rue de Vermont 33\, 1202 Genève\n
LOCATION:Rue de Vermont 33\, 1202 Genève
CATEGORIES:Saison 2017/18
END:VEVENT
BEGIN:VEVENT
DTSTAMP:20260424T151032Z
DTSTART;TZID=Europe/Berlin:20171204T194500
DTEND;TZID=Europe/Berlin:20171204T224500
SUMMARY:Ligue 1 Gr.2\, Ph A Châtelaine III vs Vernier (27)
UID:6010be51-497f-5356-e053-1fc7a80a74f7
STATUS:CONFIRMED
LAST-MODIFIED:20171205T161857Z
DESCRIPTION:1ère ligue Homme Gr.2 Phase A\nBegegnungs-Nr: 27\nHeim: Châtelaine III\nGast: Vernier\n
LOCATION:
CATEGORIES:Saison 2017/18
END:VEVENT
BEGIN:VEVENT
DTSTAMP:20260424T151032Z
DTSTART;TZID=Europe/Berlin:20171127T194500
DTEND;TZID=Europe/Berlin:20171127T224500
SUMMARY:Ligue 1 Gr.2\, Ph A Mandement II vs Vernier (23)
UID:6010be51-52e7-5356-e053-1fc7a80a74f7
STATUS:CONFIRMED
LAST-MODIFIED:20171128T190213Z
DESCRIPTION:1ère ligue Homme Gr.2 Phase A\nBegegnungs-Nr: 23\nHeim: Mandement II\nGast: Vernier\n
LOCATION:
CATEGORIES:Saison 2017/18
END:VEVENT
BEGIN:VEVENT
DTSTAMP:20260424T151032Z
DTSTART;TZID=Europe/Berlin:20171106T194500
DTEND;TZID=Europe/Berlin:20171106T224500
SUMMARY:Ligue 1 Gr.2\, Ph A UGS-Chênois IV vs Vernier (16)
UID:6010be51-531f-5356-e053-1fc7a80a74f7
STATUS:CONFIRMED
LAST-MODIFIED:20171107T095726Z
DESCRIPTION:1ère ligue Homme Gr.2 Phase A\nBegegnungs-Nr: 16\nHeim: UGS-Chênois IV\nGast: Vernier\n
LOCATION:
CATEGORIES:Saison 2017/18
END:VEVENT
BEGIN:VEVENT
DTSTAMP:20260424T151032Z
DTSTART;TZID=Europe/Berlin:20171016T194500
DTEND;TZID=Europe/Berlin:20171016T224500
SUMMARY:Ligue 1 Gr.2\, Ph A ZZ-Lancy IV vs Vernier (14)
UID:6010be51-5321-5356-e053-1fc7a80a74f7
STATUS:CONFIRMED
LAST-MODIFIED:20171016T211440Z
DESCRIPTION:1ère ligue Homme Gr.2 Phase A\nBegegnungs-Nr: 14\nHeim: ZZ-Lancy IV\nGast: Vernier\n\nAdresse: Avenue du Curé-Baud 40\, 1212 Grand-Lancy\n
LOCATION:Avenue du Curé-Baud 40\, 1212 Grand-Lancy
CATEGORIES:Saison 2017/18
END:VEVENT
BEGIN:VEVENT
DTSTAMP:20260424T151032Z
DTSTART;TZID=Europe/Berlin:20180205T194500
DTEND;TZID=Europe/Berlin:20180205T224500
SUMMARY:Ligue 1 Gr.2\, Ph B UGS-Chênois VII vs Vernier (11)
UID:85a42832-9f0f-4ab8-9ba2-34fad8c3ccae
STATUS:CONFIRMED
LAST-MODIFIED:20180206T192133Z
DESCRIPTION:1ère ligue Homme Gr.2 Phase B\nBegegnungs-Nr: 11\nHeim: UGS-Chênois VII\nGast: Vernier\n
LOCATION:
CATEGORIES:Saison 2017/18
END:VEVENT
BEGIN:VEVENT
DTSTAMP:20260424T151032Z
DTSTART;TZID=Europe/Berlin:20180129T194500
DTEND;TZID=Europe/Berlin:20180129T224500
SUMMARY:Ligue 1 Gr.2\, Ph B UGS-Chênois V vs Vernier (8)
UID:3bb2b14e-40b9-4f01-8b99-0cce729021c7
STATUS:CONFIRMED
LAST-MODIFIED:20180130T195125Z
DESCRIPTION:1ère ligue Homme Gr.2 Phase B\nBegegnungs-Nr: 8\nHeim: UGS-Chênois V\nGast: Vernier\n
LOCATION:
CATEGORIES:Saison 2017/18
END:VEVENT
BEGIN:VEVENT
DTSTAMP:20260424T151032Z
DTSTART;TZID=Europe/Berlin:20180108T194500
DTEND;TZID=Europe/Berlin:20180108T224500
SUMMARY:Ligue 1 Gr.2\, Ph B Châtelaine III vs Vernier (2)
UID:4ab87c9d-023c-475f-9116-105ec85f63e5
STATUS:CONFIRMED
LAST-MODIFIED:20180109T202135Z
DESCRIPTION:1ère ligue Homme Gr.2 Phase B\nBegegnungs-Nr: 2\nHeim: Châtelaine III\nGast: Vernier\n
LOCATION:
CATEGORIES:Saison 2017/18
END:VEVENT
BEGIN:VEVENT
DTSTAMP:20260424T151032Z
DTSTART;TZID=Europe/Berlin:20180416T194500
DTEND;TZID=Europe/Berlin:20180416T224500
SUMMARY:Ligue 1 Gr.2\, Ph B Mandement vs Vernier (30)
UID:b508e830-d15f-42f7-a1c2-76c271bb3bf7
STATUS:CONFIRMED
LAST-MODIFIED:20180417T071635Z
DESCRIPTION:1ère ligue Homme Gr.2 Phase B\nBegegnungs-Nr: 30\nHeim: Mandement\nGast: Vernier\n
LOCATION:
CATEGORIES:Saison 2017/18
END:VEVENT
BEGIN:VEVENT
DTSTAMP:20260424T151032Z
DTSTART;TZID=Europe/Berlin:20180312T194500
DTEND;TZID=Europe/Berlin:20180312T224500
SUMMARY:Ligue 1 Gr.2\, Ph B Veyrier IV vs Vernier (19)
UID:a8c5d335-fbf8-46ab-88c0-4e1534a392dd
STATUS:CONFIRMED
LAST-MODIFIED:20180313T100854Z
DESCRIPTION:1ère ligue Homme Gr.2 Phase B\nBegegnungs-Nr: 19\nHeim: Veyrier IV\nGast: Vernier\n
LOCATION:
CATEGORIES:Saison 2017/18
END:VEVENT
END:VCALENDAR
