BEGIN:VCALENDAR
PRODID:-//nuDatenautomaten//framework iCal4j //DE
VERSION:2.0
CALSCALE:GREGORIAN
BEGIN:VTIMEZONE
TZID:Europe/Berlin
LAST-MODIFIED:20260306T231828Z
TZURL:https://www.tzurl.org/zoneinfo/Europe/Berlin
X-LIC-LOCATION:Europe/Berlin
X-PROLEPTIC-TZNAME:LMT
BEGIN:STANDARD
TZNAME:CET
TZOFFSETFROM:+005328
TZOFFSETTO:+0100
DTSTART:18930401T000000
END:STANDARD
BEGIN:DAYLIGHT
TZNAME:CEST
TZOFFSETFROM:+0100
TZOFFSETTO:+0200
DTSTART:19160430T230000
RDATE:19400401T020000
RDATE:19430329T020000
RDATE:19460414T020000
RDATE:19470406T030000
RDATE:19480418T020000
RDATE:19490410T020000
RDATE:19800406T020000
END:DAYLIGHT
BEGIN:STANDARD
TZNAME:CET
TZOFFSETFROM:+0200
TZOFFSETTO:+0100
DTSTART:19161001T010000
RDATE:19421102T030000
RDATE:19431004T030000
RDATE:19441002T030000
RDATE:19451118T030000
RDATE:19461007T030000
END:STANDARD
BEGIN:DAYLIGHT
TZNAME:CEST
TZOFFSETFROM:+0100
TZOFFSETTO:+0200
DTSTART:19170416T020000
RRULE:FREQ=YEARLY;UNTIL=19180415T010000Z;BYMONTH=4;BYDAY=3MO
END:DAYLIGHT
BEGIN:STANDARD
TZNAME:CET
TZOFFSETFROM:+0200
TZOFFSETTO:+0100
DTSTART:19170917T030000
RRULE:FREQ=YEARLY;UNTIL=19180916T010000Z;BYMONTH=9;BYDAY=3MO
END:STANDARD
BEGIN:DAYLIGHT
TZNAME:CEST
TZOFFSETFROM:+0100
TZOFFSETTO:+0200
DTSTART:19440403T020000
RRULE:FREQ=YEARLY;UNTIL=19450402T010000Z;BYMONTH=4;BYDAY=1MO
END:DAYLIGHT
BEGIN:DAYLIGHT
TZNAME:CEMT
TZOFFSETFROM:+0200
TZOFFSETTO:+0300
DTSTART:19450524T020000
RDATE:19470511T030000
END:DAYLIGHT
BEGIN:DAYLIGHT
TZNAME:CEST
TZOFFSETFROM:+0300
TZOFFSETTO:+0200
DTSTART:19450924T030000
RDATE:19470629T030000
END:DAYLIGHT
BEGIN:STANDARD
TZNAME:CET
TZOFFSETFROM:+0100
TZOFFSETTO:+0100
DTSTART:19460101T000000
RDATE:19800101T000000
END:STANDARD
BEGIN:STANDARD
TZNAME:CET
TZOFFSETFROM:+0200
TZOFFSETTO:+0100
DTSTART:19471005T030000
RRULE:FREQ=YEARLY;UNTIL=19491002T010000Z;BYMONTH=10;BYDAY=1SU
END:STANDARD
BEGIN:STANDARD
TZNAME:CET
TZOFFSETFROM:+0200
TZOFFSETTO:+0100
DTSTART:19800928T030000
RRULE:FREQ=YEARLY;UNTIL=19950924T010000Z;BYMONTH=9;BYDAY=-1SU
END:STANDARD
BEGIN:DAYLIGHT
TZNAME:CEST
TZOFFSETFROM:+0100
TZOFFSETTO:+0200
DTSTART:19810329T020000
RRULE:FREQ=YEARLY;BYMONTH=3;BYDAY=-1SU
END:DAYLIGHT
BEGIN:STANDARD
TZNAME:CET
TZOFFSETFROM:+0200
TZOFFSETTO:+0100
DTSTART:19961027T030000
RRULE:FREQ=YEARLY;BYMONTH=10;BYDAY=-1SU
END:STANDARD
END:VTIMEZONE
BEGIN:VEVENT
DTSTAMP:20260424T163225Z
DTSTART;TZID=Europe/Berlin:20180322T194500
DTEND;TZID=Europe/Berlin:20180322T224500
SUMMARY:Ligue 4 Gr.1\, Ph. B Vernier IV vs Rapid-Genève IV (23)
UID:901bc400-e6c4-4fbd-a3a4-8a09863754a2
STATUS:CONFIRMED
LAST-MODIFIED:20180323T084554Z
DESCRIPTION:4ème ligue Hommes Gr. 1 Phase B\nBegegnungs-Nr: 23\nHeim: Vernier IV\nGast: Rapid-Genève IV\n\nAdresse: Rue du Village 6\, 1214 Vernier\n
LOCATION:Rue du Village 6\, 1214 Vernier
CATEGORIES:Saison 2017/18
END:VEVENT
BEGIN:VEVENT
DTSTAMP:20260424T163225Z
DTSTART;TZID=Europe/Berlin:20180208T194500
DTEND;TZID=Europe/Berlin:20180208T224500
SUMMARY:Ligue 4 Gr.1\, Ph. B Vernier IV vs Silver Star VI (10)
UID:32965a6f-4a87-42df-a1a7-6be8eb67dd3d
STATUS:CONFIRMED
LAST-MODIFIED:20180209T101040Z
DESCRIPTION:4ème ligue Hommes Gr. 1 Phase B\nBegegnungs-Nr: 10\nHeim: Vernier IV\nGast: Silver Star VI\n\nAdresse: Rue du Village 6\, 1214 Vernier\n
LOCATION:Rue du Village 6\, 1214 Vernier
CATEGORIES:Saison 2017/18
END:VEVENT
BEGIN:VEVENT
DTSTAMP:20260424T163225Z
DTSTART;TZID=Europe/Berlin:20171012T194500
DTEND;TZID=Europe/Berlin:20171012T224500
SUMMARY:Ligue 4 Gr.6\, Ph. A Vernier IV vs Meyrin IX (7)
UID:6010be51-5815-5356-e053-1fc7a80a74f7
STATUS:CONFIRMED
LAST-MODIFIED:20171013T161923Z
DESCRIPTION:4ème ligue Hommes Gr. 6 Phase A\nBegegnungs-Nr: 7\nHeim: Vernier IV\nGast: Meyrin IX\n
LOCATION:
CATEGORIES:Saison 2017/18
END:VEVENT
BEGIN:VEVENT
DTSTAMP:20260424T163225Z
DTSTART;TZID=Europe/Berlin:20170921T194500
DTEND;TZID=Europe/Berlin:20170921T224500
SUMMARY:Ligue 4 Gr.6\, Ph. A Vernier IV vs Rapid-Genève V (3)
UID:6010be51-581c-5356-e053-1fc7a80a74f7
STATUS:CONFIRMED
LAST-MODIFIED:20170922T161948Z
DESCRIPTION:4ème ligue Hommes Gr. 6 Phase A\nBegegnungs-Nr: 3\nHeim: Vernier IV\nGast: Rapid-Genève V\n
LOCATION:
CATEGORIES:Saison 2017/18
END:VEVENT
BEGIN:VEVENT
DTSTAMP:20260424T163225Z
DTSTART;TZID=Europe/Berlin:20171109T194500
DTEND;TZID=Europe/Berlin:20171109T224500
SUMMARY:Ligue 4 Gr.6\, Ph. A Vernier IV vs Veyrier VIII (11)
UID:6010be51-59b0-5356-e053-1fc7a80a74f7
STATUS:CONFIRMED
LAST-MODIFIED:20171110T081650Z
DESCRIPTION:4ème ligue Hommes Gr. 6 Phase A\nBegegnungs-Nr: 11\nHeim: Vernier IV\nGast: Veyrier VIII\n
LOCATION:
CATEGORIES:Saison 2017/18
END:VEVENT
BEGIN:VEVENT
DTSTAMP:20260424T163225Z
DTSTART;TZID=Europe/Berlin:20171130T194500
DTEND;TZID=Europe/Berlin:20171130T224500
SUMMARY:Ligue 4 Gr.6\, Ph. A Vernier IV vs UGS-Chênois XI (16)
UID:6010be51-59b5-5356-e053-1fc7a80a74f7
STATUS:CONFIRMED
LAST-MODIFIED:20171201T174913Z
DESCRIPTION:4ème ligue Hommes Gr. 6 Phase A\nBegegnungs-Nr: 16\nHeim: Vernier IV\nGast: UGS-Chênois XI\n
LOCATION:
CATEGORIES:Saison 2017/18
END:VEVENT
BEGIN:VEVENT
DTSTAMP:20260424T163225Z
DTSTART;TZID=Europe/Berlin:20180111T194500
DTEND;TZID=Europe/Berlin:20180111T224500
SUMMARY:Ligue 4 Gr.1\, Ph. B Vernier IV vs Châtelaine VII (3)
UID:aec929eb-507d-4873-8f00-c7e3c9a1eb1f
STATUS:CONFIRMED
LAST-MODIFIED:20180112T085416Z
DESCRIPTION:4ème ligue Hommes Gr. 1 Phase B\nBegegnungs-Nr: 3\nHeim: Vernier IV\nGast: Châtelaine VII\n\nAdresse: Rue du Village 6\, 1214 Vernier\n
LOCATION:Rue du Village 6\, 1214 Vernier
CATEGORIES:Saison 2017/18
END:VEVENT
BEGIN:VEVENT
DTSTAMP:20260424T163225Z
DTSTART;TZID=Europe/Berlin:20180315T194500
DTEND;TZID=Europe/Berlin:20180315T224500
SUMMARY:Ligue 4 Gr.1\, Ph. B Vernier IV vs Mandement VI (19)
UID:6dee92f7-a7c5-44ad-9db2-14cac40bae1c
STATUS:CONFIRMED
LAST-MODIFIED:20180317T081829Z
DESCRIPTION:4ème ligue Hommes Gr. 1 Phase B\nBegegnungs-Nr: 19\nHeim: Vernier IV\nGast: Mandement VI\n\nAdresse: Rue du Village 6\, 1214 Vernier\n
LOCATION:Rue du Village 6\, 1214 Vernier
CATEGORIES:Saison 2017/18
END:VEVENT
BEGIN:VEVENT
DTSTAMP:20260424T163225Z
DTSTART;TZID=Europe/Berlin:20180301T194500
DTEND;TZID=Europe/Berlin:20180301T224500
SUMMARY:Ligue 4 Gr.1\, Ph. B Vernier IV vs Onex IV (14)
UID:293f39ed-15e8-4685-a2b2-4e4b8a75012c
STATUS:CONFIRMED
LAST-MODIFIED:20180302T205226Z
DESCRIPTION:4ème ligue Hommes Gr. 1 Phase B\nBegegnungs-Nr: 14\nHeim: Vernier IV\nGast: Onex IV\n\nAdresse: Rue du Village 6\, 1214 Vernier\n
LOCATION:Rue du Village 6\, 1214 Vernier
CATEGORIES:Saison 2017/18
END:VEVENT
BEGIN:VEVENT
DTSTAMP:20260424T163225Z
DTSTART;TZID=Europe/Berlin:20180524T194500
DTEND;TZID=Europe/Berlin:20180524T224500
SUMMARY:Ligue 4 Titre demi\, Ph.B Silver Star VII vs Vernier IV (2)
UID:e94fe3b6-e7f8-41bb-94e2-17f5cc32fc4e
STATUS:CONFIRMED
LAST-MODIFIED:20180525T092949Z
DESCRIPTION:4ème ligue Hommes Titre demi Phase B\nBegegnungs-Nr: 2\nHeim: Silver Star VII\nGast: Vernier IV\n
LOCATION:
CATEGORIES:Saison 2017/18
END:VEVENT
BEGIN:VEVENT
DTSTAMP:20260424T163225Z
DTSTART;TZID=Europe/Berlin:20170928T194500
DTEND;TZID=Europe/Berlin:20170928T224500
SUMMARY:Ligue 4 Gr.6\, Ph. A UGS-Chênois XI vs Vernier IV (6)
UID:6010be51-5814-5356-e053-1fc7a80a74f7
STATUS:CONFIRMED
LAST-MODIFIED:20170929T184104Z
DESCRIPTION:4ème ligue Hommes Gr. 6 Phase A\nBegegnungs-Nr: 6\nHeim: UGS-Chênois XI\nGast: Vernier IV\n
LOCATION:
CATEGORIES:Saison 2017/18
END:VEVENT
BEGIN:VEVENT
DTSTAMP:20260424T163225Z
DTSTART;TZID=Europe/Berlin:20170914T194500
DTEND;TZID=Europe/Berlin:20170914T224500
SUMMARY:Ligue 4 Gr.6\, Ph. A Veyrier VIII vs Vernier IV (1)
UID:6010be51-581a-5356-e053-1fc7a80a74f7
STATUS:CONFIRMED
LAST-MODIFIED:20170915T201507Z
DESCRIPTION:4ème ligue Hommes Gr. 6 Phase A\nBegegnungs-Nr: 1\nHeim: Veyrier VIII\nGast: Vernier IV\n
LOCATION:
CATEGORIES:Saison 2017/18
END:VEVENT
BEGIN:VEVENT
DTSTAMP:20260424T163225Z
DTSTART;TZID=Europe/Berlin:20171116T194500
DTEND;TZID=Europe/Berlin:20171116T224500
SUMMARY:Ligue 4 Gr.6\, Ph. A Rapid-Genève V vs Vernier IV (13)
UID:6010be51-59b1-5356-e053-1fc7a80a74f7
STATUS:CONFIRMED
LAST-MODIFIED:20171117T082755Z
DESCRIPTION:4ème ligue Hommes Gr. 6 Phase A\nBegegnungs-Nr: 13\nHeim: Rapid-Genève V\nGast: Vernier IV\n
LOCATION:
CATEGORIES:Saison 2017/18
END:VEVENT
BEGIN:VEVENT
DTSTAMP:20260424T163225Z
DTSTART;TZID=Europe/Berlin:20171207T194500
DTEND;TZID=Europe/Berlin:20171207T224500
SUMMARY:Ligue 4 Gr.6\, Ph. A Meyrin IX vs Vernier IV (17)
UID:6010be51-59b7-5356-e053-1fc7a80a74f7
STATUS:CONFIRMED
LAST-MODIFIED:20171208T160652Z
DESCRIPTION:4ème ligue Hommes Gr. 6 Phase A\nBegegnungs-Nr: 17\nHeim: Meyrin IX\nGast: Vernier IV\n
LOCATION:
CATEGORIES:Saison 2017/18
END:VEVENT
BEGIN:VEVENT
DTSTAMP:20260424T163225Z
DTSTART;TZID=Europe/Berlin:20180201T194500
DTEND;TZID=Europe/Berlin:20180201T224500
SUMMARY:Ligue 4 Gr.1\, Ph. B Rapid-Genève IV vs Vernier IV (8)
UID:5baf7284-406a-4ee6-917d-2b4f74995706
STATUS:CONFIRMED
LAST-MODIFIED:20180202T095949Z
DESCRIPTION:4ème ligue Hommes Gr. 1 Phase B\nBegegnungs-Nr: 8\nHeim: Rapid-Genève IV\nGast: Vernier IV\n
LOCATION:
CATEGORIES:Saison 2017/18
END:VEVENT
BEGIN:VEVENT
DTSTAMP:20260424T163225Z
DTSTART;TZID=Europe/Berlin:20180118T194500
DTEND;TZID=Europe/Berlin:20180118T224500
SUMMARY:Ligue 4 Gr.1\, Ph. B Mandement VI vs Vernier IV (4)
UID:f92ef249-b94a-48a5-a537-c22776b6908c
STATUS:CONFIRMED
LAST-MODIFIED:20180119T084813Z
DESCRIPTION:4ème ligue Hommes Gr. 1 Phase B\nBegegnungs-Nr: 4\nHeim: Mandement VI\nGast: Vernier IV\n
LOCATION:
CATEGORIES:Saison 2017/18
END:VEVENT
BEGIN:VEVENT
DTSTAMP:20260424T163225Z
DTSTART;TZID=Europe/Berlin:20180419T194500
DTEND;TZID=Europe/Berlin:20180419T224500
SUMMARY:Ligue 4 Gr.1\, Ph. B Onex IV vs Vernier IV (29)
UID:2972c8dd-bf20-4bfd-bbff-43cd5b610ebe
STATUS:CONFIRMED
LAST-MODIFIED:20180421T085355Z
DESCRIPTION:4ème ligue Hommes Gr. 1 Phase B\nBegegnungs-Nr: 29\nHeim: Onex IV\nGast: Vernier IV\n
LOCATION:
CATEGORIES:Saison 2017/18
END:VEVENT
BEGIN:VEVENT
DTSTAMP:20260424T163225Z
DTSTART;TZID=Europe/Berlin:20180412T194500
DTEND;TZID=Europe/Berlin:20180412T224500
SUMMARY:Ligue 4 Gr.1\, Ph. B Silver Star VI vs Vernier IV (25)
UID:ce85de33-70da-4e4f-b1ca-f996741e711c
STATUS:CONFIRMED
LAST-MODIFIED:20180413T083748Z
DESCRIPTION:4ème ligue Hommes Gr. 1 Phase B\nBegegnungs-Nr: 25\nHeim: Silver Star VI\nGast: Vernier IV\n\nAdresse: Rue de Vermont 33\, 1202 Genève\n
LOCATION:Rue de Vermont 33\, 1202 Genève
CATEGORIES:Saison 2017/18
END:VEVENT
BEGIN:VEVENT
DTSTAMP:20260424T163225Z
DTSTART;TZID=Europe/Berlin:20180308T201500
DTEND;TZID=Europe/Berlin:20180308T231500
SUMMARY:Ligue 4 Gr.1\, Ph. B Châtelaine VII vs Vernier IV (18)
UID:46fc7005-de12-45d7-9f5a-bef8599343a6
STATUS:CONFIRMED
LAST-MODIFIED:20180309T091148Z
DESCRIPTION:4ème ligue Hommes Gr. 1 Phase B\nBegegnungs-Nr: 18\nHeim: Châtelaine VII\nGast: Vernier IV\n
LOCATION:
CATEGORIES:Saison 2017/18
END:VEVENT
END:VCALENDAR
