BEGIN:VCALENDAR
PRODID:-//nuDatenautomaten//framework iCal4j //DE
VERSION:2.0
CALSCALE:GREGORIAN
BEGIN:VTIMEZONE
TZID:Europe/Berlin
LAST-MODIFIED:20260306T231828Z
TZURL:https://www.tzurl.org/zoneinfo/Europe/Berlin
X-LIC-LOCATION:Europe/Berlin
X-PROLEPTIC-TZNAME:LMT
BEGIN:STANDARD
TZNAME:CET
TZOFFSETFROM:+005328
TZOFFSETTO:+0100
DTSTART:18930401T000000
END:STANDARD
BEGIN:DAYLIGHT
TZNAME:CEST
TZOFFSETFROM:+0100
TZOFFSETTO:+0200
DTSTART:19160430T230000
RDATE:19400401T020000
RDATE:19430329T020000
RDATE:19460414T020000
RDATE:19470406T030000
RDATE:19480418T020000
RDATE:19490410T020000
RDATE:19800406T020000
END:DAYLIGHT
BEGIN:STANDARD
TZNAME:CET
TZOFFSETFROM:+0200
TZOFFSETTO:+0100
DTSTART:19161001T010000
RDATE:19421102T030000
RDATE:19431004T030000
RDATE:19441002T030000
RDATE:19451118T030000
RDATE:19461007T030000
END:STANDARD
BEGIN:DAYLIGHT
TZNAME:CEST
TZOFFSETFROM:+0100
TZOFFSETTO:+0200
DTSTART:19170416T020000
RRULE:FREQ=YEARLY;UNTIL=19180415T010000Z;BYMONTH=4;BYDAY=3MO
END:DAYLIGHT
BEGIN:STANDARD
TZNAME:CET
TZOFFSETFROM:+0200
TZOFFSETTO:+0100
DTSTART:19170917T030000
RRULE:FREQ=YEARLY;UNTIL=19180916T010000Z;BYMONTH=9;BYDAY=3MO
END:STANDARD
BEGIN:DAYLIGHT
TZNAME:CEST
TZOFFSETFROM:+0100
TZOFFSETTO:+0200
DTSTART:19440403T020000
RRULE:FREQ=YEARLY;UNTIL=19450402T010000Z;BYMONTH=4;BYDAY=1MO
END:DAYLIGHT
BEGIN:DAYLIGHT
TZNAME:CEMT
TZOFFSETFROM:+0200
TZOFFSETTO:+0300
DTSTART:19450524T020000
RDATE:19470511T030000
END:DAYLIGHT
BEGIN:DAYLIGHT
TZNAME:CEST
TZOFFSETFROM:+0300
TZOFFSETTO:+0200
DTSTART:19450924T030000
RDATE:19470629T030000
END:DAYLIGHT
BEGIN:STANDARD
TZNAME:CET
TZOFFSETFROM:+0100
TZOFFSETTO:+0100
DTSTART:19460101T000000
RDATE:19800101T000000
END:STANDARD
BEGIN:STANDARD
TZNAME:CET
TZOFFSETFROM:+0200
TZOFFSETTO:+0100
DTSTART:19471005T030000
RRULE:FREQ=YEARLY;UNTIL=19491002T010000Z;BYMONTH=10;BYDAY=1SU
END:STANDARD
BEGIN:STANDARD
TZNAME:CET
TZOFFSETFROM:+0200
TZOFFSETTO:+0100
DTSTART:19800928T030000
RRULE:FREQ=YEARLY;UNTIL=19950924T010000Z;BYMONTH=9;BYDAY=-1SU
END:STANDARD
BEGIN:DAYLIGHT
TZNAME:CEST
TZOFFSETFROM:+0100
TZOFFSETTO:+0200
DTSTART:19810329T020000
RRULE:FREQ=YEARLY;BYMONTH=3;BYDAY=-1SU
END:DAYLIGHT
BEGIN:STANDARD
TZNAME:CET
TZOFFSETFROM:+0200
TZOFFSETTO:+0100
DTSTART:19961027T030000
RRULE:FREQ=YEARLY;BYMONTH=10;BYDAY=-1SU
END:STANDARD
END:VTIMEZONE
BEGIN:VEVENT
DTSTAMP:20260424T165458Z
DTSTART;TZID=Europe/Berlin:20170909T130000
DTEND;TZID=Europe/Berlin:20170909T160000
SUMMARY:JUG 3.Liga Gr.1A Vorrunde Wuppenau vs Ettenhausen II (1)
UID:6010be51-561a-5356-e053-1fc7a80a74f7
STATUS:CONFIRMED
LAST-MODIFIED:20170910T181326Z
DESCRIPTION:3. Liga Jugend Gruppe 1A Vorrunde\nBegegnungs-Nr: 1\nHeim: Wuppenau\nGast: Ettenhausen II\nHalle: Poule in Bronschhofen Halle Obermatt\nAdresse: Nollenstrasse\, 9514 Wuppenau\n
LOCATION:Poule in Bronschhofen Halle Obermatt Nollenstrasse\, 9514 Wuppenau
CATEGORIES:Saison 2017/18
END:VEVENT
BEGIN:VEVENT
DTSTAMP:20260424T165458Z
DTSTART;TZID=Europe/Berlin:20170909T143000
DTEND;TZID=Europe/Berlin:20170909T173000
SUMMARY:JUG 3.Liga Gr.1A Vorrunde Wuppenau vs Bronschhofen (4)
UID:6010be51-561b-5356-e053-1fc7a80a74f7
STATUS:CONFIRMED
LAST-MODIFIED:20170910T085729Z
DESCRIPTION:3. Liga Jugend Gruppe 1A Vorrunde\nBegegnungs-Nr: 4\nHeim: Wuppenau\nGast: Bronschhofen\nHalle: Poule in Bronschhofen Halle Obermatt\nAdresse: Nollenstrasse\, 9514 Wuppenau\n
LOCATION:Poule in Bronschhofen Halle Obermatt Nollenstrasse\, 9514 Wuppenau
CATEGORIES:Saison 2017/18
END:VEVENT
BEGIN:VEVENT
DTSTAMP:20260424T165458Z
DTSTART;TZID=Europe/Berlin:20171202T130000
DTEND;TZID=Europe/Berlin:20171202T160000
SUMMARY:JUG 3.Liga Gr.1B Zw-Rde. Wuppenau vs Chur II (2)
UID:6010be51-59a6-5356-e053-1fc7a80a74f7
STATUS:CONFIRMED
LAST-MODIFIED:20171204T142041Z
DESCRIPTION:3. Liga Jugend Gruppe 1B Zw-Runde\nBegegnungs-Nr: 2\nHeim: Wuppenau\nGast: Chur II\nHalle: Poule in Rapperswil Kreuzstrasse\nAdresse: Nollenstrasse\, 9514 Wuppenau\n
LOCATION:Poule in Rapperswil Kreuzstrasse Nollenstrasse\, 9514 Wuppenau
CATEGORIES:Saison 2017/18
END:VEVENT
BEGIN:VEVENT
DTSTAMP:20260424T165458Z
DTSTART;TZID=Europe/Berlin:20171202T160000
DTEND;TZID=Europe/Berlin:20171202T190000
SUMMARY:JUG 3.Liga Gr.1B Zw-Rde. Wuppenau vs Weinfelden (5)
UID:6010be51-59a9-5356-e053-1fc7a80a74f7
STATUS:CONFIRMED
LAST-MODIFIED:20171204T142144Z
DESCRIPTION:3. Liga Jugend Gruppe 1B Zw-Runde\nBegegnungs-Nr: 5\nHeim: Wuppenau\nGast: Weinfelden\nHalle: Poule in Rapperswil Kreuzstrasse\nAdresse: Nollenstrasse\, 9514 Wuppenau\n
LOCATION:Poule in Rapperswil Kreuzstrasse Nollenstrasse\, 9514 Wuppenau
CATEGORIES:Saison 2017/18
END:VEVENT
BEGIN:VEVENT
DTSTAMP:20260424T165458Z
DTSTART;TZID=Europe/Berlin:20180324T130000
DTEND;TZID=Europe/Berlin:20180324T160000
SUMMARY:JUG 3.Liga Gr.2A Final Wuppenau vs Horgen (2)
UID:bb839f38-f05f-4b1a-a6ce-9d7ef83bda72
STATUS:CONFIRMED
LAST-MODIFIED:20180324T133259Z
DESCRIPTION:3. Liga Jugend Gruppe 2A Final\nBegegnungs-Nr: 2\nHeim: Wuppenau\nGast: Horgen\nHalle: Poule in Flums Kirchbünte\nAdresse: Nollenstrasse\, 9514 Wuppenau\n
LOCATION:Poule in Flums Kirchbünte Nollenstrasse\, 9514 Wuppenau
CATEGORIES:Saison 2017/18
END:VEVENT
BEGIN:VEVENT
DTSTAMP:20260424T165458Z
DTSTART;TZID=Europe/Berlin:20180324T160000
DTEND;TZID=Europe/Berlin:20180324T190000
SUMMARY:JUG 3.Liga Gr.2A Final Wuppenau vs Niederhasli II (5)
UID:781787c7-b050-4fd2-b3eb-3a85ee43b55e
STATUS:CONFIRMED
LAST-MODIFIED:20180327T082709Z
DESCRIPTION:3. Liga Jugend Gruppe 2A Final\nBegegnungs-Nr: 5\nHeim: Wuppenau\nGast: Niederhasli II\nHalle: Poule in Flums Kirchbünte\nAdresse: Nollenstrasse\, 9514 Wuppenau\n
LOCATION:Poule in Flums Kirchbünte Nollenstrasse\, 9514 Wuppenau
CATEGORIES:Saison 2017/18
END:VEVENT
BEGIN:VEVENT
DTSTAMP:20260424T165458Z
DTSTART;TZID=Europe/Berlin:20170909T160000
DTEND;TZID=Europe/Berlin:20170909T190000
SUMMARY:JUG 3.Liga Gr.1A Vorrunde Herisau vs Wuppenau (6)
UID:6010be51-561c-5356-e053-1fc7a80a74f7
STATUS:CONFIRMED
LAST-MODIFIED:20170910T181358Z
DESCRIPTION:3. Liga Jugend Gruppe 1A Vorrunde\nBegegnungs-Nr: 6\nHeim: Herisau\nGast: Wuppenau\nHalle: Poule in Bronschhofen Halle Obermatt
LOCATION:Poule in Bronschhofen Halle Obermatt 
CATEGORIES:Saison 2017/18
END:VEVENT
BEGIN:VEVENT
DTSTAMP:20260424T165458Z
DTSTART;TZID=Europe/Berlin:20171202T143000
DTEND;TZID=Europe/Berlin:20171202T173000
SUMMARY:JUG 3.Liga Gr.1B Zw-Rde. Rapperswil-Jona II vs Wuppenau (4)
UID:6010be51-59a8-5356-e053-1fc7a80a74f7
STATUS:CONFIRMED
LAST-MODIFIED:20171204T142131Z
DESCRIPTION:3. Liga Jugend Gruppe 1B Zw-Runde\nBegegnungs-Nr: 4\nHeim: Rapperswil-Jona II\nGast: Wuppenau\nHalle: Poule in Rapperswil Kreuzstrasse\nAdresse: Kreuzstrasse 43\, 8640 Rapperswil\n
LOCATION:Poule in Rapperswil Kreuzstrasse Kreuzstrasse 43\, 8640 Rapperswil
CATEGORIES:Saison 2017/18
END:VEVENT
BEGIN:VEVENT
DTSTAMP:20260424T165458Z
DTSTART;TZID=Europe/Berlin:20180324T143000
DTEND;TZID=Europe/Berlin:20180324T173000
SUMMARY:JUG 3.Liga Gr.2A Final Flums vs Wuppenau (4)
UID:08de19e5-8bdb-45c9-9cea-536a7c8718ca
STATUS:CONFIRMED
LAST-MODIFIED:20180327T082653Z
DESCRIPTION:3. Liga Jugend Gruppe 2A Final\nBegegnungs-Nr: 4\nHeim: Flums\nGast: Wuppenau\nHalle: Poule in Flums Kirchbünte\nAdresse: Bergstrasse\, 8890 Flums\n
LOCATION:Poule in Flums Kirchbünte Bergstrasse\, 8890 Flums
CATEGORIES:Saison 2017/18
END:VEVENT
END:VCALENDAR
