BEGIN:VCALENDAR
PRODID:-//nuDatenautomaten//framework iCal4j //DE
VERSION:2.0
CALSCALE:GREGORIAN
BEGIN:VTIMEZONE
TZID:Europe/Berlin
LAST-MODIFIED:20260306T231828Z
TZURL:https://www.tzurl.org/zoneinfo/Europe/Berlin
X-LIC-LOCATION:Europe/Berlin
X-PROLEPTIC-TZNAME:LMT
BEGIN:STANDARD
TZNAME:CET
TZOFFSETFROM:+005328
TZOFFSETTO:+0100
DTSTART:18930401T000000
END:STANDARD
BEGIN:DAYLIGHT
TZNAME:CEST
TZOFFSETFROM:+0100
TZOFFSETTO:+0200
DTSTART:19160430T230000
RDATE:19400401T020000
RDATE:19430329T020000
RDATE:19460414T020000
RDATE:19470406T030000
RDATE:19480418T020000
RDATE:19490410T020000
RDATE:19800406T020000
END:DAYLIGHT
BEGIN:STANDARD
TZNAME:CET
TZOFFSETFROM:+0200
TZOFFSETTO:+0100
DTSTART:19161001T010000
RDATE:19421102T030000
RDATE:19431004T030000
RDATE:19441002T030000
RDATE:19451118T030000
RDATE:19461007T030000
END:STANDARD
BEGIN:DAYLIGHT
TZNAME:CEST
TZOFFSETFROM:+0100
TZOFFSETTO:+0200
DTSTART:19170416T020000
RRULE:FREQ=YEARLY;UNTIL=19180415T010000Z;BYMONTH=4;BYDAY=3MO
END:DAYLIGHT
BEGIN:STANDARD
TZNAME:CET
TZOFFSETFROM:+0200
TZOFFSETTO:+0100
DTSTART:19170917T030000
RRULE:FREQ=YEARLY;UNTIL=19180916T010000Z;BYMONTH=9;BYDAY=3MO
END:STANDARD
BEGIN:DAYLIGHT
TZNAME:CEST
TZOFFSETFROM:+0100
TZOFFSETTO:+0200
DTSTART:19440403T020000
RRULE:FREQ=YEARLY;UNTIL=19450402T010000Z;BYMONTH=4;BYDAY=1MO
END:DAYLIGHT
BEGIN:DAYLIGHT
TZNAME:CEMT
TZOFFSETFROM:+0200
TZOFFSETTO:+0300
DTSTART:19450524T020000
RDATE:19470511T030000
END:DAYLIGHT
BEGIN:DAYLIGHT
TZNAME:CEST
TZOFFSETFROM:+0300
TZOFFSETTO:+0200
DTSTART:19450924T030000
RDATE:19470629T030000
END:DAYLIGHT
BEGIN:STANDARD
TZNAME:CET
TZOFFSETFROM:+0100
TZOFFSETTO:+0100
DTSTART:19460101T000000
RDATE:19800101T000000
END:STANDARD
BEGIN:STANDARD
TZNAME:CET
TZOFFSETFROM:+0200
TZOFFSETTO:+0100
DTSTART:19471005T030000
RRULE:FREQ=YEARLY;UNTIL=19491002T010000Z;BYMONTH=10;BYDAY=1SU
END:STANDARD
BEGIN:STANDARD
TZNAME:CET
TZOFFSETFROM:+0200
TZOFFSETTO:+0100
DTSTART:19800928T030000
RRULE:FREQ=YEARLY;UNTIL=19950924T010000Z;BYMONTH=9;BYDAY=-1SU
END:STANDARD
BEGIN:DAYLIGHT
TZNAME:CEST
TZOFFSETFROM:+0100
TZOFFSETTO:+0200
DTSTART:19810329T020000
RRULE:FREQ=YEARLY;BYMONTH=3;BYDAY=-1SU
END:DAYLIGHT
BEGIN:STANDARD
TZNAME:CET
TZOFFSETFROM:+0200
TZOFFSETTO:+0100
DTSTART:19961027T030000
RRULE:FREQ=YEARLY;BYMONTH=10;BYDAY=-1SU
END:STANDARD
END:VTIMEZONE
BEGIN:VEVENT
DTSTAMP:20260424T164557Z
DTSTART;TZID=Europe/Berlin:20171207T201500
DTEND;TZID=Europe/Berlin:20171207T231500
SUMMARY:HE 5.Liga Gr.2 Romanshorn V vs Weinfelden III (0)
UID:6010be51-4767-5356-e053-1fc7a80a74f7
STATUS:CONFIRMED
LAST-MODIFIED:20171213T155029Z
DESCRIPTION:5. Liga Herren Gruppe 2\nBegegnungs-Nr: 0\nHeim: Romanshorn V\nGast: Weinfelden III\n\nAdresse: Florastrasse\, 8590 Romanshorn\n
LOCATION:Florastrasse\, 8590 Romanshorn
CATEGORIES:Saison 2017/18
END:VEVENT
BEGIN:VEVENT
DTSTAMP:20260424T164557Z
DTSTART;TZID=Europe/Berlin:20171102T201500
DTEND;TZID=Europe/Berlin:20171102T231500
SUMMARY:HE 5.Liga Gr.2 Romanshorn V vs St. Gallen VIII (0)
UID:6010be51-4772-5356-e053-1fc7a80a74f7
STATUS:CONFIRMED
LAST-MODIFIED:20171106T095353Z
DESCRIPTION:5. Liga Herren Gruppe 2\nBegegnungs-Nr: 0\nHeim: Romanshorn V\nGast: St. Gallen VIII\n\nAdresse: Florastrasse\, 8590 Romanshorn\n
LOCATION:Florastrasse\, 8590 Romanshorn
CATEGORIES:Saison 2017/18
END:VEVENT
BEGIN:VEVENT
DTSTAMP:20260424T164557Z
DTSTART;TZID=Europe/Berlin:20170914T201500
DTEND;TZID=Europe/Berlin:20170914T231500
SUMMARY:HE 5.Liga Gr.2 Romanshorn V vs Horn II (0)
UID:6010be51-47a3-5356-e053-1fc7a80a74f7
STATUS:CONFIRMED
LAST-MODIFIED:20170920T093718Z
DESCRIPTION:5. Liga Herren Gruppe 2\nBegegnungs-Nr: 0\nHeim: Romanshorn V\nGast: Horn II\n\nAdresse: Florastrasse\, 8590 Romanshorn\n
LOCATION:Florastrasse\, 8590 Romanshorn
CATEGORIES:Saison 2017/18
END:VEVENT
BEGIN:VEVENT
DTSTAMP:20260424T164557Z
DTSTART;TZID=Europe/Berlin:20180208T201500
DTEND;TZID=Europe/Berlin:20180208T231500
SUMMARY:HE 5.Liga Gr.2 Romanshorn V vs Muolen V (0)
UID:6010be51-4c72-5356-e053-1fc7a80a74f7
STATUS:CONFIRMED
LAST-MODIFIED:20180213T092313Z
DESCRIPTION:5. Liga Herren Gruppe 2\nBegegnungs-Nr: 0\nHeim: Romanshorn V\nGast: Muolen V\n\nAdresse: Florastrasse\, 8590 Romanshorn\n
LOCATION:Florastrasse\, 8590 Romanshorn
CATEGORIES:Saison 2017/18
END:VEVENT
BEGIN:VEVENT
DTSTAMP:20260424T164557Z
DTSTART;TZID=Europe/Berlin:20180504T201500
DTEND;TZID=Europe/Berlin:20180504T231500
SUMMARY:HE 5.Liga Aufstieg\, Gr.A Romanshorn V vs Wolfhalden II (433)
UID:e6486636-6cf0-445c-9682-89afa696f68f
STATUS:CONFIRMED
LAST-MODIFIED:20180507T121344Z
DESCRIPTION:5. Liga Herren Aufstieg Gr.A\nBegegnungs-Nr: 433\nHeim: Romanshorn V\nGast: Wolfhalden II\n\nAdresse: Florastrasse\, 8590 Romanshorn\n
LOCATION:Florastrasse\, 8590 Romanshorn
CATEGORIES:Saison 2017/18
END:VEVENT
BEGIN:VEVENT
DTSTAMP:20260424T164557Z
DTSTART;TZID=Europe/Berlin:20180322T201500
DTEND;TZID=Europe/Berlin:20180322T231500
SUMMARY:HE 5.Liga Gr.2 Romanshorn V vs St. Gallen X (0)
UID:6010be51-4c38-5356-e053-1fc7a80a74f7
STATUS:CONFIRMED
LAST-MODIFIED:20180323T104546Z
DESCRIPTION:5. Liga Herren Gruppe 2\nBegegnungs-Nr: 0\nHeim: Romanshorn V\nGast: St. Gallen X\n\nAdresse: Florastrasse\, 8590 Romanshorn\n
LOCATION:Florastrasse\, 8590 Romanshorn
CATEGORIES:Saison 2017/18
END:VEVENT
BEGIN:VEVENT
DTSTAMP:20260424T164557Z
DTSTART;TZID=Europe/Berlin:20180111T201500
DTEND;TZID=Europe/Berlin:20180111T231500
SUMMARY:HE 5.Liga Gr.2 Romanshorn V vs Gaiserwald V (0)
UID:6010be51-4c7c-5356-e053-1fc7a80a74f7
STATUS:CONFIRMED
LAST-MODIFIED:20180115T105819Z
DESCRIPTION:5. Liga Herren Gruppe 2\nBegegnungs-Nr: 0\nHeim: Romanshorn V\nGast: Gaiserwald V\n\nAdresse: Florastrasse\, 8590 Romanshorn\n
LOCATION:Florastrasse\, 8590 Romanshorn
CATEGORIES:Saison 2017/18
END:VEVENT
BEGIN:VEVENT
DTSTAMP:20260424T164557Z
DTSTART;TZID=Europe/Berlin:20171109T201500
DTEND;TZID=Europe/Berlin:20171109T231500
SUMMARY:HE 5.Liga Gr.2 Romanshorn V vs Gossau St.Gallen III (0)
UID:6010be51-5c0e-5356-e053-1fc7a80a74f7
STATUS:CONFIRMED
LAST-MODIFIED:20171113T134206Z
DESCRIPTION:5. Liga Herren Gruppe 2\nBegegnungs-Nr: 0\nHeim: Romanshorn V\nGast: Gossau St.Gallen III\n\nAdresse: Florastrasse\, 8590 Romanshorn\n
LOCATION:Florastrasse\, 8590 Romanshorn
CATEGORIES:Saison 2017/18
END:VEVENT
BEGIN:VEVENT
DTSTAMP:20260424T164557Z
DTSTART;TZID=Europe/Berlin:20171120T200000
DTEND;TZID=Europe/Berlin:20171120T230000
SUMMARY:HE 5.Liga Gr.2 Muolen V vs Romanshorn V (0)
UID:6010be51-4773-5356-e053-1fc7a80a74f7
STATUS:CONFIRMED
LAST-MODIFIED:20171121T102449Z
DESCRIPTION:5. Liga Herren Gruppe 2\nBegegnungs-Nr: 0\nHeim: Muolen V\nGast: Romanshorn V\n\nAdresse: Olmishauserstrasse 3\, 9314 Steinebrunn\n
LOCATION:Olmishauserstrasse 3\, 9314 Steinebrunn
CATEGORIES:Saison 2017/18
END:VEVENT
BEGIN:VEVENT
DTSTAMP:20260424T164557Z
DTSTART;TZID=Europe/Berlin:20170905T200000
DTEND;TZID=Europe/Berlin:20170905T230000
SUMMARY:HE 5.Liga Gr.2 Gaiserwald V vs Romanshorn V (0)
UID:6010be51-47a8-5356-e053-1fc7a80a74f7
STATUS:CONFIRMED
LAST-MODIFIED:20170906T075956Z
DESCRIPTION:5. Liga Herren Gruppe 2\nBegegnungs-Nr: 0\nHeim: Gaiserwald V\nGast: Romanshorn V\n\nAdresse: Sonnenbergstrasse 15\, 9030 Abtwil\n
LOCATION:Sonnenbergstrasse 15\, 9030 Abtwil
CATEGORIES:Saison 2017/18
END:VEVENT
BEGIN:VEVENT
DTSTAMP:20260424T164557Z
DTSTART;TZID=Europe/Berlin:20180516T200000
DTEND;TZID=Europe/Berlin:20180516T230000
SUMMARY:HE 5.Liga Aufstieg\, Gr.A Neuhausen VI vs Romanshorn V (432)
UID:848f4114-3708-41c3-9d5a-d1d56ae01afc
STATUS:CONFIRMED
LAST-MODIFIED:20180524T135926Z
DESCRIPTION:5. Liga Herren Aufstieg Gr.A\nBegegnungs-Nr: 432\nHeim: Neuhausen VI\nGast: Romanshorn V\n\nAdresse: Ebnatstrasse 35\, 8200 Schaffhausen\n
LOCATION:Ebnatstrasse 35\, 8200 Schaffhausen
CATEGORIES:Saison 2017/18
END:VEVENT
BEGIN:VEVENT
DTSTAMP:20260424T164557Z
DTSTART;TZID=Europe/Berlin:20180220T200000
DTEND;TZID=Europe/Berlin:20180220T230000
SUMMARY:HE 5.Liga Gr.2 Weinfelden III vs Romanshorn V (0)
UID:6010be51-4c34-5356-e053-1fc7a80a74f7
STATUS:CONFIRMED
LAST-MODIFIED:20180221T133059Z
DESCRIPTION:5. Liga Herren Gruppe 2\nBegegnungs-Nr: 0\nHeim: Weinfelden III\nGast: Romanshorn V\n\nAdresse: Bleichestrasse 3 (neben Hallenbad)\, 8570 Weinfelden\n
LOCATION:Bleichestrasse 3 (neben Hallenbad)\, 8570 Weinfelden
CATEGORIES:Saison 2017/18
END:VEVENT
BEGIN:VEVENT
DTSTAMP:20260424T164557Z
DTSTART;TZID=Europe/Berlin:20180315T200000
DTEND;TZID=Europe/Berlin:20180315T230000
SUMMARY:HE 5.Liga Gr.2 Gossau St.Gallen III vs Romanshorn V (0)
UID:6010be51-4c3c-5356-e053-1fc7a80a74f7
STATUS:CONFIRMED
LAST-MODIFIED:20180319T172057Z
DESCRIPTION:5. Liga Herren Gruppe 2\nBegegnungs-Nr: 0\nHeim: Gossau St.Gallen III\nGast: Romanshorn V\n\nAdresse: Falkenstrasse 21\, 9200 Gossau\n
LOCATION:Falkenstrasse 21\, 9200 Gossau
CATEGORIES:Saison 2017/18
END:VEVENT
BEGIN:VEVENT
DTSTAMP:20260424T164557Z
DTSTART;TZID=Europe/Berlin:20180309T200000
DTEND;TZID=Europe/Berlin:20180309T230000
SUMMARY:HE 5.Liga Gr.2 St. Gallen VIII vs Romanshorn V (0)
UID:6010be51-4c71-5356-e053-1fc7a80a74f7
STATUS:CONFIRMED
LAST-MODIFIED:20180319T172039Z
DESCRIPTION:5. Liga Herren Gruppe 2\nBegegnungs-Nr: 0\nHeim: St. Gallen VIII\nGast: Romanshorn V\n\nAdresse: Zilstrasse 61\, 9016 St.Gallen\n
LOCATION:Zilstrasse 61\, 9016 St.Gallen
CATEGORIES:Saison 2017/18
END:VEVENT
BEGIN:VEVENT
DTSTAMP:20260424T164557Z
DTSTART;TZID=Europe/Berlin:20171116T200000
DTEND;TZID=Europe/Berlin:20171116T230000
SUMMARY:HE 5.Liga Gr.2 St. Gallen X vs Romanshorn V (0)
UID:6010be51-5c5b-5356-e053-1fc7a80a74f7
STATUS:CONFIRMED
LAST-MODIFIED:20171121T102416Z
DESCRIPTION:5. Liga Herren Gruppe 2\nBegegnungs-Nr: 0\nHeim: St. Gallen X\nGast: Romanshorn V\n\nAdresse: Zilstrasse 61\, 9016 St.Gallen\n
LOCATION:Zilstrasse 61\, 9016 St.Gallen
CATEGORIES:Saison 2017/18
END:VEVENT
BEGIN:VEVENT
DTSTAMP:20260424T164557Z
DTSTART;TZID=Europe/Berlin:20180125T200000
DTEND;TZID=Europe/Berlin:20180125T230000
SUMMARY:HE 5.Liga Gr.2 Horn II vs Romanshorn V (0)
UID:6010be51-4c77-5356-e053-1fc7a80a74f7
STATUS:CONFIRMED
LAST-MODIFIED:20180129T121953Z
DESCRIPTION:5. Liga Herren Gruppe 2\nBegegnungs-Nr: 0\nHeim: Horn II\nGast: Romanshorn V\n\nAdresse: Feldstrasse 16\, 9326 Horn\n
LOCATION:Feldstrasse 16\, 9326 Horn
CATEGORIES:Saison 2017/18
END:VEVENT
END:VCALENDAR
