BEGIN:VCALENDAR
PRODID:-//nuDatenautomaten//framework iCal4j //DE
VERSION:2.0
CALSCALE:GREGORIAN
BEGIN:VTIMEZONE
TZID:Europe/Berlin
LAST-MODIFIED:20260306T231828Z
TZURL:https://www.tzurl.org/zoneinfo/Europe/Berlin
X-LIC-LOCATION:Europe/Berlin
X-PROLEPTIC-TZNAME:LMT
BEGIN:STANDARD
TZNAME:CET
TZOFFSETFROM:+005328
TZOFFSETTO:+0100
DTSTART:18930401T000000
END:STANDARD
BEGIN:DAYLIGHT
TZNAME:CEST
TZOFFSETFROM:+0100
TZOFFSETTO:+0200
DTSTART:19160430T230000
RDATE:19400401T020000
RDATE:19430329T020000
RDATE:19460414T020000
RDATE:19470406T030000
RDATE:19480418T020000
RDATE:19490410T020000
RDATE:19800406T020000
END:DAYLIGHT
BEGIN:STANDARD
TZNAME:CET
TZOFFSETFROM:+0200
TZOFFSETTO:+0100
DTSTART:19161001T010000
RDATE:19421102T030000
RDATE:19431004T030000
RDATE:19441002T030000
RDATE:19451118T030000
RDATE:19461007T030000
END:STANDARD
BEGIN:DAYLIGHT
TZNAME:CEST
TZOFFSETFROM:+0100
TZOFFSETTO:+0200
DTSTART:19170416T020000
RRULE:FREQ=YEARLY;UNTIL=19180415T010000Z;BYMONTH=4;BYDAY=3MO
END:DAYLIGHT
BEGIN:STANDARD
TZNAME:CET
TZOFFSETFROM:+0200
TZOFFSETTO:+0100
DTSTART:19170917T030000
RRULE:FREQ=YEARLY;UNTIL=19180916T010000Z;BYMONTH=9;BYDAY=3MO
END:STANDARD
BEGIN:DAYLIGHT
TZNAME:CEST
TZOFFSETFROM:+0100
TZOFFSETTO:+0200
DTSTART:19440403T020000
RRULE:FREQ=YEARLY;UNTIL=19450402T010000Z;BYMONTH=4;BYDAY=1MO
END:DAYLIGHT
BEGIN:DAYLIGHT
TZNAME:CEMT
TZOFFSETFROM:+0200
TZOFFSETTO:+0300
DTSTART:19450524T020000
RDATE:19470511T030000
END:DAYLIGHT
BEGIN:DAYLIGHT
TZNAME:CEST
TZOFFSETFROM:+0300
TZOFFSETTO:+0200
DTSTART:19450924T030000
RDATE:19470629T030000
END:DAYLIGHT
BEGIN:STANDARD
TZNAME:CET
TZOFFSETFROM:+0100
TZOFFSETTO:+0100
DTSTART:19460101T000000
RDATE:19800101T000000
END:STANDARD
BEGIN:STANDARD
TZNAME:CET
TZOFFSETFROM:+0200
TZOFFSETTO:+0100
DTSTART:19471005T030000
RRULE:FREQ=YEARLY;UNTIL=19491002T010000Z;BYMONTH=10;BYDAY=1SU
END:STANDARD
BEGIN:STANDARD
TZNAME:CET
TZOFFSETFROM:+0200
TZOFFSETTO:+0100
DTSTART:19800928T030000
RRULE:FREQ=YEARLY;UNTIL=19950924T010000Z;BYMONTH=9;BYDAY=-1SU
END:STANDARD
BEGIN:DAYLIGHT
TZNAME:CEST
TZOFFSETFROM:+0100
TZOFFSETTO:+0200
DTSTART:19810329T020000
RRULE:FREQ=YEARLY;BYMONTH=3;BYDAY=-1SU
END:DAYLIGHT
BEGIN:STANDARD
TZNAME:CET
TZOFFSETFROM:+0200
TZOFFSETTO:+0100
DTSTART:19961027T030000
RRULE:FREQ=YEARLY;BYMONTH=10;BYDAY=-1SU
END:STANDARD
END:VTIMEZONE
BEGIN:VEVENT
DTSTAMP:20260424T151022Z
DTSTART;TZID=Europe/Berlin:20171115T194500
DTEND;TZID=Europe/Berlin:20171115T224500
SUMMARY:Ligue 3 Gr.1\, Ph.A Silver Star III vs UGS-Chênois X (19)
UID:6010be51-5449-5356-e053-1fc7a80a74f7
STATUS:CONFIRMED
LAST-MODIFIED:20171116T125435Z
DESCRIPTION:3ème ligue Hommes Gr. 1 Phase A\nBegegnungs-Nr: 19\nHeim: Silver Star III\nGast: UGS-Chênois X\n\nAdresse: Rue de Vermont 33\, 1202 Genève\n
LOCATION:Rue de Vermont 33\, 1202 Genève
CATEGORIES:Saison 2017/18
END:VEVENT
BEGIN:VEVENT
DTSTAMP:20260424T151022Z
DTSTART;TZID=Europe/Berlin:20171018T194500
DTEND;TZID=Europe/Berlin:20171018T224500
SUMMARY:Ligue 3 Gr.1\, Ph.A Silver Star III vs Veyrier VII (13)
UID:6010be51-544d-5356-e053-1fc7a80a74f7
STATUS:CONFIRMED
LAST-MODIFIED:20171019T114528Z
DESCRIPTION:3ème ligue Hommes Gr. 1 Phase A\nBegegnungs-Nr: 13\nHeim: Silver Star III\nGast: Veyrier VII\n\nAdresse: Rue de Vermont 33\, 1202 Genève\n
LOCATION:Rue de Vermont 33\, 1202 Genève
CATEGORIES:Saison 2017/18
END:VEVENT
BEGIN:VEVENT
DTSTAMP:20260424T151022Z
DTSTART;TZID=Europe/Berlin:20170913T194500
DTEND;TZID=Europe/Berlin:20170913T224500
SUMMARY:Ligue 3 Gr.1\, Ph.A Silver Star III vs Migros (3)
UID:6010be51-54fe-5356-e053-1fc7a80a74f7
STATUS:CONFIRMED
LAST-MODIFIED:20170914T114014Z
DESCRIPTION:3ème ligue Hommes Gr. 1 Phase A\nBegegnungs-Nr: 3\nHeim: Silver Star III\nGast: Migros\n\nAdresse: Rue de Vermont 33\, 1202 Genève\n
LOCATION:Rue de Vermont 33\, 1202 Genève
CATEGORIES:Saison 2017/18
END:VEVENT
BEGIN:VEVENT
DTSTAMP:20260424T151022Z
DTSTART;TZID=Europe/Berlin:20171129T194500
DTEND;TZID=Europe/Berlin:20171129T224500
SUMMARY:Ligue 3 Gr.1\, Ph.A Silver Star III vs Rapid-Genève IV (23)
UID:6010be51-5583-5356-e053-1fc7a80a74f7
STATUS:CONFIRMED
LAST-MODIFIED:20171130T152340Z
DESCRIPTION:3ème ligue Hommes Gr. 1 Phase A\nBegegnungs-Nr: 23\nHeim: Silver Star III\nGast: Rapid-Genève IV\n\nAdresse: Rue de Vermont 33\, 1202 Genève\n
LOCATION:Rue de Vermont 33\, 1202 Genève
CATEGORIES:Saison 2017/18
END:VEVENT
BEGIN:VEVENT
DTSTAMP:20260424T151022Z
DTSTART;TZID=Europe/Berlin:20180207T194500
DTEND;TZID=Europe/Berlin:20180207T224500
SUMMARY:Ligue 3 Gr.1\, Ph.B Silver Star III vs Meyrin III (11)
UID:53f8e0a6-384c-420b-9ad5-efc3a25aeb90
STATUS:CONFIRMED
LAST-MODIFIED:20180208T135156Z
DESCRIPTION:3ème ligue Hommes Gr. 1 Phase B\nBegegnungs-Nr: 11\nHeim: Silver Star III\nGast: Meyrin III\n\nAdresse: Rue de Vermont 33\, 1202 Genève\n
LOCATION:Rue de Vermont 33\, 1202 Genève
CATEGORIES:Saison 2017/18
END:VEVENT
BEGIN:VEVENT
DTSTAMP:20260424T151022Z
DTSTART;TZID=Europe/Berlin:20180117T194500
DTEND;TZID=Europe/Berlin:20180117T224500
SUMMARY:Ligue 3 Gr.1\, Ph.B Silver Star III vs Carouge VI (5)
UID:f5855e62-9d33-45e0-8323-7a8b4fe7e3ac
STATUS:CONFIRMED
LAST-MODIFIED:20180118T164728Z
DESCRIPTION:3ème ligue Hommes Gr. 1 Phase B\nBegegnungs-Nr: 5\nHeim: Silver Star III\nGast: Carouge VI\n\nAdresse: Rue de Vermont 33\, 1202 Genève\n
LOCATION:Rue de Vermont 33\, 1202 Genève
CATEGORIES:Saison 2017/18
END:VEVENT
BEGIN:VEVENT
DTSTAMP:20260424T151022Z
DTSTART;TZID=Europe/Berlin:20180418T194500
DTEND;TZID=Europe/Berlin:20180418T224500
SUMMARY:Ligue 3 Gr.1\, Ph.B Silver Star III vs Onex II (29)
UID:ce38b45d-69ac-44db-a186-1ed1e352b30c
STATUS:CONFIRMED
LAST-MODIFIED:20180419T115747Z
DESCRIPTION:3ème ligue Hommes Gr. 1 Phase B\nBegegnungs-Nr: 29\nHeim: Silver Star III\nGast: Onex II\n\nAdresse: Rue de Vermont 33\, 1202 Genève\n
LOCATION:Rue de Vermont 33\, 1202 Genève
CATEGORIES:Saison 2017/18
END:VEVENT
BEGIN:VEVENT
DTSTAMP:20260424T151022Z
DTSTART;TZID=Europe/Berlin:20180321T194500
DTEND;TZID=Europe/Berlin:20180321T224500
SUMMARY:Ligue 3 Gr.1\, Ph.B Silver Star III vs ZZ-Lancy XI (24)
UID:76366e6d-0c29-4ee4-b3ba-4cb8a9339b6c
STATUS:CONFIRMED
LAST-MODIFIED:20180322T181549Z
DESCRIPTION:3ème ligue Hommes Gr. 1 Phase B\nBegegnungs-Nr: 24\nHeim: Silver Star III\nGast: ZZ-Lancy XI\n\nAdresse: Rue de Vermont 33\, 1202 Genève\n
LOCATION:Rue de Vermont 33\, 1202 Genève
CATEGORIES:Saison 2017/18
END:VEVENT
BEGIN:VEVENT
DTSTAMP:20260424T151022Z
DTSTART;TZID=Europe/Berlin:20171011T194500
DTEND;TZID=Europe/Berlin:20171011T224500
SUMMARY:Ligue 3 Gr.1\, Ph.A Silver Star III vs Vernier III (10)
UID:6010be51-5a68-5356-e053-1fc7a80a74f7
STATUS:CONFIRMED
LAST-MODIFIED:20171012T112823Z
DESCRIPTION:3ème ligue Hommes Gr. 1 Phase A\nBegegnungs-Nr: 10\nHeim: Silver Star III\nGast: Vernier III\n\nAdresse: Rue de Vermont 33\, 1202 Genève\n
LOCATION:Rue de Vermont 33\, 1202 Genève
CATEGORIES:Saison 2017/18
END:VEVENT
BEGIN:VEVENT
DTSTAMP:20260424T151022Z
DTSTART;TZID=Europe/Berlin:20180307T194500
DTEND;TZID=Europe/Berlin:20180307T224500
SUMMARY:Ligue 3 Gr.1\, Ph.B Silver Star III vs Puplinge II (16)
UID:bff29140-d80c-4900-8c5d-723c98c07eda
STATUS:CONFIRMED
LAST-MODIFIED:20180308T155036Z
DESCRIPTION:3ème ligue Hommes Gr. 1 Phase B\nBegegnungs-Nr: 16\nHeim: Silver Star III\nGast: Puplinge II\n\nAdresse: Rue de Vermont 33\, 1202 Genève\n
LOCATION:Rue de Vermont 33\, 1202 Genève
CATEGORIES:Saison 2017/18
END:VEVENT
BEGIN:VEVENT
DTSTAMP:20260424T151022Z
DTSTART;TZID=Europe/Berlin:20170920T194500
DTEND;TZID=Europe/Berlin:20170920T224500
SUMMARY:Ligue 3 Gr.1\, Ph.A UGS-Chênois X vs Silver Star III (5)
UID:6010be51-5455-5356-e053-1fc7a80a74f7
STATUS:CONFIRMED
LAST-MODIFIED:20170921T130249Z
DESCRIPTION:3ème ligue Hommes Gr. 1 Phase A\nBegegnungs-Nr: 5\nHeim: UGS-Chênois X\nGast: Silver Star III\n
LOCATION:
CATEGORIES:Saison 2017/18
END:VEVENT
BEGIN:VEVENT
DTSTAMP:20260424T151022Z
DTSTART;TZID=Europe/Berlin:20171206T194500
DTEND;TZID=Europe/Berlin:20171206T224500
SUMMARY:Ligue 3 Gr.1\, Ph.A Vernier III vs Silver Star III (26)
UID:6010be51-5580-5356-e053-1fc7a80a74f7
STATUS:CONFIRMED
LAST-MODIFIED:20171207T133704Z
DESCRIPTION:3ème ligue Hommes Gr. 1 Phase A\nBegegnungs-Nr: 26\nHeim: Vernier III\nGast: Silver Star III\n\nAdresse: Rue du Village 6\, 1214 Vernier\n
LOCATION:Rue du Village 6\, 1214 Vernier
CATEGORIES:Saison 2017/18
END:VEVENT
BEGIN:VEVENT
DTSTAMP:20260424T151022Z
DTSTART;TZID=Europe/Berlin:20170927T194500
DTEND;TZID=Europe/Berlin:20170927T224500
SUMMARY:Ligue 3 Gr.1\, Ph.A Rapid-Genève IV vs Silver Star III (7)
UID:6010be51-57fa-5356-e053-1fc7a80a74f7
STATUS:CONFIRMED
LAST-MODIFIED:20170928T113019Z
DESCRIPTION:3ème ligue Hommes Gr. 1 Phase A\nBegegnungs-Nr: 7\nHeim: Rapid-Genève IV\nGast: Silver Star III\n
LOCATION:
CATEGORIES:Saison 2017/18
END:VEVENT
BEGIN:VEVENT
DTSTAMP:20260424T151022Z
DTSTART;TZID=Europe/Berlin:20180228T194500
DTEND;TZID=Europe/Berlin:20180228T224500
SUMMARY:Ligue 3 Gr.1\, Ph.B Onex II vs Silver Star III (14)
UID:f1dfe51d-e9fd-44d6-aa3b-0f4f9432eb5d
STATUS:CONFIRMED
LAST-MODIFIED:20180301T135703Z
DESCRIPTION:3ème ligue Hommes Gr. 1 Phase B\nBegegnungs-Nr: 14\nHeim: Onex II\nGast: Silver Star III\n
LOCATION:
CATEGORIES:Saison 2017/18
END:VEVENT
BEGIN:VEVENT
DTSTAMP:20260424T151022Z
DTSTART;TZID=Europe/Berlin:20180131T201500
DTEND;TZID=Europe/Berlin:20180131T231500
SUMMARY:Ligue 3 Gr.1\, Ph.B ZZ-Lancy XI vs Silver Star III (9)
UID:6fe9321d-541c-4dd6-8179-f9853ffbb31b
STATUS:CONFIRMED
LAST-MODIFIED:20180201T132308Z
DESCRIPTION:3ème ligue Hommes Gr. 1 Phase B\nBegegnungs-Nr: 9\nHeim: ZZ-Lancy XI\nGast: Silver Star III\n\nAdresse: Avenue du Curé-Baud 40\, 1212 Grand-Lancy\n
LOCATION:Avenue du Curé-Baud 40\, 1212 Grand-Lancy
CATEGORIES:Saison 2017/18
END:VEVENT
BEGIN:VEVENT
DTSTAMP:20260424T151022Z
DTSTART;TZID=Europe/Berlin:20180110T194500
DTEND;TZID=Europe/Berlin:20180110T224500
SUMMARY:Ligue 3 Gr.1\, Ph.B Puplinge II vs Silver Star III (1)
UID:4d182df4-fbb9-4751-aea7-83c21da11100
STATUS:CONFIRMED
LAST-MODIFIED:20180111T161510Z
DESCRIPTION:3ème ligue Hommes Gr. 1 Phase B\nBegegnungs-Nr: 1\nHeim: Puplinge II\nGast: Silver Star III\n
LOCATION:
CATEGORIES:Saison 2017/18
END:VEVENT
BEGIN:VEVENT
DTSTAMP:20260424T151022Z
DTSTART;TZID=Europe/Berlin:20180411T194500
DTEND;TZID=Europe/Berlin:20180411T224500
SUMMARY:Ligue 3 Gr.1\, Ph.B Meyrin III vs Silver Star III (26)
UID:c7896dd4-f5d6-4673-a31f-161cfee45d66
STATUS:CONFIRMED
LAST-MODIFIED:20180412T190606Z
DESCRIPTION:3ème ligue Hommes Gr. 1 Phase B\nBegegnungs-Nr: 26\nHeim: Meyrin III\nGast: Silver Star III\n
LOCATION:
CATEGORIES:Saison 2017/18
END:VEVENT
BEGIN:VEVENT
DTSTAMP:20260424T151022Z
DTSTART;TZID=Europe/Berlin:20180530T194500
DTEND;TZID=Europe/Berlin:20180530T224500
SUMMARY:Ligue 3 Titre finale\, Ph.B Mandement V vs Silver Star III (1)
UID:05364ff3-ad8c-49c7-a12f-f018829c264e
STATUS:CONFIRMED
LAST-MODIFIED:20180531T143224Z
DESCRIPTION:3ème ligue Hommes Titre finale Phase B\nBegegnungs-Nr: 1\nHeim: Mandement V\nGast: Silver Star III\n
LOCATION:
CATEGORIES:Saison 2017/18
END:VEVENT
BEGIN:VEVENT
DTSTAMP:20260424T151022Z
DTSTART;TZID=Europe/Berlin:20171108T194500
DTEND;TZID=Europe/Berlin:20171108T224500
SUMMARY:Ligue 3 Gr.1\, Ph.A Migros vs Silver Star III (18)
UID:6010be51-5bd8-5356-e053-1fc7a80a74f7
STATUS:CONFIRMED
LAST-MODIFIED:20171109T123042Z
DESCRIPTION:3ème ligue Hommes Gr. 1 Phase A\nBegegnungs-Nr: 18\nHeim: Migros\nGast: Silver Star III\n
LOCATION:
CATEGORIES:Saison 2017/18
END:VEVENT
BEGIN:VEVENT
DTSTAMP:20260424T151022Z
DTSTART;TZID=Europe/Berlin:20171213T194500
DTEND;TZID=Europe/Berlin:20171213T224500
SUMMARY:Ligue 3 Gr.1\, Ph.A Veyrier VII vs Silver Star III (29)
UID:6010be51-557e-5356-e053-1fc7a80a74f7
STATUS:CONFIRMED
LAST-MODIFIED:20171214T142728Z
DESCRIPTION:3ème ligue Hommes Gr. 1 Phase A\nBegegnungs-Nr: 29\nHeim: Veyrier VII\nGast: Silver Star III\n\nAdresse: -\, 1255 Veyrier\n
LOCATION:-\, 1255 Veyrier
CATEGORIES:Saison 2017/18
END:VEVENT
BEGIN:VEVENT
DTSTAMP:20260424T151022Z
DTSTART;TZID=Europe/Berlin:20180314T194500
DTEND;TZID=Europe/Berlin:20180314T224500
SUMMARY:Ligue 3 Gr.1\, Ph.B Carouge VI vs Silver Star III (20)
UID:77fa7b15-eb7f-439f-9b68-d1b452c0cb0d
STATUS:CONFIRMED
LAST-MODIFIED:20180315T125326Z
DESCRIPTION:3ème ligue Hommes Gr. 1 Phase B\nBegegnungs-Nr: 20\nHeim: Carouge VI\nGast: Silver Star III\n
LOCATION:
CATEGORIES:Saison 2017/18
END:VEVENT
BEGIN:VEVENT
DTSTAMP:20260424T151022Z
DTSTART;TZID=Europe/Berlin:20180523T194500
DTEND;TZID=Europe/Berlin:20180523T224500
SUMMARY:Ligue 3 Titre demi\, Ph.B Mandement III vs Silver Star III (2)
UID:9abf9f06-49e7-4e6b-acd1-af15100c68a5
STATUS:CONFIRMED
LAST-MODIFIED:20180524T113922Z
DESCRIPTION:3ème ligue Hommes Titre demi Phase B\nBegegnungs-Nr: 2\nHeim: Mandement III\nGast: Silver Star III\n
LOCATION:
CATEGORIES:Saison 2017/18
END:VEVENT
BEGIN:VEVENT
DTSTAMP:20260424T151022Z
DTSTART;TZID=Europe/Berlin:20180613T194500
DTEND;TZID=Europe/Berlin:20180613T224500
SUMMARY:Ligue 3 Titre Vernier III vs Silver Star III (1)
UID:1f0cfe61-ef40-4769-9aca-1a552a2c36ab
STATUS:CONFIRMED
LAST-MODIFIED:20180613T204455Z
DESCRIPTION:3ème ligue Hommes Titre 2017 / 2018\nBegegnungs-Nr: 1\nHeim: Vernier III\nGast: Silver Star III\n
LOCATION:
CATEGORIES:Saison 2017/18
END:VEVENT
END:VCALENDAR
