BEGIN:VCALENDAR
PRODID:-//nuDatenautomaten//framework iCal4j //DE
VERSION:2.0
CALSCALE:GREGORIAN
BEGIN:VTIMEZONE
TZID:Europe/Berlin
LAST-MODIFIED:20260306T231828Z
TZURL:https://www.tzurl.org/zoneinfo/Europe/Berlin
X-LIC-LOCATION:Europe/Berlin
X-PROLEPTIC-TZNAME:LMT
BEGIN:STANDARD
TZNAME:CET
TZOFFSETFROM:+005328
TZOFFSETTO:+0100
DTSTART:18930401T000000
END:STANDARD
BEGIN:DAYLIGHT
TZNAME:CEST
TZOFFSETFROM:+0100
TZOFFSETTO:+0200
DTSTART:19160430T230000
RDATE:19400401T020000
RDATE:19430329T020000
RDATE:19460414T020000
RDATE:19470406T030000
RDATE:19480418T020000
RDATE:19490410T020000
RDATE:19800406T020000
END:DAYLIGHT
BEGIN:STANDARD
TZNAME:CET
TZOFFSETFROM:+0200
TZOFFSETTO:+0100
DTSTART:19161001T010000
RDATE:19421102T030000
RDATE:19431004T030000
RDATE:19441002T030000
RDATE:19451118T030000
RDATE:19461007T030000
END:STANDARD
BEGIN:DAYLIGHT
TZNAME:CEST
TZOFFSETFROM:+0100
TZOFFSETTO:+0200
DTSTART:19170416T020000
RRULE:FREQ=YEARLY;UNTIL=19180415T010000Z;BYMONTH=4;BYDAY=3MO
END:DAYLIGHT
BEGIN:STANDARD
TZNAME:CET
TZOFFSETFROM:+0200
TZOFFSETTO:+0100
DTSTART:19170917T030000
RRULE:FREQ=YEARLY;UNTIL=19180916T010000Z;BYMONTH=9;BYDAY=3MO
END:STANDARD
BEGIN:DAYLIGHT
TZNAME:CEST
TZOFFSETFROM:+0100
TZOFFSETTO:+0200
DTSTART:19440403T020000
RRULE:FREQ=YEARLY;UNTIL=19450402T010000Z;BYMONTH=4;BYDAY=1MO
END:DAYLIGHT
BEGIN:DAYLIGHT
TZNAME:CEMT
TZOFFSETFROM:+0200
TZOFFSETTO:+0300
DTSTART:19450524T020000
RDATE:19470511T030000
END:DAYLIGHT
BEGIN:DAYLIGHT
TZNAME:CEST
TZOFFSETFROM:+0300
TZOFFSETTO:+0200
DTSTART:19450924T030000
RDATE:19470629T030000
END:DAYLIGHT
BEGIN:STANDARD
TZNAME:CET
TZOFFSETFROM:+0100
TZOFFSETTO:+0100
DTSTART:19460101T000000
RDATE:19800101T000000
END:STANDARD
BEGIN:STANDARD
TZNAME:CET
TZOFFSETFROM:+0200
TZOFFSETTO:+0100
DTSTART:19471005T030000
RRULE:FREQ=YEARLY;UNTIL=19491002T010000Z;BYMONTH=10;BYDAY=1SU
END:STANDARD
BEGIN:STANDARD
TZNAME:CET
TZOFFSETFROM:+0200
TZOFFSETTO:+0100
DTSTART:19800928T030000
RRULE:FREQ=YEARLY;UNTIL=19950924T010000Z;BYMONTH=9;BYDAY=-1SU
END:STANDARD
BEGIN:DAYLIGHT
TZNAME:CEST
TZOFFSETFROM:+0100
TZOFFSETTO:+0200
DTSTART:19810329T020000
RRULE:FREQ=YEARLY;BYMONTH=3;BYDAY=-1SU
END:DAYLIGHT
BEGIN:STANDARD
TZNAME:CET
TZOFFSETFROM:+0200
TZOFFSETTO:+0100
DTSTART:19961027T030000
RRULE:FREQ=YEARLY;BYMONTH=10;BYDAY=-1SU
END:STANDARD
END:VTIMEZONE
BEGIN:VEVENT
DTSTAMP:20260419T213611Z
DTSTART;TZID=Europe/Berlin:20170831T191500
DTEND;TZID=Europe/Berlin:20170831T221500
SUMMARY:ME L7 Gr 3\, Tours 1&2 Fribourg IX vs Fribourg X (0)
UID:6010be51-5510-5356-e053-1fc7a80a74f7
STATUS:CONFIRMED
LAST-MODIFIED:20170911T150954Z
DESCRIPTION:7ème ligue Hommes Groupe 3\, Tours 1&2\nBegegnungs-Nr: 0\nHeim: Fribourg IX\nGast: Fribourg X\n\nAdresse: Avenue Général Guisan 61\, 1700 Fribourg\n
LOCATION:Avenue Général Guisan 61\, 1700 Fribourg
CATEGORIES:Saison 2017/18
END:VEVENT
BEGIN:VEVENT
DTSTAMP:20260419T213611Z
DTSTART;TZID=Europe/Berlin:20170914T191500
DTEND;TZID=Europe/Berlin:20170914T221500
SUMMARY:ME L7 Gr 3\, Tours 1&2 Fribourg IX vs Marly III (0)
UID:6010be51-5516-5356-e053-1fc7a80a74f7
STATUS:CONFIRMED
LAST-MODIFIED:20170920T105915Z
DESCRIPTION:7ème ligue Hommes Groupe 3\, Tours 1&2\nBegegnungs-Nr: 0\nHeim: Fribourg IX\nGast: Marly III\n\nAdresse: Avenue Général Guisan 61\, 1700 Fribourg\n
LOCATION:Avenue Général Guisan 61\, 1700 Fribourg
CATEGORIES:Saison 2017/18
END:VEVENT
BEGIN:VEVENT
DTSTAMP:20260419T213611Z
DTSTART;TZID=Europe/Berlin:20171005T191500
DTEND;TZID=Europe/Berlin:20171005T221500
SUMMARY:ME L7 Gr 3\, Tours 1&2 Fribourg IX vs Domdidier III (0)
UID:6010be51-551a-5356-e053-1fc7a80a74f7
STATUS:CONFIRMED
LAST-MODIFIED:20171011T094400Z
DESCRIPTION:7ème ligue Hommes Groupe 3\, Tours 1&2\nBegegnungs-Nr: 0\nHeim: Fribourg IX\nGast: Domdidier III\n\nAdresse: Avenue Général Guisan 61\, 1700 Fribourg\n
LOCATION:Avenue Général Guisan 61\, 1700 Fribourg
CATEGORIES:Saison 2017/18
END:VEVENT
BEGIN:VEVENT
DTSTAMP:20260419T213611Z
DTSTART;TZID=Europe/Berlin:20171026T191500
DTEND;TZID=Europe/Berlin:20171026T221500
SUMMARY:ME L7 Gr 3\, Tours 1&2 Fribourg IX vs Ependes III (0)
UID:6010be51-554a-5356-e053-1fc7a80a74f7
STATUS:CONFIRMED
LAST-MODIFIED:20171101T140751Z
DESCRIPTION:7ème ligue Hommes Groupe 3\, Tours 1&2\nBegegnungs-Nr: 0\nHeim: Fribourg IX\nGast: Ependes III\n\nAdresse: Avenue Général Guisan 61\, 1700 Fribourg\n
LOCATION:Avenue Général Guisan 61\, 1700 Fribourg
CATEGORIES:Saison 2017/18
END:VEVENT
BEGIN:VEVENT
DTSTAMP:20260419T213611Z
DTSTART;TZID=Europe/Berlin:20171116T191500
DTEND;TZID=Europe/Berlin:20171116T221500
SUMMARY:ME L7 Gr 3\, Tours 1&2 Fribourg IX vs Matran IV (0)
UID:6010be51-554f-5356-e053-1fc7a80a74f7
STATUS:CONFIRMED
LAST-MODIFIED:20171122T110219Z
DESCRIPTION:7ème ligue Hommes Groupe 3\, Tours 1&2\nBegegnungs-Nr: 0\nHeim: Fribourg IX\nGast: Matran IV\n\nAdresse: Avenue Général Guisan 61\, 1700 Fribourg\n
LOCATION:Avenue Général Guisan 61\, 1700 Fribourg
CATEGORIES:Saison 2017/18
END:VEVENT
BEGIN:VEVENT
DTSTAMP:20260419T213611Z
DTSTART;TZID=Europe/Berlin:20180215T191500
DTEND;TZID=Europe/Berlin:20180215T221500
SUMMARY:ME L7 Gr 3\, Tours 3&4 Fribourg IX vs Château d'Oex II (0)
UID:30431d31-11a7-4dab-b391-2c602aa02cfa
STATUS:CONFIRMED
LAST-MODIFIED:20180221T135123Z
DESCRIPTION:7ème ligue Hommes Groupe 3\, Tours 3&4\nBegegnungs-Nr: 0\nHeim: Fribourg IX\nGast: Château d'Oex II\n\nAdresse: Avenue Général Guisan 61\, 1700 Fribourg\n
LOCATION:Avenue Général Guisan 61\, 1700 Fribourg
CATEGORIES:Saison 2017/18
END:VEVENT
BEGIN:VEVENT
DTSTAMP:20260419T213611Z
DTSTART;TZID=Europe/Berlin:20180329T191500
DTEND;TZID=Europe/Berlin:20180329T221500
SUMMARY:ME L7 Gr 3\, Tours 3&4 Fribourg IX vs Matran IV (0)
UID:27f11040-6c2d-4d7b-9e79-8b52dc992fb3
STATUS:CONFIRMED
LAST-MODIFIED:20180404T083528Z
DESCRIPTION:7ème ligue Hommes Groupe 3\, Tours 3&4\nBegegnungs-Nr: 0\nHeim: Fribourg IX\nGast: Matran IV\n\nAdresse: Avenue Général Guisan 61\, 1700 Fribourg\n
LOCATION:Avenue Général Guisan 61\, 1700 Fribourg
CATEGORIES:Saison 2017/18
END:VEVENT
BEGIN:VEVENT
DTSTAMP:20260419T213611Z
DTSTART;TZID=Europe/Berlin:20180201T191500
DTEND;TZID=Europe/Berlin:20180201T221500
SUMMARY:ME L7 Gr 3\, Tours 3&4 Fribourg IX vs Matran III (0)
UID:6c8735c4-34bb-4377-bb53-da25d2eba527
STATUS:CONFIRMED
LAST-MODIFIED:20180206T164317Z
DESCRIPTION:7ème ligue Hommes Groupe 3\, Tours 3&4\nBegegnungs-Nr: 0\nHeim: Fribourg IX\nGast: Matran III\n\nAdresse: Avenue Général Guisan 61\, 1700 Fribourg\n
LOCATION:Avenue Général Guisan 61\, 1700 Fribourg
CATEGORIES:Saison 2017/18
END:VEVENT
BEGIN:VEVENT
DTSTAMP:20260419T213611Z
DTSTART;TZID=Europe/Berlin:20180308T191500
DTEND;TZID=Europe/Berlin:20180308T221500
SUMMARY:ME L7 Gr 3\, Tours 3&4 Fribourg IX vs Fribourg X (0)
UID:37c177da-e5a6-4192-8a78-384552b952ed
STATUS:CONFIRMED
LAST-MODIFIED:20180315T181910Z
DESCRIPTION:7ème ligue Hommes Groupe 3\, Tours 3&4\nBegegnungs-Nr: 0\nHeim: Fribourg IX\nGast: Fribourg X\n\nAdresse: Avenue Général Guisan 61\, 1700 Fribourg\n
LOCATION:Avenue Général Guisan 61\, 1700 Fribourg
CATEGORIES:Saison 2017/18
END:VEVENT
BEGIN:VEVENT
DTSTAMP:20260419T213611Z
DTSTART;TZID=Europe/Berlin:20171031T193000
DTEND;TZID=Europe/Berlin:20171031T223000
SUMMARY:ME L7 Gr 3\, Tours 1&2 Marly III vs Fribourg IX (0)
UID:6010be51-554d-5356-e053-1fc7a80a74f7
STATUS:CONFIRMED
LAST-MODIFIED:20171106T095008Z
DESCRIPTION:7ème ligue Hommes Groupe 3\, Tours 1&2\nBegegnungs-Nr: 0\nHeim: Marly III\nGast: Fribourg IX\n\nAdresse: Grand Pré - Rte des Ecoles\, 1723 Marly\n
LOCATION:Grand Pré - Rte des Ecoles\, 1723 Marly
CATEGORIES:Saison 2017/18
END:VEVENT
BEGIN:VEVENT
DTSTAMP:20260419T213611Z
DTSTART;TZID=Europe/Berlin:20171201T191500
DTEND;TZID=Europe/Berlin:20171201T221500
SUMMARY:ME L7 Gr 3\, Tours 1&2 Domdidier III vs Fribourg IX (0)
UID:6010be51-5552-5356-e053-1fc7a80a74f7
STATUS:CONFIRMED
LAST-MODIFIED:20171207T101125Z
DESCRIPTION:7ème ligue Hommes Groupe 3\, Tours 1&2\nBegegnungs-Nr: 0\nHeim: Domdidier III\nGast: Fribourg IX\n\nAdresse: Pré-de-la-Cour\, 1564 Domdidier\n
LOCATION:Pré-de-la-Cour\, 1564 Domdidier
CATEGORIES:Saison 2017/18
END:VEVENT
BEGIN:VEVENT
DTSTAMP:20260419T213611Z
DTSTART;TZID=Europe/Berlin:20171020T191500
DTEND;TZID=Europe/Berlin:20171020T221500
SUMMARY:ME L7 Gr 3\, Tours 1&2 Fribourg X vs Fribourg IX (0)
UID:6010be51-57ca-5356-e053-1fc7a80a74f7
STATUS:CONFIRMED
LAST-MODIFIED:20171027T152409Z
DESCRIPTION:7ème ligue Hommes Groupe 3\, Tours 1&2\nBegegnungs-Nr: 0\nHeim: Fribourg X\nGast: Fribourg IX\n\nAdresse: Avenue Général Guisan 59\, 1700 Fribourg\n
LOCATION:Avenue Général Guisan 59\, 1700 Fribourg
CATEGORIES:Saison 2017/18
END:VEVENT
BEGIN:VEVENT
DTSTAMP:20260419T213611Z
DTSTART;TZID=Europe/Berlin:20170906T200000
DTEND;TZID=Europe/Berlin:20170906T230000
SUMMARY:ME L7 Gr 3\, Tours 1&2 Ependes III vs Fribourg IX (0)
UID:6010be51-5513-5356-e053-1fc7a80a74f7
STATUS:CONFIRMED
LAST-MODIFIED:20170913T153550Z
DESCRIPTION:7ème ligue Hommes Groupe 3\, Tours 1&2\nBegegnungs-Nr: 0\nHeim: Ependes III\nGast: Fribourg IX\n\nAdresse: -\, 1731 Ependes FR\n
LOCATION:-\, 1731 Ependes FR
CATEGORIES:Saison 2017/18
END:VEVENT
BEGIN:VEVENT
DTSTAMP:20260419T213611Z
DTSTART;TZID=Europe/Berlin:20170925T200000
DTEND;TZID=Europe/Berlin:20170925T230000
SUMMARY:ME L7 Gr 3\, Tours 1&2 Matran IV vs Fribourg IX (0)
UID:6010be51-5940-5356-e053-1fc7a80a74f7
STATUS:CONFIRMED
LAST-MODIFIED:20171002T091023Z
DESCRIPTION:7ème ligue Hommes Groupe 3\, Tours 1&2\nBegegnungs-Nr: 0\nHeim: Matran IV\nGast: Fribourg IX\n\nAdresse: Route de l'Ecole\, 1753 Matran\n
LOCATION:Route de l'Ecole\, 1753 Matran
CATEGORIES:Saison 2017/18
END:VEVENT
BEGIN:VEVENT
DTSTAMP:20260419T213611Z
DTSTART;TZID=Europe/Berlin:20180416T200000
DTEND;TZID=Europe/Berlin:20180416T230000
SUMMARY:ME L7 Gr 3\, Tours 3&4 Matran III vs Fribourg IX (0)
UID:16260021-c924-4dc7-8ca8-0b5b5c2d3a22
STATUS:CONFIRMED
LAST-MODIFIED:20180423T153351Z
DESCRIPTION:7ème ligue Hommes Groupe 3\, Tours 3&4\nBegegnungs-Nr: 0\nHeim: Matran III\nGast: Fribourg IX\n\nAdresse: Route de l'Ecole\, 1753 Matran\n
LOCATION:Route de l'Ecole\, 1753 Matran
CATEGORIES:Saison 2017/18
END:VEVENT
BEGIN:VEVENT
DTSTAMP:20260419T213611Z
DTSTART;TZID=Europe/Berlin:20180426T201500
DTEND;TZID=Europe/Berlin:20180426T231500
SUMMARY:ME L7 Gr 3\, Tours 3&4 Château d'Oex II vs Fribourg IX (0)
UID:a9a134cf-6a52-425f-aac8-582997b75d38
STATUS:CONFIRMED
LAST-MODIFIED:20180509T143348Z
DESCRIPTION:7ème ligue Hommes Groupe 3\, Tours 3&4\nBegegnungs-Nr: 0\nHeim: Château d'Oex II\nGast: Fribourg IX\n\nAdresse: rte du Périsset 7\, 1660 Château d'Oex\n
LOCATION:rte du Périsset 7\, 1660 Château d'Oex
CATEGORIES:Saison 2017/18
END:VEVENT
BEGIN:VEVENT
DTSTAMP:20260419T213611Z
DTSTART;TZID=Europe/Berlin:20180119T191500
DTEND;TZID=Europe/Berlin:20180119T221500
SUMMARY:ME L7 Gr 3\, Tours 3&4 Fribourg X vs Fribourg IX (0)
UID:0e69aaa8-ed91-44a5-a2fb-8ff892b58955
STATUS:CONFIRMED
LAST-MODIFIED:20180126T143241Z
DESCRIPTION:7ème ligue Hommes Groupe 3\, Tours 3&4\nBegegnungs-Nr: 0\nHeim: Fribourg X\nGast: Fribourg IX\n\nAdresse: Avenue Général Guisan 59\, 1700 Fribourg\n
LOCATION:Avenue Général Guisan 59\, 1700 Fribourg
CATEGORIES:Saison 2017/18
END:VEVENT
BEGIN:VEVENT
DTSTAMP:20260419T213611Z
DTSTART;TZID=Europe/Berlin:20180326T200000
DTEND;TZID=Europe/Berlin:20180326T230000
SUMMARY:ME L7 Gr 3\, Tours 3&4 Matran IV vs Fribourg IX (0)
UID:5dfa3d4d-f90d-4b62-b193-3e0661c64cd1
STATUS:CONFIRMED
LAST-MODIFIED:20180402T094615Z
DESCRIPTION:7ème ligue Hommes Groupe 3\, Tours 3&4\nBegegnungs-Nr: 0\nHeim: Matran IV\nGast: Fribourg IX\n\nAdresse: Route de l'Ecole\, 1753 Matran\n
LOCATION:Route de l'Ecole\, 1753 Matran
CATEGORIES:Saison 2017/18
END:VEVENT
END:VCALENDAR
