BEGIN:VCALENDAR
PRODID:-//nuDatenautomaten//framework iCal4j //DE
VERSION:2.0
CALSCALE:GREGORIAN
BEGIN:VTIMEZONE
TZID:Europe/Berlin
LAST-MODIFIED:20260306T231828Z
TZURL:https://www.tzurl.org/zoneinfo/Europe/Berlin
X-LIC-LOCATION:Europe/Berlin
X-PROLEPTIC-TZNAME:LMT
BEGIN:STANDARD
TZNAME:CET
TZOFFSETFROM:+005328
TZOFFSETTO:+0100
DTSTART:18930401T000000
END:STANDARD
BEGIN:DAYLIGHT
TZNAME:CEST
TZOFFSETFROM:+0100
TZOFFSETTO:+0200
DTSTART:19160430T230000
RDATE:19400401T020000
RDATE:19430329T020000
RDATE:19460414T020000
RDATE:19470406T030000
RDATE:19480418T020000
RDATE:19490410T020000
RDATE:19800406T020000
END:DAYLIGHT
BEGIN:STANDARD
TZNAME:CET
TZOFFSETFROM:+0200
TZOFFSETTO:+0100
DTSTART:19161001T010000
RDATE:19421102T030000
RDATE:19431004T030000
RDATE:19441002T030000
RDATE:19451118T030000
RDATE:19461007T030000
END:STANDARD
BEGIN:DAYLIGHT
TZNAME:CEST
TZOFFSETFROM:+0100
TZOFFSETTO:+0200
DTSTART:19170416T020000
RRULE:FREQ=YEARLY;UNTIL=19180415T010000Z;BYMONTH=4;BYDAY=3MO
END:DAYLIGHT
BEGIN:STANDARD
TZNAME:CET
TZOFFSETFROM:+0200
TZOFFSETTO:+0100
DTSTART:19170917T030000
RRULE:FREQ=YEARLY;UNTIL=19180916T010000Z;BYMONTH=9;BYDAY=3MO
END:STANDARD
BEGIN:DAYLIGHT
TZNAME:CEST
TZOFFSETFROM:+0100
TZOFFSETTO:+0200
DTSTART:19440403T020000
RRULE:FREQ=YEARLY;UNTIL=19450402T010000Z;BYMONTH=4;BYDAY=1MO
END:DAYLIGHT
BEGIN:DAYLIGHT
TZNAME:CEMT
TZOFFSETFROM:+0200
TZOFFSETTO:+0300
DTSTART:19450524T020000
RDATE:19470511T030000
END:DAYLIGHT
BEGIN:DAYLIGHT
TZNAME:CEST
TZOFFSETFROM:+0300
TZOFFSETTO:+0200
DTSTART:19450924T030000
RDATE:19470629T030000
END:DAYLIGHT
BEGIN:STANDARD
TZNAME:CET
TZOFFSETFROM:+0100
TZOFFSETTO:+0100
DTSTART:19460101T000000
RDATE:19800101T000000
END:STANDARD
BEGIN:STANDARD
TZNAME:CET
TZOFFSETFROM:+0200
TZOFFSETTO:+0100
DTSTART:19471005T030000
RRULE:FREQ=YEARLY;UNTIL=19491002T010000Z;BYMONTH=10;BYDAY=1SU
END:STANDARD
BEGIN:STANDARD
TZNAME:CET
TZOFFSETFROM:+0200
TZOFFSETTO:+0100
DTSTART:19800928T030000
RRULE:FREQ=YEARLY;UNTIL=19950924T010000Z;BYMONTH=9;BYDAY=-1SU
END:STANDARD
BEGIN:DAYLIGHT
TZNAME:CEST
TZOFFSETFROM:+0100
TZOFFSETTO:+0200
DTSTART:19810329T020000
RRULE:FREQ=YEARLY;BYMONTH=3;BYDAY=-1SU
END:DAYLIGHT
BEGIN:STANDARD
TZNAME:CET
TZOFFSETFROM:+0200
TZOFFSETTO:+0100
DTSTART:19961027T030000
RRULE:FREQ=YEARLY;BYMONTH=10;BYDAY=-1SU
END:STANDARD
END:VTIMEZONE
BEGIN:VEVENT
DTSTAMP:20260424T163321Z
DTSTART;TZID=Europe/Berlin:20171014T183000
DTEND;TZID=Europe/Berlin:20171014T213000
SUMMARY:HE NLC Gr.1 ZZ-Lancy III vs Collombey/Muraz (10)
UID:6010be51-37c9-5356-e053-1fc7a80a74f7
STATUS:CONFIRMED
LAST-MODIFIED:20171016T064823Z
DESCRIPTION:Herren Nationalliga C Gruppe 1\nBegegnungs-Nr: 10\nHeim: ZZ-Lancy III\nGast: Collombey/Muraz\n\nAdresse: Avenue du Curé-Baud 40\, 1212 Grand-Lancy\n
LOCATION:Avenue du Curé-Baud 40\, 1212 Grand-Lancy
CATEGORIES:Saison 2017/18
END:VEVENT
BEGIN:VEVENT
DTSTAMP:20260424T163321Z
DTSTART;TZID=Europe/Berlin:20170909T183000
DTEND;TZID=Europe/Berlin:20170909T213000
SUMMARY:HE NLC Gr.1 ZZ-Lancy III vs Silver Star (2)
UID:6010be51-3836-5356-e053-1fc7a80a74f7
STATUS:CONFIRMED
LAST-MODIFIED:20170911T082953Z
DESCRIPTION:Herren Nationalliga C Gruppe 1\nBegegnungs-Nr: 2\nHeim: ZZ-Lancy III\nGast: Silver Star\n\nAdresse: Avenue du Curé-Baud 40\, 1212 Grand-Lancy\n
LOCATION:Avenue du Curé-Baud 40\, 1212 Grand-Lancy
CATEGORIES:Saison 2017/18
END:VEVENT
BEGIN:VEVENT
DTSTAMP:20260424T163321Z
DTSTART;TZID=Europe/Berlin:20180217T110000
DTEND;TZID=Europe/Berlin:20180217T140000
SUMMARY:HE NLC Gr.1 ZZ-Lancy III vs Meyrin II (14)
UID:6010be51-463f-5356-e053-1fc7a80a74f7
STATUS:CONFIRMED
LAST-MODIFIED:20180219T074830Z
DESCRIPTION:Herren Nationalliga C Gruppe 1\nBegegnungs-Nr: 14\nHeim: ZZ-Lancy III\nGast: Meyrin II\n\nAdresse: Avenue du Curé-Baud 40\, 1212 Grand-Lancy\n
LOCATION:Avenue du Curé-Baud 40\, 1212 Grand-Lancy
CATEGORIES:Saison 2017/18
END:VEVENT
BEGIN:VEVENT
DTSTAMP:20260424T163321Z
DTSTART;TZID=Europe/Berlin:20180113T183000
DTEND;TZID=Europe/Berlin:20180113T213000
SUMMARY:HE NLC Gr.1 ZZ-Lancy III vs Carouge (6)
UID:6010be51-4647-5356-e053-1fc7a80a74f7
STATUS:CONFIRMED
LAST-MODIFIED:20180115T074410Z
DESCRIPTION:Herren Nationalliga C Gruppe 1\nBegegnungs-Nr: 6\nHeim: ZZ-Lancy III\nGast: Carouge\n\nAdresse: Avenue du Curé-Baud 40\, 1212 Grand-Lancy\n
LOCATION:Avenue du Curé-Baud 40\, 1212 Grand-Lancy
CATEGORIES:Saison 2017/18
END:VEVENT
BEGIN:VEVENT
DTSTAMP:20260424T163321Z
DTSTART;TZID=Europe/Berlin:20171104T193000
DTEND;TZID=Europe/Berlin:20171104T223000
SUMMARY:HE NLC Gr.1 ZZ-Lancy III vs Châtelaine (18)
UID:6010be51-56cf-5356-e053-1fc7a80a74f7
STATUS:CONFIRMED
LAST-MODIFIED:20171106T073054Z
DESCRIPTION:Herren Nationalliga C Gruppe 1\nBegegnungs-Nr: 18\nHeim: ZZ-Lancy III\nGast: Châtelaine\n\nAdresse: Avenue du Curé-Baud 40\, 1212 Grand-Lancy\n
LOCATION:Avenue du Curé-Baud 40\, 1212 Grand-Lancy
CATEGORIES:Saison 2017/18
END:VEVENT
BEGIN:VEVENT
DTSTAMP:20260424T163321Z
DTSTART;TZID=Europe/Berlin:20171111T143000
DTEND;TZID=Europe/Berlin:20171111T173000
SUMMARY:HE NLC Gr.1 ZZ-Lancy III vs UGS-Chênois III (22)
UID:6010be51-57cd-5356-e053-1fc7a80a74f7
STATUS:CONFIRMED
LAST-MODIFIED:20171115T070332Z
DESCRIPTION:Herren Nationalliga C Gruppe 1\nBegegnungs-Nr: 22\nHeim: ZZ-Lancy III\nGast: UGS-Chênois III\n\nAdresse: Avenue du Curé-Baud 40\, 1212 Grand-Lancy\n
LOCATION:Avenue du Curé-Baud 40\, 1212 Grand-Lancy
CATEGORIES:Saison 2017/18
END:VEVENT
BEGIN:VEVENT
DTSTAMP:20260424T163321Z
DTSTART;TZID=Europe/Berlin:20180324T150000
DTEND;TZID=Europe/Berlin:20180324T180000
SUMMARY:HE NLC Gr.1 ZZ-Lancy III vs Veyrier III (25)
UID:6010be51-4605-5356-e053-1fc7a80a74f7
STATUS:CONFIRMED
LAST-MODIFIED:20180326T071446Z
DESCRIPTION:Herren Nationalliga C Gruppe 1\nBegegnungs-Nr: 25\nHeim: ZZ-Lancy III\nGast: Veyrier III\n\nAdresse: Avenue du Curé-Baud 40\, 1212 Grand-Lancy\n
LOCATION:Avenue du Curé-Baud 40\, 1212 Grand-Lancy
CATEGORIES:Saison 2017/18
END:VEVENT
BEGIN:VEVENT
DTSTAMP:20260424T163321Z
DTSTART;TZID=Europe/Berlin:20170922T193000
DTEND;TZID=Europe/Berlin:20170922T223000
SUMMARY:HE NLC Gr.1 Carouge vs ZZ-Lancy III (6)
UID:6010be51-37ce-5356-e053-1fc7a80a74f7
STATUS:CONFIRMED
LAST-MODIFIED:20170925T070323Z
DESCRIPTION:Herren Nationalliga C Gruppe 1\nBegegnungs-Nr: 6\nHeim: Carouge\nGast: ZZ-Lancy III\nHalle: Ecole des Promenades\nAdresse: Route de Veyrier 44\, 1227 Carouge GE\n
LOCATION:Ecole des Promenades Route de Veyrier 44\, 1227 Carouge GE
CATEGORIES:Saison 2017/18
END:VEVENT
BEGIN:VEVENT
DTSTAMP:20260424T163321Z
DTSTART;TZID=Europe/Berlin:20171124T194500
DTEND;TZID=Europe/Berlin:20171124T224500
SUMMARY:HE NLC Gr.1 Veyrier III vs ZZ-Lancy III (25)
UID:6010be51-3b35-5356-e053-1fc7a80a74f7
STATUS:CONFIRMED
LAST-MODIFIED:20171127T065950Z
DESCRIPTION:Herren Nationalliga C Gruppe 1\nBegegnungs-Nr: 25\nHeim: Veyrier III\nGast: ZZ-Lancy III\n\nAdresse: -\, 1255 Veyrier\n
LOCATION:-\, 1255 Veyrier
CATEGORIES:Saison 2017/18
END:VEVENT
BEGIN:VEVENT
DTSTAMP:20260424T163321Z
DTSTART;TZID=Europe/Berlin:20171016T201500
DTEND;TZID=Europe/Berlin:20171016T231500
SUMMARY:HE NLC Gr.1 Meyrin II vs ZZ-Lancy III (14)
UID:6010be51-3b3d-5356-e053-1fc7a80a74f7
STATUS:CONFIRMED
LAST-MODIFIED:20171023T070624Z
DESCRIPTION:Herren Nationalliga C Gruppe 1\nBegegnungs-Nr: 14\nHeim: Meyrin II\nGast: ZZ-Lancy III\n\nAdresse: Rue De-Livron 2\, 1217 Meyrin\n
LOCATION:Rue De-Livron 2\, 1217 Meyrin
CATEGORIES:Saison 2017/18
END:VEVENT
BEGIN:VEVENT
DTSTAMP:20260424T163321Z
DTSTART;TZID=Europe/Berlin:20180310T143000
DTEND;TZID=Europe/Berlin:20180310T173000
SUMMARY:HE NLC Gr.1 UGS-Chênois III vs ZZ-Lancy III (22)
UID:6010be51-4608-5356-e053-1fc7a80a74f7
STATUS:CONFIRMED
LAST-MODIFIED:20180312T082622Z
DESCRIPTION:Herren Nationalliga C Gruppe 1\nBegegnungs-Nr: 22\nHeim: UGS-Chênois III\nGast: ZZ-Lancy III\n\nAdresse: Route de Frontenex 68\, 1208 Genève\n
LOCATION:Route de Frontenex 68\, 1208 Genève
CATEGORIES:Saison 2017/18
END:VEVENT
BEGIN:VEVENT
DTSTAMP:20260424T163321Z
DTSTART;TZID=Europe/Berlin:20180210T170000
DTEND;TZID=Europe/Berlin:20180210T200000
SUMMARY:HE NLC Gr.1 Collombey/Muraz vs ZZ-Lancy III (10)
UID:6010be51-4643-5356-e053-1fc7a80a74f7
STATUS:CONFIRMED
LAST-MODIFIED:20180212T081547Z
DESCRIPTION:Herren Nationalliga C Gruppe 1\nBegegnungs-Nr: 10\nHeim: Collombey/Muraz\nGast: ZZ-Lancy III\n\nAdresse: Route du Montagnier 81\, 1868 Collombey\n
LOCATION:Route du Montagnier 81\, 1868 Collombey
CATEGORIES:Saison 2017/18
END:VEVENT
BEGIN:VEVENT
DTSTAMP:20260424T163321Z
DTSTART;TZID=Europe/Berlin:20180222T200000
DTEND;TZID=Europe/Berlin:20180222T230000
SUMMARY:HE NLC Gr.1 Châtelaine vs ZZ-Lancy III (18)
UID:6010be51-500d-5356-e053-1fc7a80a74f7
STATUS:CONFIRMED
LAST-MODIFIED:20180226T092536Z
DESCRIPTION:Herren Nationalliga C Gruppe 1\nBegegnungs-Nr: 18\nHeim: Châtelaine\nGast: ZZ-Lancy III\n\nAdresse: Avenue de Pailly 15\, 1219 Châtelaine\n
LOCATION:Avenue de Pailly 15\, 1219 Châtelaine
CATEGORIES:Saison 2017/18
END:VEVENT
BEGIN:VEVENT
DTSTAMP:20260424T163321Z
DTSTART;TZID=Europe/Berlin:20171204T194500
DTEND;TZID=Europe/Berlin:20171204T224500
SUMMARY:HE NLC Gr.1 Silver Star vs ZZ-Lancy III (2)
UID:6010be51-5b20-5356-e053-1fc7a80a74f7
STATUS:CONFIRMED
LAST-MODIFIED:20171205T153440Z
DESCRIPTION:Herren Nationalliga C Gruppe 1\nBegegnungs-Nr: 2\nHeim: Silver Star\nGast: ZZ-Lancy III\n\nAdresse: Rue de Vermont 33\, 1202 Genève\n
LOCATION:Rue de Vermont 33\, 1202 Genève
CATEGORIES:Saison 2017/18
END:VEVENT
END:VCALENDAR
