BEGIN:VCALENDAR
PRODID:-//nuDatenautomaten//framework iCal4j //DE
VERSION:2.0
CALSCALE:GREGORIAN
BEGIN:VTIMEZONE
TZID:Europe/Berlin
LAST-MODIFIED:20260306T231828Z
TZURL:https://www.tzurl.org/zoneinfo/Europe/Berlin
X-LIC-LOCATION:Europe/Berlin
X-PROLEPTIC-TZNAME:LMT
BEGIN:STANDARD
TZNAME:CET
TZOFFSETFROM:+005328
TZOFFSETTO:+0100
DTSTART:18930401T000000
END:STANDARD
BEGIN:DAYLIGHT
TZNAME:CEST
TZOFFSETFROM:+0100
TZOFFSETTO:+0200
DTSTART:19160430T230000
RDATE:19400401T020000
RDATE:19430329T020000
RDATE:19460414T020000
RDATE:19470406T030000
RDATE:19480418T020000
RDATE:19490410T020000
RDATE:19800406T020000
END:DAYLIGHT
BEGIN:STANDARD
TZNAME:CET
TZOFFSETFROM:+0200
TZOFFSETTO:+0100
DTSTART:19161001T010000
RDATE:19421102T030000
RDATE:19431004T030000
RDATE:19441002T030000
RDATE:19451118T030000
RDATE:19461007T030000
END:STANDARD
BEGIN:DAYLIGHT
TZNAME:CEST
TZOFFSETFROM:+0100
TZOFFSETTO:+0200
DTSTART:19170416T020000
RRULE:FREQ=YEARLY;UNTIL=19180415T010000Z;BYMONTH=4;BYDAY=3MO
END:DAYLIGHT
BEGIN:STANDARD
TZNAME:CET
TZOFFSETFROM:+0200
TZOFFSETTO:+0100
DTSTART:19170917T030000
RRULE:FREQ=YEARLY;UNTIL=19180916T010000Z;BYMONTH=9;BYDAY=3MO
END:STANDARD
BEGIN:DAYLIGHT
TZNAME:CEST
TZOFFSETFROM:+0100
TZOFFSETTO:+0200
DTSTART:19440403T020000
RRULE:FREQ=YEARLY;UNTIL=19450402T010000Z;BYMONTH=4;BYDAY=1MO
END:DAYLIGHT
BEGIN:DAYLIGHT
TZNAME:CEMT
TZOFFSETFROM:+0200
TZOFFSETTO:+0300
DTSTART:19450524T020000
RDATE:19470511T030000
END:DAYLIGHT
BEGIN:DAYLIGHT
TZNAME:CEST
TZOFFSETFROM:+0300
TZOFFSETTO:+0200
DTSTART:19450924T030000
RDATE:19470629T030000
END:DAYLIGHT
BEGIN:STANDARD
TZNAME:CET
TZOFFSETFROM:+0100
TZOFFSETTO:+0100
DTSTART:19460101T000000
RDATE:19800101T000000
END:STANDARD
BEGIN:STANDARD
TZNAME:CET
TZOFFSETFROM:+0200
TZOFFSETTO:+0100
DTSTART:19471005T030000
RRULE:FREQ=YEARLY;UNTIL=19491002T010000Z;BYMONTH=10;BYDAY=1SU
END:STANDARD
BEGIN:STANDARD
TZNAME:CET
TZOFFSETFROM:+0200
TZOFFSETTO:+0100
DTSTART:19800928T030000
RRULE:FREQ=YEARLY;UNTIL=19950924T010000Z;BYMONTH=9;BYDAY=-1SU
END:STANDARD
BEGIN:DAYLIGHT
TZNAME:CEST
TZOFFSETFROM:+0100
TZOFFSETTO:+0200
DTSTART:19810329T020000
RRULE:FREQ=YEARLY;BYMONTH=3;BYDAY=-1SU
END:DAYLIGHT
BEGIN:STANDARD
TZNAME:CET
TZOFFSETFROM:+0200
TZOFFSETTO:+0100
DTSTART:19961027T030000
RRULE:FREQ=YEARLY;BYMONTH=10;BYDAY=-1SU
END:STANDARD
END:VTIMEZONE
BEGIN:VEVENT
DTSTAMP:20260424T152327Z
DTSTART;TZID=Europe/Berlin:20170905T211500
DTEND;TZID=Europe/Berlin:20170906T001500
SUMMARY:Ligue 2 G2 UGS-Chênois III vs Versoix II (1)
UID:6010be51-4797-5356-e053-1fc7a80a74f7
STATUS:CONFIRMED
LAST-MODIFIED:20170906T123503Z
DESCRIPTION:2ème ligue O40 2ème Groupe\nBegegnungs-Nr: 1\nHeim: UGS-Chênois III\nGast: Versoix II\n
LOCATION:
CATEGORIES:Saison 2017/18
END:VEVENT
BEGIN:VEVENT
DTSTAMP:20260424T152327Z
DTSTART;TZID=Europe/Berlin:20180220T194500
DTEND;TZID=Europe/Berlin:20180220T224500
SUMMARY:Ligue 2 G2 UGS-Chênois III vs ZZ-Lancy II (21)
UID:6010be51-4efa-5356-e053-1fc7a80a74f7
STATUS:CONFIRMED
LAST-MODIFIED:20180221T141704Z
DESCRIPTION:2ème ligue O40 2ème Groupe\nBegegnungs-Nr: 21\nHeim: UGS-Chênois III\nGast: ZZ-Lancy II\n
LOCATION:
CATEGORIES:Saison 2017/18
END:VEVENT
BEGIN:VEVENT
DTSTAMP:20260424T152327Z
DTSTART;TZID=Europe/Berlin:20171219T194500
DTEND;TZID=Europe/Berlin:20171219T224500
SUMMARY:Ligue 2 G2 UGS-Chênois III vs Châtelaine (13)
UID:6010be51-4ebd-5356-e053-1fc7a80a74f7
STATUS:CONFIRMED
LAST-MODIFIED:20171220T061657Z
DESCRIPTION:2ème ligue O40 2ème Groupe\nBegegnungs-Nr: 13\nHeim: UGS-Chênois III\nGast: Châtelaine\n
LOCATION:
CATEGORIES:Saison 2017/18
END:VEVENT
BEGIN:VEVENT
DTSTAMP:20260424T152327Z
DTSTART;TZID=Europe/Berlin:20171031T194500
DTEND;TZID=Europe/Berlin:20171031T224500
SUMMARY:Ligue 2 G2 UGS-Chênois III vs Carouge II (7)
UID:6010be51-4ec3-5356-e053-1fc7a80a74f7
STATUS:CONFIRMED
LAST-MODIFIED:20171101T135134Z
DESCRIPTION:2ème ligue O40 2ème Groupe\nBegegnungs-Nr: 7\nHeim: UGS-Chênois III\nGast: Carouge II\n
LOCATION:
CATEGORIES:Saison 2017/18
END:VEVENT
BEGIN:VEVENT
DTSTAMP:20260424T152327Z
DTSTART;TZID=Europe/Berlin:20180424T194500
DTEND;TZID=Europe/Berlin:20180424T224500
SUMMARY:Ligue 2 G2 UGS-Chênois III vs ZZ-Lancy (25)
UID:6010be51-4f04-5356-e053-1fc7a80a74f7
STATUS:CONFIRMED
LAST-MODIFIED:20180425T125927Z
DESCRIPTION:2ème ligue O40 2ème Groupe\nBegegnungs-Nr: 25\nHeim: UGS-Chênois III\nGast: ZZ-Lancy\n
LOCATION:
CATEGORIES:Saison 2017/18
END:VEVENT
BEGIN:VEVENT
DTSTAMP:20260424T152327Z
DTSTART;TZID=Europe/Berlin:20180123T194500
DTEND;TZID=Europe/Berlin:20180123T224500
SUMMARY:Ligue 2 G2 Versoix II vs UGS-Chênois III (16)
UID:6010be51-4eba-5356-e053-1fc7a80a74f7
STATUS:CONFIRMED
LAST-MODIFIED:20180124T110828Z
DESCRIPTION:2ème ligue O40 2ème Groupe\nBegegnungs-Nr: 16\nHeim: Versoix II\nGast: UGS-Chênois III\n
LOCATION:
CATEGORIES:Saison 2017/18
END:VEVENT
BEGIN:VEVENT
DTSTAMP:20260424T152327Z
DTSTART;TZID=Europe/Berlin:20171121T194500
DTEND;TZID=Europe/Berlin:20171121T224500
SUMMARY:Ligue 2 G2 ZZ-Lancy vs UGS-Chênois III (10)
UID:6010be51-4ec0-5356-e053-1fc7a80a74f7
STATUS:CONFIRMED
LAST-MODIFIED:20171122T201835Z
DESCRIPTION:2ème ligue O40 2ème Groupe\nBegegnungs-Nr: 10\nHeim: ZZ-Lancy\nGast: UGS-Chênois III\n
LOCATION:
CATEGORIES:Saison 2017/18
END:VEVENT
BEGIN:VEVENT
DTSTAMP:20260424T152327Z
DTSTART;TZID=Europe/Berlin:20180416T194500
DTEND;TZID=Europe/Berlin:20180416T224500
SUMMARY:Ligue 2 G2 Carouge II vs UGS-Chênois III (22)
UID:6010be51-4ef8-5356-e053-1fc7a80a74f7
STATUS:CONFIRMED
LAST-MODIFIED:20180417T071856Z
DESCRIPTION:2ème ligue O40 2ème Groupe\nBegegnungs-Nr: 22\nHeim: Carouge II\nGast: UGS-Chênois III\n
LOCATION:
CATEGORIES:Saison 2017/18
END:VEVENT
BEGIN:VEVENT
DTSTAMP:20260424T152327Z
DTSTART;TZID=Europe/Berlin:20171003T194500
DTEND;TZID=Europe/Berlin:20171003T224500
SUMMARY:Ligue 2 G2 ZZ-Lancy II vs UGS-Chênois III (6)
UID:6010be51-4ef9-5356-e053-1fc7a80a74f7
STATUS:CONFIRMED
LAST-MODIFIED:20171004T114927Z
DESCRIPTION:2ème ligue O40 2ème Groupe\nBegegnungs-Nr: 6\nHeim: ZZ-Lancy II\nGast: UGS-Chênois III\n
LOCATION:
CATEGORIES:Saison 2017/18
END:VEVENT
BEGIN:VEVENT
DTSTAMP:20260424T152327Z
DTSTART;TZID=Europe/Berlin:20180508T194500
DTEND;TZID=Europe/Berlin:20180508T224500
SUMMARY:Ligue 2 G2 Châtelaine vs UGS-Chênois III (28)
UID:6010be51-4f01-5356-e053-1fc7a80a74f7
STATUS:CONFIRMED
LAST-MODIFIED:20180508T192604Z
DESCRIPTION:2ème ligue O40 2ème Groupe\nBegegnungs-Nr: 28\nHeim: Châtelaine\nGast: UGS-Chênois III\n
LOCATION:
CATEGORIES:Saison 2017/18
END:VEVENT
END:VCALENDAR
