BEGIN:VCALENDAR
PRODID:-//nuDatenautomaten//framework iCal4j //DE
VERSION:2.0
CALSCALE:GREGORIAN
BEGIN:VTIMEZONE
TZID:Europe/Berlin
LAST-MODIFIED:20260306T231828Z
TZURL:https://www.tzurl.org/zoneinfo/Europe/Berlin
X-LIC-LOCATION:Europe/Berlin
X-PROLEPTIC-TZNAME:LMT
BEGIN:STANDARD
TZNAME:CET
TZOFFSETFROM:+005328
TZOFFSETTO:+0100
DTSTART:18930401T000000
END:STANDARD
BEGIN:DAYLIGHT
TZNAME:CEST
TZOFFSETFROM:+0100
TZOFFSETTO:+0200
DTSTART:19160430T230000
RDATE:19400401T020000
RDATE:19430329T020000
RDATE:19460414T020000
RDATE:19470406T030000
RDATE:19480418T020000
RDATE:19490410T020000
RDATE:19800406T020000
END:DAYLIGHT
BEGIN:STANDARD
TZNAME:CET
TZOFFSETFROM:+0200
TZOFFSETTO:+0100
DTSTART:19161001T010000
RDATE:19421102T030000
RDATE:19431004T030000
RDATE:19441002T030000
RDATE:19451118T030000
RDATE:19461007T030000
END:STANDARD
BEGIN:DAYLIGHT
TZNAME:CEST
TZOFFSETFROM:+0100
TZOFFSETTO:+0200
DTSTART:19170416T020000
RRULE:FREQ=YEARLY;UNTIL=19180415T010000Z;BYMONTH=4;BYDAY=3MO
END:DAYLIGHT
BEGIN:STANDARD
TZNAME:CET
TZOFFSETFROM:+0200
TZOFFSETTO:+0100
DTSTART:19170917T030000
RRULE:FREQ=YEARLY;UNTIL=19180916T010000Z;BYMONTH=9;BYDAY=3MO
END:STANDARD
BEGIN:DAYLIGHT
TZNAME:CEST
TZOFFSETFROM:+0100
TZOFFSETTO:+0200
DTSTART:19440403T020000
RRULE:FREQ=YEARLY;UNTIL=19450402T010000Z;BYMONTH=4;BYDAY=1MO
END:DAYLIGHT
BEGIN:DAYLIGHT
TZNAME:CEMT
TZOFFSETFROM:+0200
TZOFFSETTO:+0300
DTSTART:19450524T020000
RDATE:19470511T030000
END:DAYLIGHT
BEGIN:DAYLIGHT
TZNAME:CEST
TZOFFSETFROM:+0300
TZOFFSETTO:+0200
DTSTART:19450924T030000
RDATE:19470629T030000
END:DAYLIGHT
BEGIN:STANDARD
TZNAME:CET
TZOFFSETFROM:+0100
TZOFFSETTO:+0100
DTSTART:19460101T000000
RDATE:19800101T000000
END:STANDARD
BEGIN:STANDARD
TZNAME:CET
TZOFFSETFROM:+0200
TZOFFSETTO:+0100
DTSTART:19471005T030000
RRULE:FREQ=YEARLY;UNTIL=19491002T010000Z;BYMONTH=10;BYDAY=1SU
END:STANDARD
BEGIN:STANDARD
TZNAME:CET
TZOFFSETFROM:+0200
TZOFFSETTO:+0100
DTSTART:19800928T030000
RRULE:FREQ=YEARLY;UNTIL=19950924T010000Z;BYMONTH=9;BYDAY=-1SU
END:STANDARD
BEGIN:DAYLIGHT
TZNAME:CEST
TZOFFSETFROM:+0100
TZOFFSETTO:+0200
DTSTART:19810329T020000
RRULE:FREQ=YEARLY;BYMONTH=3;BYDAY=-1SU
END:DAYLIGHT
BEGIN:STANDARD
TZNAME:CET
TZOFFSETFROM:+0200
TZOFFSETTO:+0100
DTSTART:19961027T030000
RRULE:FREQ=YEARLY;BYMONTH=10;BYDAY=-1SU
END:STANDARD
END:VTIMEZONE
BEGIN:VEVENT
DTSTAMP:20260419T212820Z
DTSTART;TZID=Europe/Berlin:20180326T190000
DTEND;TZID=Europe/Berlin:20180326T220000
SUMMARY:Y L2 Gr 1 Collombey/Muraz vs Rossens IV (0)
UID:6010be51-5b2d-5356-e053-1fc7a80a74f7
STATUS:CONFIRMED
LAST-MODIFIED:20180402T094734Z
DESCRIPTION:2ème ligue Jeunesse Groupe 1\nBegegnungs-Nr: 0\nHeim: Collombey/Muraz\nGast: Rossens IV\n\nAdresse: Route du Montagnier 81\, 1868 Collombey\n
LOCATION:Route du Montagnier 81\, 1868 Collombey
CATEGORIES:Saison 2017/18
END:VEVENT
BEGIN:VEVENT
DTSTAMP:20260419T212820Z
DTSTART;TZID=Europe/Berlin:20171014T170000
DTEND;TZID=Europe/Berlin:20171014T200000
SUMMARY:Y L2 Gr 1 Collombey/Muraz vs Rossens V (0)
UID:6010be51-5ac1-5356-e053-1fc7a80a74f7
STATUS:CONFIRMED
LAST-MODIFIED:20171020T090435Z
DESCRIPTION:2ème ligue Jeunesse Groupe 1\nBegegnungs-Nr: 0\nHeim: Collombey/Muraz\nGast: Rossens V\n\nAdresse: Route du Montagnier 81\, 1868 Collombey\n
LOCATION:Route du Montagnier 81\, 1868 Collombey
CATEGORIES:Saison 2017/18
END:VEVENT
BEGIN:VEVENT
DTSTAMP:20260419T212820Z
DTSTART;TZID=Europe/Berlin:20180324T170000
DTEND;TZID=Europe/Berlin:20180324T200000
SUMMARY:Y L2 Gr 1 Collombey/Muraz vs Rossens III (0)
UID:6010be51-5b2b-5356-e053-1fc7a80a74f7
STATUS:CONFIRMED
LAST-MODIFIED:20180402T094634Z
DESCRIPTION:2ème ligue Jeunesse Groupe 1\nBegegnungs-Nr: 0\nHeim: Collombey/Muraz\nGast: Rossens III\n\nAdresse: Route du Montagnier 81\, 1868 Collombey\n
LOCATION:Route du Montagnier 81\, 1868 Collombey
CATEGORIES:Saison 2017/18
END:VEVENT
BEGIN:VEVENT
DTSTAMP:20260419T212820Z
DTSTART;TZID=Europe/Berlin:20180305T190000
DTEND;TZID=Europe/Berlin:20180305T220000
SUMMARY:Y L2 Gr 1 Collombey/Muraz vs Vevey (0)
UID:6010be51-5b5f-5356-e053-1fc7a80a74f7
STATUS:CONFIRMED
LAST-MODIFIED:20180312T103744Z
DESCRIPTION:2ème ligue Jeunesse Groupe 1\nBegegnungs-Nr: 0\nHeim: Collombey/Muraz\nGast: Vevey\n\nAdresse: Route du Montagnier 81\, 1868 Collombey\n
LOCATION:Route du Montagnier 81\, 1868 Collombey
CATEGORIES:Saison 2017/18
END:VEVENT
BEGIN:VEVENT
DTSTAMP:20260419T212820Z
DTSTART;TZID=Europe/Berlin:20171101T193000
DTEND;TZID=Europe/Berlin:20171101T223000
SUMMARY:Y L2 Gr 1 Collombey/Muraz vs Mézières (0)
UID:6010be51-5c95-5356-e053-1fc7a80a74f7
STATUS:CONFIRMED
LAST-MODIFIED:20171107T144615Z
DESCRIPTION:2ème ligue Jeunesse Groupe 1\nBegegnungs-Nr: 0\nHeim: Collombey/Muraz\nGast: Mézières\n\nAdresse: Route du Montagnier 81\, 1868 Collombey\n
LOCATION:Route du Montagnier 81\, 1868 Collombey
CATEGORIES:Saison 2017/18
END:VEVENT
BEGIN:VEVENT
DTSTAMP:20260419T212820Z
DTSTART;TZID=Europe/Berlin:20180530T190000
DTEND;TZID=Europe/Berlin:20180530T220000
SUMMARY:Y L2 Finale Collombey/Muraz vs Lausanne II (1)
UID:e7a6dc7a-c521-4eb5-b13f-00bb49d2943b
STATUS:CONFIRMED
LAST-MODIFIED:20180531T101543Z
DESCRIPTION:2ème ligue Jeunesse Finale\nBegegnungs-Nr: 1\nHeim: Collombey/Muraz\nGast: Lausanne II\n
LOCATION:
CATEGORIES:Saison 2017/18
END:VEVENT
BEGIN:VEVENT
DTSTAMP:20260419T212820Z
DTSTART;TZID=Europe/Berlin:20171208T200000
DTEND;TZID=Europe/Berlin:20171208T230000
SUMMARY:Y L2 Gr 1 Rossens III vs Collombey/Muraz (0)
UID:6010be51-5a93-5356-e053-1fc7a80a74f7
STATUS:CONFIRMED
LAST-MODIFIED:20171214T153019Z
DESCRIPTION:2ème ligue Jeunesse Groupe 1\nBegegnungs-Nr: 0\nHeim: Rossens III\nGast: Collombey/Muraz\n\nAdresse: Route du Jordil 14\, 1728 Rossens\n
LOCATION:Route du Jordil 14\, 1728 Rossens
CATEGORIES:Saison 2017/18
END:VEVENT
BEGIN:VEVENT
DTSTAMP:20260419T212820Z
DTSTART;TZID=Europe/Berlin:20170920T191500
DTEND;TZID=Europe/Berlin:20170920T221500
SUMMARY:Y L2 Gr 1 Vevey vs Collombey/Muraz (0)
UID:6010be51-5ac3-5356-e053-1fc7a80a74f7
STATUS:CONFIRMED
LAST-MODIFIED:20170926T132221Z
DESCRIPTION:2ème ligue Jeunesse Groupe 1\nBegegnungs-Nr: 0\nHeim: Vevey\nGast: Collombey/Muraz\n\nAdresse: Rue Louis-Meyer\, 1800 Vevey\n
LOCATION:Rue Louis-Meyer\, 1800 Vevey
CATEGORIES:Saison 2017/18
END:VEVENT
BEGIN:VEVENT
DTSTAMP:20260419T212820Z
DTSTART;TZID=Europe/Berlin:20180216T200000
DTEND;TZID=Europe/Berlin:20180216T230000
SUMMARY:Y L2 Gr 1 Mézières vs Collombey/Muraz (0)
UID:6010be51-5b32-5356-e053-1fc7a80a74f7
STATUS:CONFIRMED
LAST-MODIFIED:20180222T164511Z
DESCRIPTION:2ème ligue Jeunesse Groupe 1\nBegegnungs-Nr: 0\nHeim: Mézières\nGast: Collombey/Muraz\n\nAdresse: -\, 1083 Mézières\n
LOCATION:-\, 1083 Mézières
CATEGORIES:Saison 2017/18
END:VEVENT
BEGIN:VEVENT
DTSTAMP:20260419T212820Z
DTSTART;TZID=Europe/Berlin:20180112T200000
DTEND;TZID=Europe/Berlin:20180112T230000
SUMMARY:Y L2 Gr 1 Rossens V vs Collombey/Muraz (0)
UID:6010be51-5b5d-5356-e053-1fc7a80a74f7
STATUS:CONFIRMED
LAST-MODIFIED:20180118T170347Z
DESCRIPTION:2ème ligue Jeunesse Groupe 1\nBegegnungs-Nr: 0\nHeim: Rossens V\nGast: Collombey/Muraz\n\nAdresse: Route du Jordil 14\, 1728 Rossens\n
LOCATION:Route du Jordil 14\, 1728 Rossens
CATEGORIES:Saison 2017/18
END:VEVENT
BEGIN:VEVENT
DTSTAMP:20260419T212820Z
DTSTART;TZID=Europe/Berlin:20171124T200000
DTEND;TZID=Europe/Berlin:20171124T230000
SUMMARY:Y L2 Gr 1 Rossens IV vs Collombey/Muraz (0)
UID:6010be51-5b87-5356-e053-1fc7a80a74f7
STATUS:CONFIRMED
LAST-MODIFIED:20171130T135410Z
DESCRIPTION:2ème ligue Jeunesse Groupe 1\nBegegnungs-Nr: 0\nHeim: Rossens IV\nGast: Collombey/Muraz\n\nAdresse: Route du Jordil 14\, 1728 Rossens\n
LOCATION:Route du Jordil 14\, 1728 Rossens
CATEGORIES:Saison 2017/18
END:VEVENT
END:VCALENDAR
