BEGIN:VCALENDAR
PRODID:-//nuDatenautomaten//framework iCal4j //DE
VERSION:2.0
CALSCALE:GREGORIAN
BEGIN:VTIMEZONE
TZID:Europe/Berlin
LAST-MODIFIED:20260306T231828Z
TZURL:https://www.tzurl.org/zoneinfo/Europe/Berlin
X-LIC-LOCATION:Europe/Berlin
X-PROLEPTIC-TZNAME:LMT
BEGIN:STANDARD
TZNAME:CET
TZOFFSETFROM:+005328
TZOFFSETTO:+0100
DTSTART:18930401T000000
END:STANDARD
BEGIN:DAYLIGHT
TZNAME:CEST
TZOFFSETFROM:+0100
TZOFFSETTO:+0200
DTSTART:19160430T230000
RDATE:19400401T020000
RDATE:19430329T020000
RDATE:19460414T020000
RDATE:19470406T030000
RDATE:19480418T020000
RDATE:19490410T020000
RDATE:19800406T020000
END:DAYLIGHT
BEGIN:STANDARD
TZNAME:CET
TZOFFSETFROM:+0200
TZOFFSETTO:+0100
DTSTART:19161001T010000
RDATE:19421102T030000
RDATE:19431004T030000
RDATE:19441002T030000
RDATE:19451118T030000
RDATE:19461007T030000
END:STANDARD
BEGIN:DAYLIGHT
TZNAME:CEST
TZOFFSETFROM:+0100
TZOFFSETTO:+0200
DTSTART:19170416T020000
RRULE:FREQ=YEARLY;UNTIL=19180415T010000Z;BYMONTH=4;BYDAY=3MO
END:DAYLIGHT
BEGIN:STANDARD
TZNAME:CET
TZOFFSETFROM:+0200
TZOFFSETTO:+0100
DTSTART:19170917T030000
RRULE:FREQ=YEARLY;UNTIL=19180916T010000Z;BYMONTH=9;BYDAY=3MO
END:STANDARD
BEGIN:DAYLIGHT
TZNAME:CEST
TZOFFSETFROM:+0100
TZOFFSETTO:+0200
DTSTART:19440403T020000
RRULE:FREQ=YEARLY;UNTIL=19450402T010000Z;BYMONTH=4;BYDAY=1MO
END:DAYLIGHT
BEGIN:DAYLIGHT
TZNAME:CEMT
TZOFFSETFROM:+0200
TZOFFSETTO:+0300
DTSTART:19450524T020000
RDATE:19470511T030000
END:DAYLIGHT
BEGIN:DAYLIGHT
TZNAME:CEST
TZOFFSETFROM:+0300
TZOFFSETTO:+0200
DTSTART:19450924T030000
RDATE:19470629T030000
END:DAYLIGHT
BEGIN:STANDARD
TZNAME:CET
TZOFFSETFROM:+0100
TZOFFSETTO:+0100
DTSTART:19460101T000000
RDATE:19800101T000000
END:STANDARD
BEGIN:STANDARD
TZNAME:CET
TZOFFSETFROM:+0200
TZOFFSETTO:+0100
DTSTART:19471005T030000
RRULE:FREQ=YEARLY;UNTIL=19491002T010000Z;BYMONTH=10;BYDAY=1SU
END:STANDARD
BEGIN:STANDARD
TZNAME:CET
TZOFFSETFROM:+0200
TZOFFSETTO:+0100
DTSTART:19800928T030000
RRULE:FREQ=YEARLY;UNTIL=19950924T010000Z;BYMONTH=9;BYDAY=-1SU
END:STANDARD
BEGIN:DAYLIGHT
TZNAME:CEST
TZOFFSETFROM:+0100
TZOFFSETTO:+0200
DTSTART:19810329T020000
RRULE:FREQ=YEARLY;BYMONTH=3;BYDAY=-1SU
END:DAYLIGHT
BEGIN:STANDARD
TZNAME:CET
TZOFFSETFROM:+0200
TZOFFSETTO:+0100
DTSTART:19961027T030000
RRULE:FREQ=YEARLY;BYMONTH=10;BYDAY=-1SU
END:STANDARD
END:VTIMEZONE
BEGIN:VEVENT
DTSTAMP:20260424T163351Z
DTSTART;TZID=Europe/Berlin:20170918T201500
DTEND;TZID=Europe/Berlin:20170918T231500
SUMMARY:HE NLC Gr.1 Meyrin II vs UGS-Chênois III (8)
UID:6010be51-37cd-5356-e053-1fc7a80a74f7
STATUS:CONFIRMED
LAST-MODIFIED:20170925T070309Z
DESCRIPTION:Herren Nationalliga C Gruppe 1\nBegegnungs-Nr: 8\nHeim: Meyrin II\nGast: UGS-Chênois III\n\nAdresse: Rue De-Livron 2\, 1217 Meyrin\n
LOCATION:Rue De-Livron 2\, 1217 Meyrin
CATEGORIES:Saison 2017/18
END:VEVENT
BEGIN:VEVENT
DTSTAMP:20260424T163351Z
DTSTART;TZID=Europe/Berlin:20171111T150000
DTEND;TZID=Europe/Berlin:20171111T180000
SUMMARY:HE NLC Gr.1 Meyrin II vs Collombey/Muraz (24)
UID:6010be51-3b36-5356-e053-1fc7a80a74f7
STATUS:CONFIRMED
LAST-MODIFIED:20171115T070349Z
DESCRIPTION:Herren Nationalliga C Gruppe 1\nBegegnungs-Nr: 24\nHeim: Meyrin II\nGast: Collombey/Muraz\n
LOCATION:
CATEGORIES:Saison 2017/18
END:VEVENT
BEGIN:VEVENT
DTSTAMP:20260424T163351Z
DTSTART;TZID=Europe/Berlin:20171030T201500
DTEND;TZID=Europe/Berlin:20171030T231500
SUMMARY:HE NLC Gr.1 Meyrin II vs Carouge (20)
UID:6010be51-3b39-5356-e053-1fc7a80a74f7
STATUS:CONFIRMED
LAST-MODIFIED:20171031T080825Z
DESCRIPTION:Herren Nationalliga C Gruppe 1\nBegegnungs-Nr: 20\nHeim: Meyrin II\nGast: Carouge\n\nAdresse: Rue De-Livron 2\, 1217 Meyrin\n
LOCATION:Rue De-Livron 2\, 1217 Meyrin
CATEGORIES:Saison 2017/18
END:VEVENT
BEGIN:VEVENT
DTSTAMP:20260424T163351Z
DTSTART;TZID=Europe/Berlin:20171016T201500
DTEND;TZID=Europe/Berlin:20171016T231500
SUMMARY:HE NLC Gr.1 Meyrin II vs ZZ-Lancy III (14)
UID:6010be51-3b3d-5356-e053-1fc7a80a74f7
STATUS:CONFIRMED
LAST-MODIFIED:20171023T070624Z
DESCRIPTION:Herren Nationalliga C Gruppe 1\nBegegnungs-Nr: 14\nHeim: Meyrin II\nGast: ZZ-Lancy III\n\nAdresse: Rue De-Livron 2\, 1217 Meyrin\n
LOCATION:Rue De-Livron 2\, 1217 Meyrin
CATEGORIES:Saison 2017/18
END:VEVENT
BEGIN:VEVENT
DTSTAMP:20260424T163351Z
DTSTART;TZID=Europe/Berlin:20180319T201500
DTEND;TZID=Europe/Berlin:20180319T231500
SUMMARY:HE NLC Gr.1 Meyrin II vs Silver Star (27)
UID:6010be51-4603-5356-e053-1fc7a80a74f7
STATUS:CONFIRMED
LAST-MODIFIED:20180320T082818Z
DESCRIPTION:Herren Nationalliga C Gruppe 1\nBegegnungs-Nr: 27\nHeim: Meyrin II\nGast: Silver Star\n\nAdresse: Rue De-Livron 2\, 1217 Meyrin\n
LOCATION:Rue De-Livron 2\, 1217 Meyrin
CATEGORIES:Saison 2017/18
END:VEVENT
BEGIN:VEVENT
DTSTAMP:20260424T163351Z
DTSTART;TZID=Europe/Berlin:20180122T201500
DTEND;TZID=Europe/Berlin:20180122T231500
SUMMARY:HE NLC Gr.1 Meyrin II vs Veyrier III (9)
UID:6010be51-4644-5356-e053-1fc7a80a74f7
STATUS:CONFIRMED
LAST-MODIFIED:20180126T090126Z
DESCRIPTION:Herren Nationalliga C Gruppe 1\nBegegnungs-Nr: 9\nHeim: Meyrin II\nGast: Veyrier III\n\nAdresse: Rue De-Livron 2\, 1217 Meyrin\n
LOCATION:Rue De-Livron 2\, 1217 Meyrin
CATEGORIES:Saison 2017/18
END:VEVENT
BEGIN:VEVENT
DTSTAMP:20260424T163351Z
DTSTART;TZID=Europe/Berlin:20171204T201500
DTEND;TZID=Europe/Berlin:20171204T231500
SUMMARY:HE NLC Gr.1 Meyrin II vs Châtelaine (3)
UID:6010be51-464a-5356-e053-1fc7a80a74f7
STATUS:CONFIRMED
LAST-MODIFIED:20171207T065921Z
DESCRIPTION:Herren Nationalliga C Gruppe 1\nBegegnungs-Nr: 3\nHeim: Meyrin II\nGast: Châtelaine\n\nAdresse: Rue De-Livron 2\, 1217 Meyrin\n
LOCATION:Rue De-Livron 2\, 1217 Meyrin
CATEGORIES:Saison 2017/18
END:VEVENT
BEGIN:VEVENT
DTSTAMP:20260424T163351Z
DTSTART;TZID=Europe/Berlin:20171006T194500
DTEND;TZID=Europe/Berlin:20171006T224500
SUMMARY:HE NLC Gr.1 Veyrier III vs Meyrin II (9)
UID:6010be51-37cc-5356-e053-1fc7a80a74f7
STATUS:CONFIRMED
LAST-MODIFIED:20171009T074205Z
DESCRIPTION:Herren Nationalliga C Gruppe 1\nBegegnungs-Nr: 9\nHeim: Veyrier III\nGast: Meyrin II\n\nAdresse: -\, 1255 Veyrier\n
LOCATION:-\, 1255 Veyrier
CATEGORIES:Saison 2017/18
END:VEVENT
BEGIN:VEVENT
DTSTAMP:20260424T163351Z
DTSTART;TZID=Europe/Berlin:20170907T200000
DTEND;TZID=Europe/Berlin:20170907T230000
SUMMARY:HE NLC Gr.1 Châtelaine vs Meyrin II (3)
UID:6010be51-3834-5356-e053-1fc7a80a74f7
STATUS:CONFIRMED
LAST-MODIFIED:20170911T121756Z
DESCRIPTION:Herren Nationalliga C Gruppe 1\nBegegnungs-Nr: 3\nHeim: Châtelaine\nGast: Meyrin II\n\nAdresse: Avenue de Pailly 15\, 1219 Châtelaine\n
LOCATION:Avenue de Pailly 15\, 1219 Châtelaine
CATEGORIES:Saison 2017/18
END:VEVENT
BEGIN:VEVENT
DTSTAMP:20260424T163351Z
DTSTART;TZID=Europe/Berlin:20171120T194500
DTEND;TZID=Europe/Berlin:20171120T224500
SUMMARY:HE NLC Gr.1 Silver Star vs Meyrin II (27)
UID:6010be51-3b05-5356-e053-1fc7a80a74f7
STATUS:CONFIRMED
LAST-MODIFIED:20171127T065924Z
DESCRIPTION:Herren Nationalliga C Gruppe 1\nBegegnungs-Nr: 27\nHeim: Silver Star\nGast: Meyrin II\n\nAdresse: Rue de Vermont 33\, 1202 Genève\n
LOCATION:Rue de Vermont 33\, 1202 Genève
CATEGORIES:Saison 2017/18
END:VEVENT
BEGIN:VEVENT
DTSTAMP:20260424T163351Z
DTSTART;TZID=Europe/Berlin:20180310T170000
DTEND;TZID=Europe/Berlin:20180310T200000
SUMMARY:HE NLC Gr.1 Collombey/Muraz vs Meyrin II (24)
UID:6010be51-4606-5356-e053-1fc7a80a74f7
STATUS:CONFIRMED
LAST-MODIFIED:20180312T082638Z
DESCRIPTION:Herren Nationalliga C Gruppe 1\nBegegnungs-Nr: 24\nHeim: Collombey/Muraz\nGast: Meyrin II\n\nAdresse: Route du Montagnier 81\, 1868 Collombey\n
LOCATION:Route du Montagnier 81\, 1868 Collombey
CATEGORIES:Saison 2017/18
END:VEVENT
BEGIN:VEVENT
DTSTAMP:20260424T163351Z
DTSTART;TZID=Europe/Berlin:20180223T193000
DTEND;TZID=Europe/Berlin:20180223T223000
SUMMARY:HE NLC Gr.1 Carouge vs Meyrin II (20)
UID:6010be51-460a-5356-e053-1fc7a80a74f7
STATUS:CONFIRMED
LAST-MODIFIED:20180226T092920Z
DESCRIPTION:Herren Nationalliga C Gruppe 1\nBegegnungs-Nr: 20\nHeim: Carouge\nGast: Meyrin II\nHalle: Ecole des Promenades\nAdresse: Route de Veyrier 44\, 1227 Carouge GE\n
LOCATION:Ecole des Promenades Route de Veyrier 44\, 1227 Carouge GE
CATEGORIES:Saison 2017/18
END:VEVENT
BEGIN:VEVENT
DTSTAMP:20260424T163351Z
DTSTART;TZID=Europe/Berlin:20180217T110000
DTEND;TZID=Europe/Berlin:20180217T140000
SUMMARY:HE NLC Gr.1 ZZ-Lancy III vs Meyrin II (14)
UID:6010be51-463f-5356-e053-1fc7a80a74f7
STATUS:CONFIRMED
LAST-MODIFIED:20180219T074830Z
DESCRIPTION:Herren Nationalliga C Gruppe 1\nBegegnungs-Nr: 14\nHeim: ZZ-Lancy III\nGast: Meyrin II\n\nAdresse: Avenue du Curé-Baud 40\, 1212 Grand-Lancy\n
LOCATION:Avenue du Curé-Baud 40\, 1212 Grand-Lancy
CATEGORIES:Saison 2017/18
END:VEVENT
BEGIN:VEVENT
DTSTAMP:20260424T163351Z
DTSTART;TZID=Europe/Berlin:20180113T143000
DTEND;TZID=Europe/Berlin:20180113T173000
SUMMARY:HE NLC Gr.1 UGS-Chênois III vs Meyrin II (8)
UID:6010be51-4645-5356-e053-1fc7a80a74f7
STATUS:CONFIRMED
LAST-MODIFIED:20180115T074350Z
DESCRIPTION:Herren Nationalliga C Gruppe 1\nBegegnungs-Nr: 8\nHeim: UGS-Chênois III\nGast: Meyrin II\n\nAdresse: Route de Frontenex 68\, 1208 Genève\n
LOCATION:Route de Frontenex 68\, 1208 Genève
CATEGORIES:Saison 2017/18
END:VEVENT
END:VCALENDAR
