BEGIN:VCALENDAR
PRODID:-//nuDatenautomaten//framework iCal4j //DE
VERSION:2.0
CALSCALE:GREGORIAN
BEGIN:VTIMEZONE
TZID:Europe/Berlin
LAST-MODIFIED:20260306T231828Z
TZURL:https://www.tzurl.org/zoneinfo/Europe/Berlin
X-LIC-LOCATION:Europe/Berlin
X-PROLEPTIC-TZNAME:LMT
BEGIN:STANDARD
TZNAME:CET
TZOFFSETFROM:+005328
TZOFFSETTO:+0100
DTSTART:18930401T000000
END:STANDARD
BEGIN:DAYLIGHT
TZNAME:CEST
TZOFFSETFROM:+0100
TZOFFSETTO:+0200
DTSTART:19160430T230000
RDATE:19400401T020000
RDATE:19430329T020000
RDATE:19460414T020000
RDATE:19470406T030000
RDATE:19480418T020000
RDATE:19490410T020000
RDATE:19800406T020000
END:DAYLIGHT
BEGIN:STANDARD
TZNAME:CET
TZOFFSETFROM:+0200
TZOFFSETTO:+0100
DTSTART:19161001T010000
RDATE:19421102T030000
RDATE:19431004T030000
RDATE:19441002T030000
RDATE:19451118T030000
RDATE:19461007T030000
END:STANDARD
BEGIN:DAYLIGHT
TZNAME:CEST
TZOFFSETFROM:+0100
TZOFFSETTO:+0200
DTSTART:19170416T020000
RRULE:FREQ=YEARLY;UNTIL=19180415T010000Z;BYMONTH=4;BYDAY=3MO
END:DAYLIGHT
BEGIN:STANDARD
TZNAME:CET
TZOFFSETFROM:+0200
TZOFFSETTO:+0100
DTSTART:19170917T030000
RRULE:FREQ=YEARLY;UNTIL=19180916T010000Z;BYMONTH=9;BYDAY=3MO
END:STANDARD
BEGIN:DAYLIGHT
TZNAME:CEST
TZOFFSETFROM:+0100
TZOFFSETTO:+0200
DTSTART:19440403T020000
RRULE:FREQ=YEARLY;UNTIL=19450402T010000Z;BYMONTH=4;BYDAY=1MO
END:DAYLIGHT
BEGIN:DAYLIGHT
TZNAME:CEMT
TZOFFSETFROM:+0200
TZOFFSETTO:+0300
DTSTART:19450524T020000
RDATE:19470511T030000
END:DAYLIGHT
BEGIN:DAYLIGHT
TZNAME:CEST
TZOFFSETFROM:+0300
TZOFFSETTO:+0200
DTSTART:19450924T030000
RDATE:19470629T030000
END:DAYLIGHT
BEGIN:STANDARD
TZNAME:CET
TZOFFSETFROM:+0100
TZOFFSETTO:+0100
DTSTART:19460101T000000
RDATE:19800101T000000
END:STANDARD
BEGIN:STANDARD
TZNAME:CET
TZOFFSETFROM:+0200
TZOFFSETTO:+0100
DTSTART:19471005T030000
RRULE:FREQ=YEARLY;UNTIL=19491002T010000Z;BYMONTH=10;BYDAY=1SU
END:STANDARD
BEGIN:STANDARD
TZNAME:CET
TZOFFSETFROM:+0200
TZOFFSETTO:+0100
DTSTART:19800928T030000
RRULE:FREQ=YEARLY;UNTIL=19950924T010000Z;BYMONTH=9;BYDAY=-1SU
END:STANDARD
BEGIN:DAYLIGHT
TZNAME:CEST
TZOFFSETFROM:+0100
TZOFFSETTO:+0200
DTSTART:19810329T020000
RRULE:FREQ=YEARLY;BYMONTH=3;BYDAY=-1SU
END:DAYLIGHT
BEGIN:STANDARD
TZNAME:CET
TZOFFSETFROM:+0200
TZOFFSETTO:+0100
DTSTART:19961027T030000
RRULE:FREQ=YEARLY;BYMONTH=10;BYDAY=-1SU
END:STANDARD
END:VTIMEZONE
BEGIN:VEVENT
DTSTAMP:20260424T163351Z
DTSTART;TZID=Europe/Berlin:20170930T170000
DTEND;TZID=Europe/Berlin:20170930T200000
SUMMARY:HE NLC Gr.1 Collombey/Muraz vs Veyrier III (5)
UID:6010be51-37cf-5356-e053-1fc7a80a74f7
STATUS:CONFIRMED
LAST-MODIFIED:20171002T070236Z
DESCRIPTION:Herren Nationalliga C Gruppe 1\nBegegnungs-Nr: 5\nHeim: Collombey/Muraz\nGast: Veyrier III\n\nAdresse: Route du Montagnier 81\, 1868 Collombey\n
LOCATION:Route du Montagnier 81\, 1868 Collombey
CATEGORIES:Saison 2017/18
END:VEVENT
BEGIN:VEVENT
DTSTAMP:20260424T163351Z
DTSTART;TZID=Europe/Berlin:20171118T170000
DTEND;TZID=Europe/Berlin:20171118T200000
SUMMARY:HE NLC Gr.1 Collombey/Muraz vs Carouge (28)
UID:6010be51-3b33-5356-e053-1fc7a80a74f7
STATUS:CONFIRMED
LAST-MODIFIED:20171120T073556Z
DESCRIPTION:Herren Nationalliga C Gruppe 1\nBegegnungs-Nr: 28\nHeim: Collombey/Muraz\nGast: Carouge\n\nAdresse: Route du Montagnier 81\, 1868 Collombey\n
LOCATION:Route du Montagnier 81\, 1868 Collombey
CATEGORIES:Saison 2017/18
END:VEVENT
BEGIN:VEVENT
DTSTAMP:20260424T163351Z
DTSTART;TZID=Europe/Berlin:20171028T170000
DTEND;TZID=Europe/Berlin:20171028T200000
SUMMARY:HE NLC Gr.1 Collombey/Muraz vs Châtelaine (15)
UID:6010be51-3b3c-5356-e053-1fc7a80a74f7
STATUS:CONFIRMED
LAST-MODIFIED:20171031T080231Z
DESCRIPTION:Herren Nationalliga C Gruppe 1\nBegegnungs-Nr: 15\nHeim: Collombey/Muraz\nGast: Châtelaine\n\nAdresse: Route du Montagnier 81\, 1868 Collombey\n
LOCATION:Route du Montagnier 81\, 1868 Collombey
CATEGORIES:Saison 2017/18
END:VEVENT
BEGIN:VEVENT
DTSTAMP:20260424T163351Z
DTSTART;TZID=Europe/Berlin:20180310T170000
DTEND;TZID=Europe/Berlin:20180310T200000
SUMMARY:HE NLC Gr.1 Collombey/Muraz vs Meyrin II (24)
UID:6010be51-4606-5356-e053-1fc7a80a74f7
STATUS:CONFIRMED
LAST-MODIFIED:20180312T082638Z
DESCRIPTION:Herren Nationalliga C Gruppe 1\nBegegnungs-Nr: 24\nHeim: Collombey/Muraz\nGast: Meyrin II\n\nAdresse: Route du Montagnier 81\, 1868 Collombey\n
LOCATION:Route du Montagnier 81\, 1868 Collombey
CATEGORIES:Saison 2017/18
END:VEVENT
BEGIN:VEVENT
DTSTAMP:20260424T163351Z
DTSTART;TZID=Europe/Berlin:20180224T170000
DTEND;TZID=Europe/Berlin:20180224T200000
SUMMARY:HE NLC Gr.1 Collombey/Muraz vs Silver Star (19)
UID:6010be51-460b-5356-e053-1fc7a80a74f7
STATUS:CONFIRMED
LAST-MODIFIED:20180226T093033Z
DESCRIPTION:Herren Nationalliga C Gruppe 1\nBegegnungs-Nr: 19\nHeim: Collombey/Muraz\nGast: Silver Star\n\nAdresse: Route du Montagnier 81\, 1868 Collombey\n
LOCATION:Route du Montagnier 81\, 1868 Collombey
CATEGORIES:Saison 2017/18
END:VEVENT
BEGIN:VEVENT
DTSTAMP:20260424T163351Z
DTSTART;TZID=Europe/Berlin:20171209T170000
DTEND;TZID=Europe/Berlin:20171209T200000
SUMMARY:HE NLC Gr.1 Collombey/Muraz vs UGS-Chênois III (4)
UID:6010be51-4649-5356-e053-1fc7a80a74f7
STATUS:CONFIRMED
LAST-MODIFIED:20171211T074636Z
DESCRIPTION:Herren Nationalliga C Gruppe 1\nBegegnungs-Nr: 4\nHeim: Collombey/Muraz\nGast: UGS-Chênois III\n\nAdresse: Route du Montagnier 81\, 1868 Collombey\n
LOCATION:Route du Montagnier 81\, 1868 Collombey
CATEGORIES:Saison 2017/18
END:VEVENT
BEGIN:VEVENT
DTSTAMP:20260424T163351Z
DTSTART;TZID=Europe/Berlin:20180210T170000
DTEND;TZID=Europe/Berlin:20180210T200000
SUMMARY:HE NLC Gr.1 Collombey/Muraz vs ZZ-Lancy III (10)
UID:6010be51-4643-5356-e053-1fc7a80a74f7
STATUS:CONFIRMED
LAST-MODIFIED:20180212T081547Z
DESCRIPTION:Herren Nationalliga C Gruppe 1\nBegegnungs-Nr: 10\nHeim: Collombey/Muraz\nGast: ZZ-Lancy III\n\nAdresse: Route du Montagnier 81\, 1868 Collombey\n
LOCATION:Route du Montagnier 81\, 1868 Collombey
CATEGORIES:Saison 2017/18
END:VEVENT
BEGIN:VEVENT
DTSTAMP:20260424T163351Z
DTSTART;TZID=Europe/Berlin:20171014T183000
DTEND;TZID=Europe/Berlin:20171014T213000
SUMMARY:HE NLC Gr.1 ZZ-Lancy III vs Collombey/Muraz (10)
UID:6010be51-37c9-5356-e053-1fc7a80a74f7
STATUS:CONFIRMED
LAST-MODIFIED:20171016T064823Z
DESCRIPTION:Herren Nationalliga C Gruppe 1\nBegegnungs-Nr: 10\nHeim: ZZ-Lancy III\nGast: Collombey/Muraz\n\nAdresse: Avenue du Curé-Baud 40\, 1212 Grand-Lancy\n
LOCATION:Avenue du Curé-Baud 40\, 1212 Grand-Lancy
CATEGORIES:Saison 2017/18
END:VEVENT
BEGIN:VEVENT
DTSTAMP:20260424T163351Z
DTSTART;TZID=Europe/Berlin:20170909T120000
DTEND;TZID=Europe/Berlin:20170909T150000
SUMMARY:HE NLC Gr.1 UGS-Chênois III vs Collombey/Muraz (4)
UID:6010be51-37d0-5356-e053-1fc7a80a74f7
STATUS:CONFIRMED
LAST-MODIFIED:20170911T082913Z
DESCRIPTION:Herren Nationalliga C Gruppe 1\nBegegnungs-Nr: 4\nHeim: UGS-Chênois III\nGast: Collombey/Muraz\n\nAdresse: Route de Frontenex 68\, 1208 Genève\n
LOCATION:Route de Frontenex 68\, 1208 Genève
CATEGORIES:Saison 2017/18
END:VEVENT
BEGIN:VEVENT
DTSTAMP:20260424T163351Z
DTSTART;TZID=Europe/Berlin:20171111T150000
DTEND;TZID=Europe/Berlin:20171111T180000
SUMMARY:HE NLC Gr.1 Meyrin II vs Collombey/Muraz (24)
UID:6010be51-3b36-5356-e053-1fc7a80a74f7
STATUS:CONFIRMED
LAST-MODIFIED:20171115T070349Z
DESCRIPTION:Herren Nationalliga C Gruppe 1\nBegegnungs-Nr: 24\nHeim: Meyrin II\nGast: Collombey/Muraz\n
LOCATION:
CATEGORIES:Saison 2017/18
END:VEVENT
BEGIN:VEVENT
DTSTAMP:20260424T163351Z
DTSTART;TZID=Europe/Berlin:20171030T194500
DTEND;TZID=Europe/Berlin:20171030T224500
SUMMARY:HE NLC Gr.1 Silver Star vs Collombey/Muraz (19)
UID:6010be51-3b3a-5356-e053-1fc7a80a74f7
STATUS:CONFIRMED
LAST-MODIFIED:20171031T080814Z
DESCRIPTION:Herren Nationalliga C Gruppe 1\nBegegnungs-Nr: 19\nHeim: Silver Star\nGast: Collombey/Muraz\n\nAdresse: Rue de Vermont 33\, 1202 Genève\n
LOCATION:Rue de Vermont 33\, 1202 Genève
CATEGORIES:Saison 2017/18
END:VEVENT
BEGIN:VEVENT
DTSTAMP:20260424T163351Z
DTSTART;TZID=Europe/Berlin:20180217T120000
DTEND;TZID=Europe/Berlin:20180217T150000
SUMMARY:HE NLC Gr.1 Châtelaine vs Collombey/Muraz (15)
UID:6010be51-463d-5356-e053-1fc7a80a74f7
STATUS:CONFIRMED
LAST-MODIFIED:20180219T075057Z
DESCRIPTION:Herren Nationalliga C Gruppe 1\nBegegnungs-Nr: 15\nHeim: Châtelaine\nGast: Collombey/Muraz\n\nAdresse: Avenue de Pailly 15\, 1219 Châtelaine\n
LOCATION:Avenue de Pailly 15\, 1219 Châtelaine
CATEGORIES:Saison 2017/18
END:VEVENT
BEGIN:VEVENT
DTSTAMP:20260424T163351Z
DTSTART;TZID=Europe/Berlin:20180324T150000
DTEND;TZID=Europe/Berlin:20180324T180000
SUMMARY:HE NLC Gr.1 Carouge vs Collombey/Muraz (28)
UID:6010be51-463e-5356-e053-1fc7a80a74f7
STATUS:CONFIRMED
LAST-MODIFIED:20180326T071503Z
DESCRIPTION:Herren Nationalliga C Gruppe 1\nBegegnungs-Nr: 28\nHeim: Carouge\nGast: Collombey/Muraz\nHalle: Ecole des Promenades\nAdresse: Route de Veyrier 44\, 1227 Carouge GE\n
LOCATION:Ecole des Promenades Route de Veyrier 44\, 1227 Carouge GE
CATEGORIES:Saison 2017/18
END:VEVENT
BEGIN:VEVENT
DTSTAMP:20260424T163351Z
DTSTART;TZID=Europe/Berlin:20180107T153000
DTEND;TZID=Europe/Berlin:20180107T183000
SUMMARY:HE NLC Gr.1 Veyrier III vs Collombey/Muraz (5)
UID:6010be51-4648-5356-e053-1fc7a80a74f7
STATUS:CONFIRMED
LAST-MODIFIED:20180108T144829Z
DESCRIPTION:Herren Nationalliga C Gruppe 1\nBegegnungs-Nr: 5\nHeim: Veyrier III\nGast: Collombey/Muraz\n\nAdresse: -\, 1255 Veyrier\n
LOCATION:-\, 1255 Veyrier
CATEGORIES:Saison 2017/18
END:VEVENT
END:VCALENDAR
