BEGIN:VCALENDAR
PRODID:-//nuDatenautomaten//framework iCal4j //DE
VERSION:2.0
CALSCALE:GREGORIAN
BEGIN:VTIMEZONE
TZID:Europe/Berlin
LAST-MODIFIED:20260306T231828Z
TZURL:https://www.tzurl.org/zoneinfo/Europe/Berlin
X-LIC-LOCATION:Europe/Berlin
X-PROLEPTIC-TZNAME:LMT
BEGIN:STANDARD
TZNAME:CET
TZOFFSETFROM:+005328
TZOFFSETTO:+0100
DTSTART:18930401T000000
END:STANDARD
BEGIN:DAYLIGHT
TZNAME:CEST
TZOFFSETFROM:+0100
TZOFFSETTO:+0200
DTSTART:19160430T230000
RDATE:19400401T020000
RDATE:19430329T020000
RDATE:19460414T020000
RDATE:19470406T030000
RDATE:19480418T020000
RDATE:19490410T020000
RDATE:19800406T020000
END:DAYLIGHT
BEGIN:STANDARD
TZNAME:CET
TZOFFSETFROM:+0200
TZOFFSETTO:+0100
DTSTART:19161001T010000
RDATE:19421102T030000
RDATE:19431004T030000
RDATE:19441002T030000
RDATE:19451118T030000
RDATE:19461007T030000
END:STANDARD
BEGIN:DAYLIGHT
TZNAME:CEST
TZOFFSETFROM:+0100
TZOFFSETTO:+0200
DTSTART:19170416T020000
RRULE:FREQ=YEARLY;UNTIL=19180415T010000Z;BYMONTH=4;BYDAY=3MO
END:DAYLIGHT
BEGIN:STANDARD
TZNAME:CET
TZOFFSETFROM:+0200
TZOFFSETTO:+0100
DTSTART:19170917T030000
RRULE:FREQ=YEARLY;UNTIL=19180916T010000Z;BYMONTH=9;BYDAY=3MO
END:STANDARD
BEGIN:DAYLIGHT
TZNAME:CEST
TZOFFSETFROM:+0100
TZOFFSETTO:+0200
DTSTART:19440403T020000
RRULE:FREQ=YEARLY;UNTIL=19450402T010000Z;BYMONTH=4;BYDAY=1MO
END:DAYLIGHT
BEGIN:DAYLIGHT
TZNAME:CEMT
TZOFFSETFROM:+0200
TZOFFSETTO:+0300
DTSTART:19450524T020000
RDATE:19470511T030000
END:DAYLIGHT
BEGIN:DAYLIGHT
TZNAME:CEST
TZOFFSETFROM:+0300
TZOFFSETTO:+0200
DTSTART:19450924T030000
RDATE:19470629T030000
END:DAYLIGHT
BEGIN:STANDARD
TZNAME:CET
TZOFFSETFROM:+0100
TZOFFSETTO:+0100
DTSTART:19460101T000000
RDATE:19800101T000000
END:STANDARD
BEGIN:STANDARD
TZNAME:CET
TZOFFSETFROM:+0200
TZOFFSETTO:+0100
DTSTART:19471005T030000
RRULE:FREQ=YEARLY;UNTIL=19491002T010000Z;BYMONTH=10;BYDAY=1SU
END:STANDARD
BEGIN:STANDARD
TZNAME:CET
TZOFFSETFROM:+0200
TZOFFSETTO:+0100
DTSTART:19800928T030000
RRULE:FREQ=YEARLY;UNTIL=19950924T010000Z;BYMONTH=9;BYDAY=-1SU
END:STANDARD
BEGIN:DAYLIGHT
TZNAME:CEST
TZOFFSETFROM:+0100
TZOFFSETTO:+0200
DTSTART:19810329T020000
RRULE:FREQ=YEARLY;BYMONTH=3;BYDAY=-1SU
END:DAYLIGHT
BEGIN:STANDARD
TZNAME:CET
TZOFFSETFROM:+0200
TZOFFSETTO:+0100
DTSTART:19961027T030000
RRULE:FREQ=YEARLY;BYMONTH=10;BYDAY=-1SU
END:STANDARD
END:VTIMEZONE
BEGIN:VEVENT
DTSTAMP:20260419T211312Z
DTSTART;TZID=Europe/Berlin:20170904T200000
DTEND;TZID=Europe/Berlin:20170904T230000
SUMMARY:ME L7 Gr 3\, Tours 1&2 Matran IV vs Domdidier III (0)
UID:6010be51-5514-5356-e053-1fc7a80a74f7
STATUS:CONFIRMED
LAST-MODIFIED:20170911T153440Z
DESCRIPTION:7ème ligue Hommes Groupe 3\, Tours 1&2\nBegegnungs-Nr: 0\nHeim: Matran IV\nGast: Domdidier III\n\nAdresse: Route de l'Ecole\, 1753 Matran\n
LOCATION:Route de l'Ecole\, 1753 Matran
CATEGORIES:Saison 2017/18
END:VEVENT
BEGIN:VEVENT
DTSTAMP:20260419T211312Z
DTSTART;TZID=Europe/Berlin:20171009T200000
DTEND;TZID=Europe/Berlin:20171009T230000
SUMMARY:ME L7 Gr 3\, Tours 1&2 Matran IV vs Marly III (0)
UID:6010be51-5549-5356-e053-1fc7a80a74f7
STATUS:CONFIRMED
LAST-MODIFIED:20171016T115556Z
DESCRIPTION:7ème ligue Hommes Groupe 3\, Tours 1&2\nBegegnungs-Nr: 0\nHeim: Matran IV\nGast: Marly III\n\nAdresse: Route de l'Ecole\, 1753 Matran\n
LOCATION:Route de l'Ecole\, 1753 Matran
CATEGORIES:Saison 2017/18
END:VEVENT
BEGIN:VEVENT
DTSTAMP:20260419T211312Z
DTSTART;TZID=Europe/Berlin:20171030T200000
DTEND;TZID=Europe/Berlin:20171030T230000
SUMMARY:ME L7 Gr 3\, Tours 1&2 Matran IV vs Ependes III (0)
UID:6010be51-554e-5356-e053-1fc7a80a74f7
STATUS:CONFIRMED
LAST-MODIFIED:20171106T094954Z
DESCRIPTION:7ème ligue Hommes Groupe 3\, Tours 1&2\nBegegnungs-Nr: 0\nHeim: Matran IV\nGast: Ependes III\n\nAdresse: Route de l'Ecole\, 1753 Matran\n
LOCATION:Route de l'Ecole\, 1753 Matran
CATEGORIES:Saison 2017/18
END:VEVENT
BEGIN:VEVENT
DTSTAMP:20260419T211312Z
DTSTART;TZID=Europe/Berlin:20171127T200000
DTEND;TZID=Europe/Berlin:20171127T230000
SUMMARY:ME L7 Gr 3\, Tours 1&2 Matran IV vs Fribourg X (0)
UID:6010be51-58ad-5356-e053-1fc7a80a74f7
STATUS:CONFIRMED
LAST-MODIFIED:20171205T152835Z
DESCRIPTION:7ème ligue Hommes Groupe 3\, Tours 1&2\nBegegnungs-Nr: 0\nHeim: Matran IV\nGast: Fribourg X\n\nAdresse: Route de l'Ecole\, 1753 Matran\n
LOCATION:Route de l'Ecole\, 1753 Matran
CATEGORIES:Saison 2017/18
END:VEVENT
BEGIN:VEVENT
DTSTAMP:20260419T211312Z
DTSTART;TZID=Europe/Berlin:20170925T200000
DTEND;TZID=Europe/Berlin:20170925T230000
SUMMARY:ME L7 Gr 3\, Tours 1&2 Matran IV vs Fribourg IX (0)
UID:6010be51-5940-5356-e053-1fc7a80a74f7
STATUS:CONFIRMED
LAST-MODIFIED:20171002T091023Z
DESCRIPTION:7ème ligue Hommes Groupe 3\, Tours 1&2\nBegegnungs-Nr: 0\nHeim: Matran IV\nGast: Fribourg IX\n\nAdresse: Route de l'Ecole\, 1753 Matran\n
LOCATION:Route de l'Ecole\, 1753 Matran
CATEGORIES:Saison 2017/18
END:VEVENT
BEGIN:VEVENT
DTSTAMP:20260419T211312Z
DTSTART;TZID=Europe/Berlin:20180423T200000
DTEND;TZID=Europe/Berlin:20180423T230000
SUMMARY:ME L7 Gr 3\, Tours 3&4 Matran IV vs Château d'Oex II (0)
UID:3a5b16f7-9cd8-47c2-820f-c6fac7e15a33
STATUS:CONFIRMED
LAST-MODIFIED:20180430T140728Z
DESCRIPTION:7ème ligue Hommes Groupe 3\, Tours 3&4\nBegegnungs-Nr: 0\nHeim: Matran IV\nGast: Château d'Oex II\n\nAdresse: Route de l'Ecole\, 1753 Matran\n
LOCATION:Route de l'Ecole\, 1753 Matran
CATEGORIES:Saison 2017/18
END:VEVENT
BEGIN:VEVENT
DTSTAMP:20260419T211312Z
DTSTART;TZID=Europe/Berlin:20180326T200000
DTEND;TZID=Europe/Berlin:20180326T230000
SUMMARY:ME L7 Gr 3\, Tours 3&4 Matran IV vs Fribourg IX (0)
UID:5dfa3d4d-f90d-4b62-b193-3e0661c64cd1
STATUS:CONFIRMED
LAST-MODIFIED:20180402T094615Z
DESCRIPTION:7ème ligue Hommes Groupe 3\, Tours 3&4\nBegegnungs-Nr: 0\nHeim: Matran IV\nGast: Fribourg IX\n\nAdresse: Route de l'Ecole\, 1753 Matran\n
LOCATION:Route de l'Ecole\, 1753 Matran
CATEGORIES:Saison 2017/18
END:VEVENT
BEGIN:VEVENT
DTSTAMP:20260419T211312Z
DTSTART;TZID=Europe/Berlin:20180430T200000
DTEND;TZID=Europe/Berlin:20180430T230000
SUMMARY:ME L7 Gr 3\, Tours 3&4 Matran IV vs Fribourg X (0)
UID:50719a55-c6a5-4f93-9259-e14a2a07136c
STATUS:CONFIRMED
LAST-MODIFIED:20180507T134459Z
DESCRIPTION:7ème ligue Hommes Groupe 3\, Tours 3&4\nBegegnungs-Nr: 0\nHeim: Matran IV\nGast: Fribourg X\n\nAdresse: Route de l'Ecole\, 1753 Matran\n
LOCATION:Route de l'Ecole\, 1753 Matran
CATEGORIES:Saison 2017/18
END:VEVENT
BEGIN:VEVENT
DTSTAMP:20260419T211312Z
DTSTART;TZID=Europe/Berlin:20180305T200000
DTEND;TZID=Europe/Berlin:20180305T230000
SUMMARY:ME L7 Gr 3\, Tours 3&4 Matran IV vs Matran III (0)
UID:cc6e9dff-2b6f-421b-ae3e-3e902f5faad5
STATUS:CONFIRMED
LAST-MODIFIED:20180312T103631Z
DESCRIPTION:7ème ligue Hommes Groupe 3\, Tours 3&4\nBegegnungs-Nr: 0\nHeim: Matran IV\nGast: Matran III\n\nAdresse: Route de l'Ecole\, 1753 Matran\n
LOCATION:Route de l'Ecole\, 1753 Matran
CATEGORIES:Saison 2017/18
END:VEVENT
BEGIN:VEVENT
DTSTAMP:20260419T211312Z
DTSTART;TZID=Europe/Berlin:20170829T193000
DTEND;TZID=Europe/Berlin:20170829T223000
SUMMARY:ME L7 Gr 3\, Tours 1&2 Marly III vs Matran IV (0)
UID:6010be51-5512-5356-e053-1fc7a80a74f7
STATUS:CONFIRMED
LAST-MODIFIED:20170911T150921Z
DESCRIPTION:7ème ligue Hommes Groupe 3\, Tours 1&2\nBegegnungs-Nr: 0\nHeim: Marly III\nGast: Matran IV\n\nAdresse: Grand Pré - Rte des Ecoles\, 1723 Marly\n
LOCATION:Grand Pré - Rte des Ecoles\, 1723 Marly
CATEGORIES:Saison 2017/18
END:VEVENT
BEGIN:VEVENT
DTSTAMP:20260419T211312Z
DTSTART;TZID=Europe/Berlin:20171013T200000
DTEND;TZID=Europe/Berlin:20171013T230000
SUMMARY:ME L7 Gr 3\, Tours 1&2 Domdidier III vs Matran IV (0)
UID:6010be51-554b-5356-e053-1fc7a80a74f7
STATUS:CONFIRMED
LAST-MODIFIED:20171019T112825Z
DESCRIPTION:7ème ligue Hommes Groupe 3\, Tours 1&2\nBegegnungs-Nr: 0\nHeim: Domdidier III\nGast: Matran IV\n\nAdresse: Pré-de-la-Cour\, 1564 Domdidier\n
LOCATION:Pré-de-la-Cour\, 1564 Domdidier
CATEGORIES:Saison 2017/18
END:VEVENT
BEGIN:VEVENT
DTSTAMP:20260419T211312Z
DTSTART;TZID=Europe/Berlin:20171116T191500
DTEND;TZID=Europe/Berlin:20171116T221500
SUMMARY:ME L7 Gr 3\, Tours 1&2 Fribourg IX vs Matran IV (0)
UID:6010be51-554f-5356-e053-1fc7a80a74f7
STATUS:CONFIRMED
LAST-MODIFIED:20171122T110219Z
DESCRIPTION:7ème ligue Hommes Groupe 3\, Tours 1&2\nBegegnungs-Nr: 0\nHeim: Fribourg IX\nGast: Matran IV\n\nAdresse: Avenue Général Guisan 61\, 1700 Fribourg\n
LOCATION:Avenue Général Guisan 61\, 1700 Fribourg
CATEGORIES:Saison 2017/18
END:VEVENT
BEGIN:VEVENT
DTSTAMP:20260419T211312Z
DTSTART;TZID=Europe/Berlin:20171006T191500
DTEND;TZID=Europe/Berlin:20171006T221500
SUMMARY:ME L7 Gr 3\, Tours 1&2 Fribourg X vs Matran IV (0)
UID:6010be51-58a4-5356-e053-1fc7a80a74f7
STATUS:CONFIRMED
LAST-MODIFIED:20171012T092635Z
DESCRIPTION:7ème ligue Hommes Groupe 3\, Tours 1&2\nBegegnungs-Nr: 0\nHeim: Fribourg X\nGast: Matran IV\n\nAdresse: Avenue Général Guisan 59\, 1700 Fribourg\n
LOCATION:Avenue Général Guisan 59\, 1700 Fribourg
CATEGORIES:Saison 2017/18
END:VEVENT
BEGIN:VEVENT
DTSTAMP:20260419T211312Z
DTSTART;TZID=Europe/Berlin:20170913T200000
DTEND;TZID=Europe/Berlin:20170913T230000
SUMMARY:ME L7 Gr 3\, Tours 1&2 Ependes III vs Matran IV (0)
UID:6010be51-593e-5356-e053-1fc7a80a74f7
STATUS:CONFIRMED
LAST-MODIFIED:20170919T050924Z
DESCRIPTION:7ème ligue Hommes Groupe 3\, Tours 1&2\nBegegnungs-Nr: 0\nHeim: Ependes III\nGast: Matran IV\n\nAdresse: -\, 1731 Ependes FR\n
LOCATION:-\, 1731 Ependes FR
CATEGORIES:Saison 2017/18
END:VEVENT
BEGIN:VEVENT
DTSTAMP:20260419T211312Z
DTSTART;TZID=Europe/Berlin:20180419T200000
DTEND;TZID=Europe/Berlin:20180419T230000
SUMMARY:ME L7 Gr 3\, Tours 3&4 Château d'Oex II vs Matran IV (0)
UID:f2b3d740-28a1-48e9-974e-08aefce4417a
STATUS:CONFIRMED
LAST-MODIFIED:20180425T151754Z
DESCRIPTION:7ème ligue Hommes Groupe 3\, Tours 3&4\nBegegnungs-Nr: 0\nHeim: Château d'Oex II\nGast: Matran IV\n\nAdresse: rte du Périsset 7\, 1660 Château d'Oex\n
LOCATION:rte du Périsset 7\, 1660 Château d'Oex
CATEGORIES:Saison 2017/18
END:VEVENT
BEGIN:VEVENT
DTSTAMP:20260419T211312Z
DTSTART;TZID=Europe/Berlin:20180329T191500
DTEND;TZID=Europe/Berlin:20180329T221500
SUMMARY:ME L7 Gr 3\, Tours 3&4 Fribourg IX vs Matran IV (0)
UID:27f11040-6c2d-4d7b-9e79-8b52dc992fb3
STATUS:CONFIRMED
LAST-MODIFIED:20180404T083528Z
DESCRIPTION:7ème ligue Hommes Groupe 3\, Tours 3&4\nBegegnungs-Nr: 0\nHeim: Fribourg IX\nGast: Matran IV\n\nAdresse: Avenue Général Guisan 61\, 1700 Fribourg\n
LOCATION:Avenue Général Guisan 61\, 1700 Fribourg
CATEGORIES:Saison 2017/18
END:VEVENT
BEGIN:VEVENT
DTSTAMP:20260419T211312Z
DTSTART;TZID=Europe/Berlin:20180223T191500
DTEND;TZID=Europe/Berlin:20180223T221500
SUMMARY:ME L7 Gr 3\, Tours 3&4 Fribourg X vs Matran IV (0)
UID:bf39d2b8-62b1-40cc-9f40-34cffdb84af4
STATUS:CONFIRMED
LAST-MODIFIED:20180301T152910Z
DESCRIPTION:7ème ligue Hommes Groupe 3\, Tours 3&4\nBegegnungs-Nr: 0\nHeim: Fribourg X\nGast: Matran IV\n\nAdresse: Avenue Général Guisan 59\, 1700 Fribourg\n
LOCATION:Avenue Général Guisan 59\, 1700 Fribourg
CATEGORIES:Saison 2017/18
END:VEVENT
BEGIN:VEVENT
DTSTAMP:20260419T211312Z
DTSTART;TZID=Europe/Berlin:20180115T200000
DTEND;TZID=Europe/Berlin:20180115T230000
SUMMARY:ME L7 Gr 3\, Tours 3&4 Matran III vs Matran IV (0)
UID:14791119-672a-4d96-8aec-4246a9017fb2
STATUS:CONFIRMED
LAST-MODIFIED:20180122T173004Z
DESCRIPTION:7ème ligue Hommes Groupe 3\, Tours 3&4\nBegegnungs-Nr: 0\nHeim: Matran III\nGast: Matran IV\n\nAdresse: Route de l'Ecole\, 1753 Matran\n
LOCATION:Route de l'Ecole\, 1753 Matran
CATEGORIES:Saison 2017/18
END:VEVENT
END:VCALENDAR
