BEGIN:VCALENDAR
PRODID:-//nuDatenautomaten//framework iCal4j //DE
VERSION:2.0
CALSCALE:GREGORIAN
BEGIN:VTIMEZONE
TZID:Europe/Berlin
LAST-MODIFIED:20260306T231828Z
TZURL:https://www.tzurl.org/zoneinfo/Europe/Berlin
X-LIC-LOCATION:Europe/Berlin
X-PROLEPTIC-TZNAME:LMT
BEGIN:STANDARD
TZNAME:CET
TZOFFSETFROM:+005328
TZOFFSETTO:+0100
DTSTART:18930401T000000
END:STANDARD
BEGIN:DAYLIGHT
TZNAME:CEST
TZOFFSETFROM:+0100
TZOFFSETTO:+0200
DTSTART:19160430T230000
RDATE:19400401T020000
RDATE:19430329T020000
RDATE:19460414T020000
RDATE:19470406T030000
RDATE:19480418T020000
RDATE:19490410T020000
RDATE:19800406T020000
END:DAYLIGHT
BEGIN:STANDARD
TZNAME:CET
TZOFFSETFROM:+0200
TZOFFSETTO:+0100
DTSTART:19161001T010000
RDATE:19421102T030000
RDATE:19431004T030000
RDATE:19441002T030000
RDATE:19451118T030000
RDATE:19461007T030000
END:STANDARD
BEGIN:DAYLIGHT
TZNAME:CEST
TZOFFSETFROM:+0100
TZOFFSETTO:+0200
DTSTART:19170416T020000
RRULE:FREQ=YEARLY;UNTIL=19180415T010000Z;BYMONTH=4;BYDAY=3MO
END:DAYLIGHT
BEGIN:STANDARD
TZNAME:CET
TZOFFSETFROM:+0200
TZOFFSETTO:+0100
DTSTART:19170917T030000
RRULE:FREQ=YEARLY;UNTIL=19180916T010000Z;BYMONTH=9;BYDAY=3MO
END:STANDARD
BEGIN:DAYLIGHT
TZNAME:CEST
TZOFFSETFROM:+0100
TZOFFSETTO:+0200
DTSTART:19440403T020000
RRULE:FREQ=YEARLY;UNTIL=19450402T010000Z;BYMONTH=4;BYDAY=1MO
END:DAYLIGHT
BEGIN:DAYLIGHT
TZNAME:CEMT
TZOFFSETFROM:+0200
TZOFFSETTO:+0300
DTSTART:19450524T020000
RDATE:19470511T030000
END:DAYLIGHT
BEGIN:DAYLIGHT
TZNAME:CEST
TZOFFSETFROM:+0300
TZOFFSETTO:+0200
DTSTART:19450924T030000
RDATE:19470629T030000
END:DAYLIGHT
BEGIN:STANDARD
TZNAME:CET
TZOFFSETFROM:+0100
TZOFFSETTO:+0100
DTSTART:19460101T000000
RDATE:19800101T000000
END:STANDARD
BEGIN:STANDARD
TZNAME:CET
TZOFFSETFROM:+0200
TZOFFSETTO:+0100
DTSTART:19471005T030000
RRULE:FREQ=YEARLY;UNTIL=19491002T010000Z;BYMONTH=10;BYDAY=1SU
END:STANDARD
BEGIN:STANDARD
TZNAME:CET
TZOFFSETFROM:+0200
TZOFFSETTO:+0100
DTSTART:19800928T030000
RRULE:FREQ=YEARLY;UNTIL=19950924T010000Z;BYMONTH=9;BYDAY=-1SU
END:STANDARD
BEGIN:DAYLIGHT
TZNAME:CEST
TZOFFSETFROM:+0100
TZOFFSETTO:+0200
DTSTART:19810329T020000
RRULE:FREQ=YEARLY;BYMONTH=3;BYDAY=-1SU
END:DAYLIGHT
BEGIN:STANDARD
TZNAME:CET
TZOFFSETFROM:+0200
TZOFFSETTO:+0100
DTSTART:19961027T030000
RRULE:FREQ=YEARLY;BYMONTH=10;BYDAY=-1SU
END:STANDARD
END:VTIMEZONE
BEGIN:VEVENT
DTSTAMP:20260424T164556Z
DTSTART;TZID=Europe/Berlin:20180323T194500
DTEND;TZID=Europe/Berlin:20180323T224500
SUMMARY:L2P2 Tramelan vs Cortaillod III (0)
UID:e84af79d-9198-4620-b595-4b4d58df8821
STATUS:CONFIRMED
LAST-MODIFIED:20180327T075831Z
DESCRIPTION:2ème ligue phase 2\nBegegnungs-Nr: 0\nHeim: Tramelan\nGast: Cortaillod III\n\nAdresse: Rue du Collège 13\, 2720 Tramelan\n
LOCATION:Rue du Collège 13\, 2720 Tramelan
CATEGORIES:Saison 2017/18
END:VEVENT
BEGIN:VEVENT
DTSTAMP:20260424T164556Z
DTSTART;TZID=Europe/Berlin:20170830T194500
DTEND;TZID=Europe/Berlin:20170830T224500
SUMMARY:L2P1G2 Tramelan vs Omega (0)
UID:6010be51-4bbe-5356-e053-1fc7a80a74f7
STATUS:CONFIRMED
LAST-MODIFIED:20170903T110154Z
DESCRIPTION:2ème ligue phase 1 groupe 2\nBegegnungs-Nr: 0\nHeim: Tramelan\nGast: Omega\n\nAdresse: Rue du Collège 13\, 2720 Tramelan\n
LOCATION:Rue du Collège 13\, 2720 Tramelan
CATEGORIES:Saison 2017/18
END:VEVENT
BEGIN:VEVENT
DTSTAMP:20260424T164556Z
DTSTART;TZID=Europe/Berlin:20170927T194500
DTEND;TZID=Europe/Berlin:20170927T224500
SUMMARY:L2P1G2 Tramelan vs Porrentruy (0)
UID:6010be51-4bc4-5356-e053-1fc7a80a74f7
STATUS:CONFIRMED
LAST-MODIFIED:20171001T090205Z
DESCRIPTION:2ème ligue phase 1 groupe 2\nBegegnungs-Nr: 0\nHeim: Tramelan\nGast: Porrentruy\n\nAdresse: Rue du Collège 13\, 2720 Tramelan\n
LOCATION:Rue du Collège 13\, 2720 Tramelan
CATEGORIES:Saison 2017/18
END:VEVENT
BEGIN:VEVENT
DTSTAMP:20260424T164556Z
DTSTART;TZID=Europe/Berlin:20171124T194500
DTEND;TZID=Europe/Berlin:20171124T224500
SUMMARY:L2P1G2 Tramelan vs Delémont IV (0)
UID:6010be51-4c00-5356-e053-1fc7a80a74f7
STATUS:CONFIRMED
LAST-MODIFIED:20171127T123949Z
DESCRIPTION:2ème ligue phase 1 groupe 2\nBegegnungs-Nr: 0\nHeim: Tramelan\nGast: Delémont IV\n\nAdresse: Rue du Collège 13\, 2720 Tramelan\n
LOCATION:Rue du Collège 13\, 2720 Tramelan
CATEGORIES:Saison 2017/18
END:VEVENT
BEGIN:VEVENT
DTSTAMP:20260424T164556Z
DTSTART;TZID=Europe/Berlin:20180420T194500
DTEND;TZID=Europe/Berlin:20180420T224500
SUMMARY:L2P2 Tramelan vs La Chaux-de-Fonds III (0)
UID:8c389ed2-0269-4cc4-afb7-d55e7e3a195e
STATUS:CONFIRMED
LAST-MODIFIED:20180423T083557Z
DESCRIPTION:2ème ligue phase 2\nBegegnungs-Nr: 0\nHeim: Tramelan\nGast: La Chaux-de-Fonds III\n\nAdresse: Rue du Collège 13\, 2720 Tramelan\n
LOCATION:Rue du Collège 13\, 2720 Tramelan
CATEGORIES:Saison 2017/18
END:VEVENT
BEGIN:VEVENT
DTSTAMP:20260424T164556Z
DTSTART;TZID=Europe/Berlin:20180126T194500
DTEND;TZID=Europe/Berlin:20180126T224500
SUMMARY:L2P2 Tramelan vs Moutier (0)
UID:8df54638-5ee8-48a8-b54b-b0a1a72bdfa3
STATUS:CONFIRMED
LAST-MODIFIED:20180129T104152Z
DESCRIPTION:2ème ligue phase 2\nBegegnungs-Nr: 0\nHeim: Tramelan\nGast: Moutier\n\nAdresse: Rue du Collège 13\, 2720 Tramelan\n
LOCATION:Rue du Collège 13\, 2720 Tramelan
CATEGORIES:Saison 2017/18
END:VEVENT
BEGIN:VEVENT
DTSTAMP:20260424T164556Z
DTSTART;TZID=Europe/Berlin:20180221T194500
DTEND;TZID=Europe/Berlin:20180221T224500
SUMMARY:L2P2 Tramelan vs Le Locle (0)
UID:6bb2cd58-eede-40bd-b837-2e267f7ee07b
STATUS:CONFIRMED
LAST-MODIFIED:20180223T101443Z
DESCRIPTION:2ème ligue phase 2\nBegegnungs-Nr: 0\nHeim: Tramelan\nGast: Le Locle\n\nAdresse: Rue du Collège 13\, 2720 Tramelan\n
LOCATION:Rue du Collège 13\, 2720 Tramelan
CATEGORIES:Saison 2017/18
END:VEVENT
BEGIN:VEVENT
DTSTAMP:20260424T164556Z
DTSTART;TZID=Europe/Berlin:20180309T201500
DTEND;TZID=Europe/Berlin:20180309T231500
SUMMARY:L2P2 Nugerol-Le Landeron vs Tramelan (0)
UID:a1bbc72b-d6eb-488f-97eb-ad00d6db2bd5
STATUS:CONFIRMED
LAST-MODIFIED:20180310T190101Z
DESCRIPTION:2ème ligue phase 2\nBegegnungs-Nr: 0\nHeim: Nugerol-Le Landeron\nGast: Tramelan\n\nAdresse: Allée du 700e\, 2525 Le Landeron\n
LOCATION:Allée du 700e\, 2525 Le Landeron
CATEGORIES:Saison 2017/18
END:VEVENT
BEGIN:VEVENT
DTSTAMP:20260424T164556Z
DTSTART;TZID=Europe/Berlin:20180223T193000
DTEND;TZID=Europe/Berlin:20180223T223000
SUMMARY:L2P2 Cernier II vs Tramelan (0)
UID:1fc59bc2-1121-4b4e-a28d-c8c366a7b274
STATUS:CONFIRMED
LAST-MODIFIED:20180225T151821Z
DESCRIPTION:2ème ligue phase 2\nBegegnungs-Nr: 0\nHeim: Cernier II\nGast: Tramelan\n\nAdresse: Rue de Chasseral 3\, 2053 Cernier\n
LOCATION:Rue de Chasseral 3\, 2053 Cernier
CATEGORIES:Saison 2017/18
END:VEVENT
BEGIN:VEVENT
DTSTAMP:20260424T164556Z
DTSTART;TZID=Europe/Berlin:20170915T201500
DTEND;TZID=Europe/Berlin:20170915T231500
SUMMARY:L2P1G2 Côte Peseux II vs Tramelan (0)
UID:6010be51-4bc2-5356-e053-1fc7a80a74f7
STATUS:CONFIRMED
LAST-MODIFIED:20170917T104725Z
DESCRIPTION:2ème ligue phase 1 groupe 2\nBegegnungs-Nr: 0\nHeim: Côte Peseux II\nGast: Tramelan\n\nAdresse: Allée du 700e\, 2525 Le Landeron\n
LOCATION:Allée du 700e\, 2525 Le Landeron
CATEGORIES:Saison 2017/18
END:VEVENT
BEGIN:VEVENT
DTSTAMP:20260424T164556Z
DTSTART;TZID=Europe/Berlin:20171009T193000
DTEND;TZID=Europe/Berlin:20171009T223000
SUMMARY:L2P1G2 Hauterive vs Tramelan (0)
UID:6010be51-4bfc-5356-e053-1fc7a80a74f7
STATUS:CONFIRMED
LAST-MODIFIED:20171011T071521Z
DESCRIPTION:2ème ligue phase 1 groupe 2\nBegegnungs-Nr: 0\nHeim: Hauterive\nGast: Tramelan\n\nAdresse: Rue des Longschamps 10\, 2068 Hauterive NE\n
LOCATION:Rue des Longschamps 10\, 2068 Hauterive NE
CATEGORIES:Saison 2017/18
END:VEVENT
BEGIN:VEVENT
DTSTAMP:20260424T164556Z
DTSTART;TZID=Europe/Berlin:20171215T200000
DTEND;TZID=Europe/Berlin:20171215T230000
SUMMARY:L2P1G2 Le Locle vs Tramelan (0)
UID:6010be51-4c05-5356-e053-1fc7a80a74f7
STATUS:CONFIRMED
LAST-MODIFIED:20171217T171014Z
DESCRIPTION:2ème ligue phase 1 groupe 2\nBegegnungs-Nr: 0\nHeim: Le Locle\nGast: Tramelan\n\nAdresse: Rue Girardet 9\, 2400 Le Locle\n
LOCATION:Rue Girardet 9\, 2400 Le Locle
CATEGORIES:Saison 2017/18
END:VEVENT
BEGIN:VEVENT
DTSTAMP:20260424T164556Z
DTSTART;TZID=Europe/Berlin:20171201T200000
DTEND;TZID=Europe/Berlin:20171201T230000
SUMMARY:L2P1G2 La Chaux-de-Fonds V vs Tramelan (0)
UID:6010be51-5ab1-5356-e053-1fc7a80a74f7
STATUS:CONFIRMED
LAST-MODIFIED:20171202T101040Z
DESCRIPTION:2ème ligue phase 1 groupe 2\nBegegnungs-Nr: 0\nHeim: La Chaux-de-Fonds V\nGast: Tramelan\n\nAdresse: Rue du Docteur-Kern 14\, 2300 La Chaux-de-Fonds\n
LOCATION:Rue du Docteur-Kern 14\, 2300 La Chaux-de-Fonds
CATEGORIES:Saison 2017/18
END:VEVENT
BEGIN:VEVENT
DTSTAMP:20260424T164556Z
DTSTART;TZID=Europe/Berlin:20180403T200000
DTEND;TZID=Europe/Berlin:20180403T230000
SUMMARY:L2P2 Omega vs Tramelan (0)
UID:68ac495e-260c-4e87-a54c-a16ea697dc95
STATUS:CONFIRMED
LAST-MODIFIED:20180407T060754Z
DESCRIPTION:2ème ligue phase 2\nBegegnungs-Nr: 0\nHeim: Omega\nGast: Tramelan\n\nAdresse: Tennisweg 1\, 2504 Biel-Bienne\n
LOCATION:Tennisweg 1\, 2504 Biel-Bienne
CATEGORIES:Saison 2017/18
END:VEVENT
BEGIN:VEVENT
DTSTAMP:20260424T164556Z
DTSTART;TZID=Europe/Berlin:20180209T201500
DTEND;TZID=Europe/Berlin:20180209T231500
SUMMARY:L2P2 Delémont III vs Tramelan (0)
UID:aa58e534-11fe-4dc4-b18e-32e829add55a
STATUS:CONFIRMED
LAST-MODIFIED:20180210T063804Z
DESCRIPTION:2ème ligue phase 2\nBegegnungs-Nr: 0\nHeim: Delémont III\nGast: Tramelan\n\nAdresse: Rue de la Blancherie 4\, 2800 Delémont\n
LOCATION:Rue de la Blancherie 4\, 2800 Delémont
CATEGORIES:Saison 2017/18
END:VEVENT
END:VCALENDAR
