BEGIN:VCALENDAR
PRODID:-//nuDatenautomaten//framework iCal4j //DE
VERSION:2.0
CALSCALE:GREGORIAN
BEGIN:VTIMEZONE
TZID:Europe/Berlin
LAST-MODIFIED:20260306T231828Z
TZURL:https://www.tzurl.org/zoneinfo/Europe/Berlin
X-LIC-LOCATION:Europe/Berlin
X-PROLEPTIC-TZNAME:LMT
BEGIN:STANDARD
TZNAME:CET
TZOFFSETFROM:+005328
TZOFFSETTO:+0100
DTSTART:18930401T000000
END:STANDARD
BEGIN:DAYLIGHT
TZNAME:CEST
TZOFFSETFROM:+0100
TZOFFSETTO:+0200
DTSTART:19160430T230000
RDATE:19400401T020000
RDATE:19430329T020000
RDATE:19460414T020000
RDATE:19470406T030000
RDATE:19480418T020000
RDATE:19490410T020000
RDATE:19800406T020000
END:DAYLIGHT
BEGIN:STANDARD
TZNAME:CET
TZOFFSETFROM:+0200
TZOFFSETTO:+0100
DTSTART:19161001T010000
RDATE:19421102T030000
RDATE:19431004T030000
RDATE:19441002T030000
RDATE:19451118T030000
RDATE:19461007T030000
END:STANDARD
BEGIN:DAYLIGHT
TZNAME:CEST
TZOFFSETFROM:+0100
TZOFFSETTO:+0200
DTSTART:19170416T020000
RRULE:FREQ=YEARLY;UNTIL=19180415T010000Z;BYMONTH=4;BYDAY=3MO
END:DAYLIGHT
BEGIN:STANDARD
TZNAME:CET
TZOFFSETFROM:+0200
TZOFFSETTO:+0100
DTSTART:19170917T030000
RRULE:FREQ=YEARLY;UNTIL=19180916T010000Z;BYMONTH=9;BYDAY=3MO
END:STANDARD
BEGIN:DAYLIGHT
TZNAME:CEST
TZOFFSETFROM:+0100
TZOFFSETTO:+0200
DTSTART:19440403T020000
RRULE:FREQ=YEARLY;UNTIL=19450402T010000Z;BYMONTH=4;BYDAY=1MO
END:DAYLIGHT
BEGIN:DAYLIGHT
TZNAME:CEMT
TZOFFSETFROM:+0200
TZOFFSETTO:+0300
DTSTART:19450524T020000
RDATE:19470511T030000
END:DAYLIGHT
BEGIN:DAYLIGHT
TZNAME:CEST
TZOFFSETFROM:+0300
TZOFFSETTO:+0200
DTSTART:19450924T030000
RDATE:19470629T030000
END:DAYLIGHT
BEGIN:STANDARD
TZNAME:CET
TZOFFSETFROM:+0100
TZOFFSETTO:+0100
DTSTART:19460101T000000
RDATE:19800101T000000
END:STANDARD
BEGIN:STANDARD
TZNAME:CET
TZOFFSETFROM:+0200
TZOFFSETTO:+0100
DTSTART:19471005T030000
RRULE:FREQ=YEARLY;UNTIL=19491002T010000Z;BYMONTH=10;BYDAY=1SU
END:STANDARD
BEGIN:STANDARD
TZNAME:CET
TZOFFSETFROM:+0200
TZOFFSETTO:+0100
DTSTART:19800928T030000
RRULE:FREQ=YEARLY;UNTIL=19950924T010000Z;BYMONTH=9;BYDAY=-1SU
END:STANDARD
BEGIN:DAYLIGHT
TZNAME:CEST
TZOFFSETFROM:+0100
TZOFFSETTO:+0200
DTSTART:19810329T020000
RRULE:FREQ=YEARLY;BYMONTH=3;BYDAY=-1SU
END:DAYLIGHT
BEGIN:STANDARD
TZNAME:CET
TZOFFSETFROM:+0200
TZOFFSETTO:+0100
DTSTART:19961027T030000
RRULE:FREQ=YEARLY;BYMONTH=10;BYDAY=-1SU
END:STANDARD
END:VTIMEZONE
BEGIN:VEVENT
DTSTAMP:20260424T175745Z
DTSTART;TZID=Europe/Berlin:20171117T194500
DTEND;TZID=Europe/Berlin:20171117T224500
SUMMARY:1. Divisione Tenero II vs Lugano III (11)
UID:6010be51-496a-5356-e053-1fc7a80a74f7
STATUS:CONFIRMED
LAST-MODIFIED:20171118T164109Z
DESCRIPTION:1. Divisione\nBegegnungs-Nr: 11\nHeim: Tenero II\nGast: Lugano III\n
LOCATION:
CATEGORIES:Saison 2017/18
END:VEVENT
BEGIN:VEVENT
DTSTAMP:20260424T175745Z
DTSTART;TZID=Europe/Berlin:20180112T194500
DTEND;TZID=Europe/Berlin:20180112T224500
SUMMARY:1. Divisione Tenero II vs Locarno II (21)
UID:6010be51-52f0-5356-e053-1fc7a80a74f7
STATUS:CONFIRMED
LAST-MODIFIED:20180114T223007Z
DESCRIPTION:1. Divisione\nBegegnungs-Nr: 21\nHeim: Tenero II\nGast: Locarno II\n
LOCATION:
CATEGORIES:Saison 2017/18
END:VEVENT
BEGIN:VEVENT
DTSTAMP:20260424T175745Z
DTSTART;TZID=Europe/Berlin:20171201T194500
DTEND;TZID=Europe/Berlin:20171201T224500
SUMMARY:1. Divisione Tenero II vs Riva S.Vitale (14)
UID:6010be51-576c-5356-e053-1fc7a80a74f7
STATUS:CONFIRMED
LAST-MODIFIED:20171203T164945Z
DESCRIPTION:1. Divisione\nBegegnungs-Nr: 14\nHeim: Tenero II\nGast: Riva S.Vitale\n
LOCATION:
CATEGORIES:Saison 2017/18
END:VEVENT
BEGIN:VEVENT
DTSTAMP:20260424T175745Z
DTSTART;TZID=Europe/Berlin:20170922T194500
DTEND;TZID=Europe/Berlin:20170922T224500
SUMMARY:1. Divisione Tenero II vs Tenero III (3)
UID:6010be51-4cab-5356-e053-1fc7a80a74f7
STATUS:CONFIRMED
LAST-MODIFIED:20170922T220716Z
DESCRIPTION:1. Divisione\nBegegnungs-Nr: 3\nHeim: Tenero II\nGast: Tenero III\n
LOCATION:
CATEGORIES:Saison 2017/18
END:VEVENT
BEGIN:VEVENT
DTSTAMP:20260424T175745Z
DTSTART;TZID=Europe/Berlin:20180126T194500
DTEND;TZID=Europe/Berlin:20180126T224500
SUMMARY:1. Divisione Tenero II vs Locarno (22)
UID:6010be51-52f1-5356-e053-1fc7a80a74f7
STATUS:CONFIRMED
LAST-MODIFIED:20180130T210800Z
DESCRIPTION:1. Divisione\nBegegnungs-Nr: 22\nHeim: Tenero II\nGast: Locarno\n
LOCATION:
CATEGORIES:Saison 2017/18
END:VEVENT
BEGIN:VEVENT
DTSTAMP:20260424T175745Z
DTSTART;TZID=Europe/Berlin:20171215T194500
DTEND;TZID=Europe/Berlin:20171215T224500
SUMMARY:1. Divisione Tenero III vs Tenero II (18)
UID:6010be51-52ed-5356-e053-1fc7a80a74f7
STATUS:CONFIRMED
LAST-MODIFIED:20171218T092625Z
DESCRIPTION:1. Divisione\nBegegnungs-Nr: 18\nHeim: Tenero III\nGast: Tenero II\n
LOCATION:
CATEGORIES:Saison 2017/18
END:VEVENT
BEGIN:VEVENT
DTSTAMP:20260424T175745Z
DTSTART;TZID=Europe/Berlin:20180302T201500
DTEND;TZID=Europe/Berlin:20180302T231500
SUMMARY:1. Divisione Lugano III vs Tenero II (26)
UID:6010be51-52f5-5356-e053-1fc7a80a74f7
STATUS:CONFIRMED
LAST-MODIFIED:20180303T104252Z
DESCRIPTION:1. Divisione\nBegegnungs-Nr: 26\nHeim: Lugano III\nGast: Tenero II\n
LOCATION:
CATEGORIES:Saison 2017/18
END:VEVENT
BEGIN:VEVENT
DTSTAMP:20260424T175745Z
DTSTART;TZID=Europe/Berlin:20180316T203000
DTEND;TZID=Europe/Berlin:20180316T233000
SUMMARY:1. Divisione Riva S.Vitale vs Tenero II (29)
UID:6010be51-52f8-5356-e053-1fc7a80a74f7
STATUS:CONFIRMED
LAST-MODIFIED:20180319T094331Z
DESCRIPTION:1. Divisione\nBegegnungs-Nr: 29\nHeim: Riva S.Vitale\nGast: Tenero II\n
LOCATION:
CATEGORIES:Saison 2017/18
END:VEVENT
BEGIN:VEVENT
DTSTAMP:20260424T175745Z
DTSTART;TZID=Europe/Berlin:20171004T201500
DTEND;TZID=Europe/Berlin:20171004T231500
SUMMARY:1. Divisione Locarno II vs Tenero II (6)
UID:6010be51-4d74-5356-e053-1fc7a80a74f7
STATUS:CONFIRMED
LAST-MODIFIED:20171005T060707Z
DESCRIPTION:1. Divisione\nBegegnungs-Nr: 6\nHeim: Locarno II\nGast: Tenero II\n
LOCATION:
CATEGORIES:Saison 2017/18
END:VEVENT
BEGIN:VEVENT
DTSTAMP:20260424T175745Z
DTSTART;TZID=Europe/Berlin:20171013T201500
DTEND;TZID=Europe/Berlin:20171013T231500
SUMMARY:1. Divisione Locarno vs Tenero II (7)
UID:6010be51-4d78-5356-e053-1fc7a80a74f7
STATUS:CONFIRMED
LAST-MODIFIED:20171014T130702Z
DESCRIPTION:1. Divisione\nBegegnungs-Nr: 7\nHeim: Locarno\nGast: Tenero II\n
LOCATION:
CATEGORIES:Saison 2017/18
END:VEVENT
BEGIN:VEVENT
DTSTAMP:20260424T175745Z
DTSTART;TZID=Europe/Berlin:20180505T160000
DTEND;TZID=Europe/Berlin:20180505T190000
SUMMARY:Aufstieg NLC Gr. C Vernier vs Tenero II (5)
UID:2a5895bd-c29d-4c69-8165-ad1b7ae873bf
STATUS:CONFIRMED
LAST-MODIFIED:20180507T085622Z
DESCRIPTION:Aufstieg NLC Gruppe C\nBegegnungs-Nr: 5\nHeim: Vernier\nGast: Tenero II\n
LOCATION:
CATEGORIES:Saison 2017/18
END:VEVENT
BEGIN:VEVENT
DTSTAMP:20260424T175745Z
DTSTART;TZID=Europe/Berlin:20180505T133000
DTEND;TZID=Europe/Berlin:20180505T163000
SUMMARY:Aufstieg NLC Gr. C Lausanne vs Tenero II (4)
UID:ab7688a6-cab7-4cf4-82dd-332dc599c08a
STATUS:CONFIRMED
LAST-MODIFIED:20180507T085554Z
DESCRIPTION:Aufstieg NLC Gruppe C\nBegegnungs-Nr: 4\nHeim: Lausanne\nGast: Tenero II\n
LOCATION:
CATEGORIES:Saison 2017/18
END:VEVENT
BEGIN:VEVENT
DTSTAMP:20260424T175745Z
DTSTART;TZID=Europe/Berlin:20180505T103000
DTEND;TZID=Europe/Berlin:20180505T133000
SUMMARY:Aufstieg NLC Gr. C Lenzburg vs Tenero II (2)
UID:e142e159-c597-4363-8e73-01826967830e
STATUS:CONFIRMED
LAST-MODIFIED:20180507T085456Z
DESCRIPTION:Aufstieg NLC Gruppe C\nBegegnungs-Nr: 2\nHeim: Lenzburg\nGast: Tenero II\n
LOCATION:
CATEGORIES:Saison 2017/18
END:VEVENT
END:VCALENDAR
