BEGIN:VCALENDAR
PRODID:-//nuDatenautomaten//framework iCal4j //DE
VERSION:2.0
CALSCALE:GREGORIAN
BEGIN:VTIMEZONE
TZID:Europe/Berlin
LAST-MODIFIED:20260306T231828Z
TZURL:https://www.tzurl.org/zoneinfo/Europe/Berlin
X-LIC-LOCATION:Europe/Berlin
X-PROLEPTIC-TZNAME:LMT
BEGIN:STANDARD
TZNAME:CET
TZOFFSETFROM:+005328
TZOFFSETTO:+0100
DTSTART:18930401T000000
END:STANDARD
BEGIN:DAYLIGHT
TZNAME:CEST
TZOFFSETFROM:+0100
TZOFFSETTO:+0200
DTSTART:19160430T230000
RDATE:19400401T020000
RDATE:19430329T020000
RDATE:19460414T020000
RDATE:19470406T030000
RDATE:19480418T020000
RDATE:19490410T020000
RDATE:19800406T020000
END:DAYLIGHT
BEGIN:STANDARD
TZNAME:CET
TZOFFSETFROM:+0200
TZOFFSETTO:+0100
DTSTART:19161001T010000
RDATE:19421102T030000
RDATE:19431004T030000
RDATE:19441002T030000
RDATE:19451118T030000
RDATE:19461007T030000
END:STANDARD
BEGIN:DAYLIGHT
TZNAME:CEST
TZOFFSETFROM:+0100
TZOFFSETTO:+0200
DTSTART:19170416T020000
RRULE:FREQ=YEARLY;UNTIL=19180415T010000Z;BYMONTH=4;BYDAY=3MO
END:DAYLIGHT
BEGIN:STANDARD
TZNAME:CET
TZOFFSETFROM:+0200
TZOFFSETTO:+0100
DTSTART:19170917T030000
RRULE:FREQ=YEARLY;UNTIL=19180916T010000Z;BYMONTH=9;BYDAY=3MO
END:STANDARD
BEGIN:DAYLIGHT
TZNAME:CEST
TZOFFSETFROM:+0100
TZOFFSETTO:+0200
DTSTART:19440403T020000
RRULE:FREQ=YEARLY;UNTIL=19450402T010000Z;BYMONTH=4;BYDAY=1MO
END:DAYLIGHT
BEGIN:DAYLIGHT
TZNAME:CEMT
TZOFFSETFROM:+0200
TZOFFSETTO:+0300
DTSTART:19450524T020000
RDATE:19470511T030000
END:DAYLIGHT
BEGIN:DAYLIGHT
TZNAME:CEST
TZOFFSETFROM:+0300
TZOFFSETTO:+0200
DTSTART:19450924T030000
RDATE:19470629T030000
END:DAYLIGHT
BEGIN:STANDARD
TZNAME:CET
TZOFFSETFROM:+0100
TZOFFSETTO:+0100
DTSTART:19460101T000000
RDATE:19800101T000000
END:STANDARD
BEGIN:STANDARD
TZNAME:CET
TZOFFSETFROM:+0200
TZOFFSETTO:+0100
DTSTART:19471005T030000
RRULE:FREQ=YEARLY;UNTIL=19491002T010000Z;BYMONTH=10;BYDAY=1SU
END:STANDARD
BEGIN:STANDARD
TZNAME:CET
TZOFFSETFROM:+0200
TZOFFSETTO:+0100
DTSTART:19800928T030000
RRULE:FREQ=YEARLY;UNTIL=19950924T010000Z;BYMONTH=9;BYDAY=-1SU
END:STANDARD
BEGIN:DAYLIGHT
TZNAME:CEST
TZOFFSETFROM:+0100
TZOFFSETTO:+0200
DTSTART:19810329T020000
RRULE:FREQ=YEARLY;BYMONTH=3;BYDAY=-1SU
END:DAYLIGHT
BEGIN:STANDARD
TZNAME:CET
TZOFFSETFROM:+0200
TZOFFSETTO:+0100
DTSTART:19961027T030000
RRULE:FREQ=YEARLY;BYMONTH=10;BYDAY=-1SU
END:STANDARD
END:VTIMEZONE
BEGIN:VEVENT
DTSTAMP:20260424T175829Z
DTSTART;TZID=Europe/Berlin:20170921T201500
DTEND;TZID=Europe/Berlin:20170921T231500
SUMMARY:HE 5. Liga Gr. 2 Schmitten II vs Düdingen III (12)
UID:6010be51-447d-5356-e053-1fc7a80a74f7
STATUS:CONFIRMED
LAST-MODIFIED:20170923T092040Z
DESCRIPTION:5. Liga Herren Gruppe 2\nBegegnungs-Nr: 12\nHeim: Schmitten II\nGast: Düdingen III\n
LOCATION:
CATEGORIES:Saison 2017/18
END:VEVENT
BEGIN:VEVENT
DTSTAMP:20260424T175829Z
DTSTART;TZID=Europe/Berlin:20180322T201500
DTEND;TZID=Europe/Berlin:20180322T231500
SUMMARY:HE 5. Liga Gr. 2 Schmitten II vs Wohlensee IV (26)
UID:6010be51-4484-5356-e053-1fc7a80a74f7
STATUS:CONFIRMED
LAST-MODIFIED:20180323T171543Z
DESCRIPTION:5. Liga Herren Gruppe 2\nBegegnungs-Nr: 26\nHeim: Schmitten II\nGast: Wohlensee IV\n
LOCATION:
CATEGORIES:Saison 2017/18
END:VEVENT
BEGIN:VEVENT
DTSTAMP:20260424T175829Z
DTSTART;TZID=Europe/Berlin:20180301T201500
DTEND;TZID=Europe/Berlin:20180301T231500
SUMMARY:HE 5. Liga Gr. 2 Schmitten II vs Bern VIII (17)
UID:6010be51-448c-5356-e053-1fc7a80a74f7
STATUS:CONFIRMED
LAST-MODIFIED:20180302T202144Z
DESCRIPTION:5. Liga Herren Gruppe 2\nBegegnungs-Nr: 17\nHeim: Schmitten II\nGast: Bern VIII\n
LOCATION:
CATEGORIES:Saison 2017/18
END:VEVENT
BEGIN:VEVENT
DTSTAMP:20260424T175829Z
DTSTART;TZID=Europe/Berlin:20180208T201500
DTEND;TZID=Europe/Berlin:20180208T231500
SUMMARY:HE 5. Liga Gr. 2 Schmitten II vs Thörishaus III (16)
UID:6010be51-44bb-5356-e053-1fc7a80a74f7
STATUS:CONFIRMED
LAST-MODIFIED:20180210T092227Z
DESCRIPTION:5. Liga Herren Gruppe 2\nBegegnungs-Nr: 16\nHeim: Schmitten II\nGast: Thörishaus III\n
LOCATION:
CATEGORIES:Saison 2017/18
END:VEVENT
BEGIN:VEVENT
DTSTAMP:20260424T175829Z
DTSTART;TZID=Europe/Berlin:20171214T201500
DTEND;TZID=Europe/Berlin:20171214T231500
SUMMARY:HE 5. Liga Gr. 2 Schmitten II vs Schwarzenburg II (8)
UID:6010be51-44c5-5356-e053-1fc7a80a74f7
STATUS:CONFIRMED
LAST-MODIFIED:20171215T173236Z
DESCRIPTION:5. Liga Herren Gruppe 2\nBegegnungs-Nr: 8\nHeim: Schmitten II\nGast: Schwarzenburg II\n
LOCATION:
CATEGORIES:Saison 2017/18
END:VEVENT
BEGIN:VEVENT
DTSTAMP:20260424T175829Z
DTSTART;TZID=Europe/Berlin:20170831T201500
DTEND;TZID=Europe/Berlin:20170831T231500
SUMMARY:HE 5. Liga Gr. 2 Schmitten II vs Ittigen III (4)
UID:6010be51-4415-5356-e053-1fc7a80a74f7
STATUS:CONFIRMED
LAST-MODIFIED:20170903T120116Z
DESCRIPTION:5. Liga Herren Gruppe 2\nBegegnungs-Nr: 4\nHeim: Schmitten II\nGast: Ittigen III\n
LOCATION:
CATEGORIES:Saison 2017/18
END:VEVENT
BEGIN:VEVENT
DTSTAMP:20260424T175829Z
DTSTART;TZID=Europe/Berlin:20171123T201500
DTEND;TZID=Europe/Berlin:20171123T231500
SUMMARY:HE 5. Liga Gr. 2 Schmitten II vs Köniz VII (22)
UID:6010be51-5c5f-5356-e053-1fc7a80a74f7
STATUS:CONFIRMED
LAST-MODIFIED:20171125T063701Z
DESCRIPTION:5. Liga Herren Gruppe 2\nBegegnungs-Nr: 22\nHeim: Schmitten II\nGast: Köniz VII\n
LOCATION:
CATEGORIES:Saison 2017/18
END:VEVENT
BEGIN:VEVENT
DTSTAMP:20260424T175829Z
DTSTART;TZID=Europe/Berlin:20171207T194500
DTEND;TZID=Europe/Berlin:20171207T224500
SUMMARY:HE 5. Liga Gr. 2 Wohlensee IV vs Schmitten II (26)
UID:6010be51-4442-5356-e053-1fc7a80a74f7
STATUS:CONFIRMED
LAST-MODIFIED:20171208T161827Z
DESCRIPTION:5. Liga Herren Gruppe 2\nBegegnungs-Nr: 26\nHeim: Wohlensee IV\nGast: Schmitten II\n\nAdresse: Kappelenring 36 a\, 3032 Hinterkappelen\n
LOCATION:Kappelenring 36 a\, 3032 Hinterkappelen
CATEGORIES:Saison 2017/18
END:VEVENT
BEGIN:VEVENT
DTSTAMP:20260424T175829Z
DTSTART;TZID=Europe/Berlin:20170904T201500
DTEND;TZID=Europe/Berlin:20170904T231500
SUMMARY:HE 5. Liga Gr. 2 Schwarzenburg II vs Schmitten II (8)
UID:6010be51-4480-5356-e053-1fc7a80a74f7
STATUS:CONFIRMED
LAST-MODIFIED:20170906T163017Z
DESCRIPTION:5. Liga Herren Gruppe 2\nBegegnungs-Nr: 8\nHeim: Schwarzenburg II\nGast: Schmitten II\n
LOCATION:
CATEGORIES:Saison 2017/18
END:VEVENT
BEGIN:VEVENT
DTSTAMP:20260424T175829Z
DTSTART;TZID=Europe/Berlin:20171211T194500
DTEND;TZID=Europe/Berlin:20171211T224500
SUMMARY:HE 5. Liga Gr. 2 Ittigen III vs Schmitten II (4)
UID:6010be51-44c9-5356-e053-1fc7a80a74f7
STATUS:CONFIRMED
LAST-MODIFIED:20171212T163537Z
DESCRIPTION:5. Liga Herren Gruppe 2\nBegegnungs-Nr: 4\nHeim: Ittigen III\nGast: Schmitten II\n\nAdresse: Fischrainweg 17\, 3048 Worblaufen\n
LOCATION:Fischrainweg 17\, 3048 Worblaufen
CATEGORIES:Saison 2017/18
END:VEVENT
BEGIN:VEVENT
DTSTAMP:20260424T175829Z
DTSTART;TZID=Europe/Berlin:20171110T194500
DTEND;TZID=Europe/Berlin:20171110T224500
SUMMARY:HE 5. Liga Gr. 2 Thörishaus III vs Schmitten II (16)
UID:6010be51-5746-5356-e053-1fc7a80a74f7
STATUS:CONFIRMED
LAST-MODIFIED:20171112T034338Z
DESCRIPTION:5. Liga Herren Gruppe 2\nBegegnungs-Nr: 16\nHeim: Thörishaus III\nGast: Schmitten II\n\nAdresse: Talstrasse 115\, 3174 Thörishaus\n
LOCATION:Talstrasse 115\, 3174 Thörishaus
CATEGORIES:Saison 2017/18
END:VEVENT
BEGIN:VEVENT
DTSTAMP:20260424T175829Z
DTSTART;TZID=Europe/Berlin:20180308T200000
DTEND;TZID=Europe/Berlin:20180308T230000
SUMMARY:HE 5. Liga Gr. 2 Köniz VII vs Schmitten II (22)
UID:6010be51-4487-5356-e053-1fc7a80a74f7
STATUS:CONFIRMED
LAST-MODIFIED:20180310T185209Z
DESCRIPTION:5. Liga Herren Gruppe 2\nBegegnungs-Nr: 22\nHeim: Köniz VII\nGast: Schmitten II\n\nAdresse: Kirchstrasse 72-76\, 3084 Wabern\n
LOCATION:Kirchstrasse 72-76\, 3084 Wabern
CATEGORIES:Saison 2017/18
END:VEVENT
BEGIN:VEVENT
DTSTAMP:20260424T175829Z
DTSTART;TZID=Europe/Berlin:20171113T193000
DTEND;TZID=Europe/Berlin:20171113T223000
SUMMARY:HE 5. Liga Gr. 2 Bern VIII vs Schmitten II (17)
UID:6010be51-444a-5356-e053-1fc7a80a74f7
STATUS:CONFIRMED
LAST-MODIFIED:20171114T030342Z
DESCRIPTION:5. Liga Herren Gruppe 2\nBegegnungs-Nr: 17\nHeim: Bern VIII\nGast: Schmitten II\n\nAdresse: Papiermühlestrasse 81\, 3014 Bern\n
LOCATION:Papiermühlestrasse 81\, 3014 Bern
CATEGORIES:Saison 2017/18
END:VEVENT
BEGIN:VEVENT
DTSTAMP:20260424T175829Z
DTSTART;TZID=Europe/Berlin:20180125T194500
DTEND;TZID=Europe/Berlin:20180125T224500
SUMMARY:HE 5. Liga Gr. 2 Düdingen III vs Schmitten II (12)
UID:6010be51-44c1-5356-e053-1fc7a80a74f7
STATUS:CONFIRMED
LAST-MODIFIED:20180126T171145Z
DESCRIPTION:5. Liga Herren Gruppe 2\nBegegnungs-Nr: 12\nHeim: Düdingen III\nGast: Schmitten II\n\nAdresse: Alfons-Aeby-Strasse\, 3186 Düdingen\n
LOCATION:Alfons-Aeby-Strasse\, 3186 Düdingen
CATEGORIES:Saison 2017/18
END:VEVENT
END:VCALENDAR
