BEGIN:VCALENDAR
PRODID:-//nuDatenautomaten//framework iCal4j //DE
VERSION:2.0
CALSCALE:GREGORIAN
BEGIN:VTIMEZONE
TZID:Europe/Berlin
LAST-MODIFIED:20260306T231828Z
TZURL:https://www.tzurl.org/zoneinfo/Europe/Berlin
X-LIC-LOCATION:Europe/Berlin
X-PROLEPTIC-TZNAME:LMT
BEGIN:STANDARD
TZNAME:CET
TZOFFSETFROM:+005328
TZOFFSETTO:+0100
DTSTART:18930401T000000
END:STANDARD
BEGIN:DAYLIGHT
TZNAME:CEST
TZOFFSETFROM:+0100
TZOFFSETTO:+0200
DTSTART:19160430T230000
RDATE:19400401T020000
RDATE:19430329T020000
RDATE:19460414T020000
RDATE:19470406T030000
RDATE:19480418T020000
RDATE:19490410T020000
RDATE:19800406T020000
END:DAYLIGHT
BEGIN:STANDARD
TZNAME:CET
TZOFFSETFROM:+0200
TZOFFSETTO:+0100
DTSTART:19161001T010000
RDATE:19421102T030000
RDATE:19431004T030000
RDATE:19441002T030000
RDATE:19451118T030000
RDATE:19461007T030000
END:STANDARD
BEGIN:DAYLIGHT
TZNAME:CEST
TZOFFSETFROM:+0100
TZOFFSETTO:+0200
DTSTART:19170416T020000
RRULE:FREQ=YEARLY;UNTIL=19180415T010000Z;BYMONTH=4;BYDAY=3MO
END:DAYLIGHT
BEGIN:STANDARD
TZNAME:CET
TZOFFSETFROM:+0200
TZOFFSETTO:+0100
DTSTART:19170917T030000
RRULE:FREQ=YEARLY;UNTIL=19180916T010000Z;BYMONTH=9;BYDAY=3MO
END:STANDARD
BEGIN:DAYLIGHT
TZNAME:CEST
TZOFFSETFROM:+0100
TZOFFSETTO:+0200
DTSTART:19440403T020000
RRULE:FREQ=YEARLY;UNTIL=19450402T010000Z;BYMONTH=4;BYDAY=1MO
END:DAYLIGHT
BEGIN:DAYLIGHT
TZNAME:CEMT
TZOFFSETFROM:+0200
TZOFFSETTO:+0300
DTSTART:19450524T020000
RDATE:19470511T030000
END:DAYLIGHT
BEGIN:DAYLIGHT
TZNAME:CEST
TZOFFSETFROM:+0300
TZOFFSETTO:+0200
DTSTART:19450924T030000
RDATE:19470629T030000
END:DAYLIGHT
BEGIN:STANDARD
TZNAME:CET
TZOFFSETFROM:+0100
TZOFFSETTO:+0100
DTSTART:19460101T000000
RDATE:19800101T000000
END:STANDARD
BEGIN:STANDARD
TZNAME:CET
TZOFFSETFROM:+0200
TZOFFSETTO:+0100
DTSTART:19471005T030000
RRULE:FREQ=YEARLY;UNTIL=19491002T010000Z;BYMONTH=10;BYDAY=1SU
END:STANDARD
BEGIN:STANDARD
TZNAME:CET
TZOFFSETFROM:+0200
TZOFFSETTO:+0100
DTSTART:19800928T030000
RRULE:FREQ=YEARLY;UNTIL=19950924T010000Z;BYMONTH=9;BYDAY=-1SU
END:STANDARD
BEGIN:DAYLIGHT
TZNAME:CEST
TZOFFSETFROM:+0100
TZOFFSETTO:+0200
DTSTART:19810329T020000
RRULE:FREQ=YEARLY;BYMONTH=3;BYDAY=-1SU
END:DAYLIGHT
BEGIN:STANDARD
TZNAME:CET
TZOFFSETFROM:+0200
TZOFFSETTO:+0100
DTSTART:19961027T030000
RRULE:FREQ=YEARLY;BYMONTH=10;BYDAY=-1SU
END:STANDARD
END:VTIMEZONE
BEGIN:VEVENT
DTSTAMP:20260424T181714Z
DTSTART;TZID=Europe/Berlin:20170909T143000
DTEND;TZID=Europe/Berlin:20170909T173000
SUMMARY:JUG 3.Liga Gr.1B Vorrunde St. Gallen III vs Weinfelden (3)
UID:6010be51-5904-5356-e053-1fc7a80a74f7
STATUS:CONFIRMED
LAST-MODIFIED:20170910T085746Z
DESCRIPTION:3. Liga Jugend Gruppe 1B Vorrunde\nBegegnungs-Nr: 3\nHeim: St. Gallen III\nGast: Weinfelden\nHalle: Poule in Romanshorn Pestalozzihalle\nAdresse: Zilstrasse 61\, 9016 St.Gallen\n
LOCATION:Poule in Romanshorn Pestalozzihalle Zilstrasse 61\, 9016 St.Gallen
CATEGORIES:Saison 2017/18
END:VEVENT
BEGIN:VEVENT
DTSTAMP:20260424T181714Z
DTSTART;TZID=Europe/Berlin:20170909T130000
DTEND;TZID=Europe/Berlin:20170909T160000
SUMMARY:JUG 3.Liga Gr.1B Vorrunde Steckborn-Homburg vs St. Gallen III (1)
UID:6010be51-561f-5356-e053-1fc7a80a74f7
STATUS:CONFIRMED
LAST-MODIFIED:20170911T090855Z
DESCRIPTION:3. Liga Jugend Gruppe 1B Vorrunde\nBegegnungs-Nr: 1\nHeim: Steckborn-Homburg\nGast: St. Gallen III\nHalle: Poule in Romanshorn Pestalozzihalle\nAdresse: Schulstrasse 4\, 8508 Unterhörstetten\n
LOCATION:Poule in Romanshorn Pestalozzihalle Schulstrasse 4\, 8508 Unterhörstetten
CATEGORIES:Saison 2017/18
END:VEVENT
BEGIN:VEVENT
DTSTAMP:20260424T181714Z
DTSTART;TZID=Europe/Berlin:20170909T160000
DTEND;TZID=Europe/Berlin:20170909T190000
SUMMARY:JUG 3.Liga Gr.1B Vorrunde Romanshorn vs St. Gallen III (5)
UID:6010be51-5621-5356-e053-1fc7a80a74f7
STATUS:CONFIRMED
LAST-MODIFIED:20170914T153115Z
DESCRIPTION:3. Liga Jugend Gruppe 1B Vorrunde\nBegegnungs-Nr: 5\nHeim: Romanshorn\nGast: St. Gallen III\nHalle: Poule in Romanshorn Pestalozzihalle\nAdresse: Florastrasse\, 8590 Romanshorn\n
LOCATION:Poule in Romanshorn Pestalozzihalle Florastrasse\, 8590 Romanshorn
CATEGORIES:Saison 2017/18
END:VEVENT
BEGIN:VEVENT
DTSTAMP:20260424T181714Z
DTSTART;TZID=Europe/Berlin:20171202T133000
DTEND;TZID=Europe/Berlin:20171202T163000
SUMMARY:JUG 3.Liga Gr.3B Zw-Rde. Chur vs St. Gallen III (2)
UID:6010be51-5bca-5356-e053-1fc7a80a74f7
STATUS:CONFIRMED
LAST-MODIFIED:20171204T143415Z
DESCRIPTION:3. Liga Jugend Gruppe 3B Zw-Runde\nBegegnungs-Nr: 2\nHeim: Chur\nGast: St. Gallen III\nHalle: Poule in Ettenhausen Weidli\nAdresse: Sandstr. 35\, 7000 Chur\n
LOCATION:Poule in Ettenhausen Weidli Sandstr. 35\, 7000 Chur
CATEGORIES:Saison 2017/18
END:VEVENT
BEGIN:VEVENT
DTSTAMP:20260424T181714Z
DTSTART;TZID=Europe/Berlin:20171202T120000
DTEND;TZID=Europe/Berlin:20171202T150000
SUMMARY:JUG 3.Liga Gr.3B Zw-Rde. Ettenhausen II vs St. Gallen III (1)
UID:6010be51-5bcb-5356-e053-1fc7a80a74f7
STATUS:CONFIRMED
LAST-MODIFIED:20171213T161138Z
DESCRIPTION:3. Liga Jugend Gruppe 3B Zw-Runde\nBegegnungs-Nr: 1\nHeim: Ettenhausen II\nGast: St. Gallen III\nHalle: Poule in Ettenhausen Weidli\nAdresse: Weidlistrasse 12\, 8356 Ettenhausen\n
LOCATION:Poule in Ettenhausen Weidli Weidlistrasse 12\, 8356 Ettenhausen
CATEGORIES:Saison 2017/18
END:VEVENT
BEGIN:VEVENT
DTSTAMP:20260424T181714Z
DTSTART;TZID=Europe/Berlin:20180324T143000
DTEND;TZID=Europe/Berlin:20180324T173000
SUMMARY:JUG 3.Liga Gr.3B Final Steckborn-Homburg vs St. Gallen III (2)
UID:54529aaf-c5b3-485c-b31e-756245365b5f
STATUS:CONFIRMED
LAST-MODIFIED:20180327T083446Z
DESCRIPTION:3. Liga Jugend Gruppe 3B Final\nBegegnungs-Nr: 2\nHeim: Steckborn-Homburg\nGast: St. Gallen III\nHalle: Poule bei YSZ Balgrist\nAdresse: Schulstrasse 4\, 8508 Unterhörstetten\n
LOCATION:Poule bei YSZ Balgrist Schulstrasse 4\, 8508 Unterhörstetten
CATEGORIES:Saison 2017/18
END:VEVENT
BEGIN:VEVENT
DTSTAMP:20260424T181714Z
DTSTART;TZID=Europe/Berlin:20180324T130000
DTEND;TZID=Europe/Berlin:20180324T160000
SUMMARY:JUG 3.Liga Gr.3B Final Dübendorf-Volketswil II vs St. Gallen III (1)
UID:6ebdcd61-802b-4280-8cd5-59438e68e43c
STATUS:CONFIRMED
LAST-MODIFIED:20180327T083418Z
DESCRIPTION:3. Liga Jugend Gruppe 3B Final\nBegegnungs-Nr: 1\nHeim: Dübendorf-Volketswil II\nGast: St. Gallen III\nHalle: Poule bei YSZ Balgrist\nAdresse: Usterstrasse 35\, 8604 Volketswil\n
LOCATION:Poule bei YSZ Balgrist Usterstrasse 35\, 8604 Volketswil
CATEGORIES:Saison 2017/18
END:VEVENT
END:VCALENDAR
