BEGIN:VCALENDAR
PRODID:-//nuDatenautomaten//framework iCal4j //DE
VERSION:2.0
CALSCALE:GREGORIAN
BEGIN:VTIMEZONE
TZID:Europe/Berlin
LAST-MODIFIED:20260306T231828Z
TZURL:https://www.tzurl.org/zoneinfo/Europe/Berlin
X-LIC-LOCATION:Europe/Berlin
X-PROLEPTIC-TZNAME:LMT
BEGIN:STANDARD
TZNAME:CET
TZOFFSETFROM:+005328
TZOFFSETTO:+0100
DTSTART:18930401T000000
END:STANDARD
BEGIN:DAYLIGHT
TZNAME:CEST
TZOFFSETFROM:+0100
TZOFFSETTO:+0200
DTSTART:19160430T230000
RDATE:19400401T020000
RDATE:19430329T020000
RDATE:19460414T020000
RDATE:19470406T030000
RDATE:19480418T020000
RDATE:19490410T020000
RDATE:19800406T020000
END:DAYLIGHT
BEGIN:STANDARD
TZNAME:CET
TZOFFSETFROM:+0200
TZOFFSETTO:+0100
DTSTART:19161001T010000
RDATE:19421102T030000
RDATE:19431004T030000
RDATE:19441002T030000
RDATE:19451118T030000
RDATE:19461007T030000
END:STANDARD
BEGIN:DAYLIGHT
TZNAME:CEST
TZOFFSETFROM:+0100
TZOFFSETTO:+0200
DTSTART:19170416T020000
RRULE:FREQ=YEARLY;UNTIL=19180415T010000Z;BYMONTH=4;BYDAY=3MO
END:DAYLIGHT
BEGIN:STANDARD
TZNAME:CET
TZOFFSETFROM:+0200
TZOFFSETTO:+0100
DTSTART:19170917T030000
RRULE:FREQ=YEARLY;UNTIL=19180916T010000Z;BYMONTH=9;BYDAY=3MO
END:STANDARD
BEGIN:DAYLIGHT
TZNAME:CEST
TZOFFSETFROM:+0100
TZOFFSETTO:+0200
DTSTART:19440403T020000
RRULE:FREQ=YEARLY;UNTIL=19450402T010000Z;BYMONTH=4;BYDAY=1MO
END:DAYLIGHT
BEGIN:DAYLIGHT
TZNAME:CEMT
TZOFFSETFROM:+0200
TZOFFSETTO:+0300
DTSTART:19450524T020000
RDATE:19470511T030000
END:DAYLIGHT
BEGIN:DAYLIGHT
TZNAME:CEST
TZOFFSETFROM:+0300
TZOFFSETTO:+0200
DTSTART:19450924T030000
RDATE:19470629T030000
END:DAYLIGHT
BEGIN:STANDARD
TZNAME:CET
TZOFFSETFROM:+0100
TZOFFSETTO:+0100
DTSTART:19460101T000000
RDATE:19800101T000000
END:STANDARD
BEGIN:STANDARD
TZNAME:CET
TZOFFSETFROM:+0200
TZOFFSETTO:+0100
DTSTART:19471005T030000
RRULE:FREQ=YEARLY;UNTIL=19491002T010000Z;BYMONTH=10;BYDAY=1SU
END:STANDARD
BEGIN:STANDARD
TZNAME:CET
TZOFFSETFROM:+0200
TZOFFSETTO:+0100
DTSTART:19800928T030000
RRULE:FREQ=YEARLY;UNTIL=19950924T010000Z;BYMONTH=9;BYDAY=-1SU
END:STANDARD
BEGIN:DAYLIGHT
TZNAME:CEST
TZOFFSETFROM:+0100
TZOFFSETTO:+0200
DTSTART:19810329T020000
RRULE:FREQ=YEARLY;BYMONTH=3;BYDAY=-1SU
END:DAYLIGHT
BEGIN:STANDARD
TZNAME:CET
TZOFFSETFROM:+0200
TZOFFSETTO:+0100
DTSTART:19961027T030000
RRULE:FREQ=YEARLY;BYMONTH=10;BYDAY=-1SU
END:STANDARD
END:VTIMEZONE
BEGIN:VEVENT
DTSTAMP:20260424T175829Z
DTSTART;TZID=Europe/Berlin:20171201T200000
DTEND;TZID=Europe/Berlin:20171201T230000
SUMMARY:HE 4. Liga Gr. 5 Grauholz II vs Köniz IV (28)
UID:6010be51-3957-5356-e053-1fc7a80a74f7
STATUS:CONFIRMED
LAST-MODIFIED:20171202T185150Z
DESCRIPTION:4. Liga Herren Gruppe 5\nBegegnungs-Nr: 28\nHeim: Grauholz II\nGast: Köniz IV\n\nAdresse: Schulhausweg 8\, 3324 Hindelbank\n
LOCATION:Schulhausweg 8\, 3324 Hindelbank
CATEGORIES:Saison 2017/18
END:VEVENT
BEGIN:VEVENT
DTSTAMP:20260424T175829Z
DTSTART;TZID=Europe/Berlin:20171124T200000
DTEND;TZID=Europe/Berlin:20171124T230000
SUMMARY:HE 4. Liga Gr. 5 Grauholz II vs Münchenbuchsee IV (24)
UID:6010be51-395a-5356-e053-1fc7a80a74f7
STATUS:CONFIRMED
LAST-MODIFIED:20171127T173439Z
DESCRIPTION:4. Liga Herren Gruppe 5\nBegegnungs-Nr: 24\nHeim: Grauholz II\nGast: Münchenbuchsee IV\n\nAdresse: Schulhausweg 8\, 3324 Hindelbank\n
LOCATION:Schulhausweg 8\, 3324 Hindelbank
CATEGORIES:Saison 2017/18
END:VEVENT
BEGIN:VEVENT
DTSTAMP:20260424T175829Z
DTSTART;TZID=Europe/Berlin:20171103T200000
DTEND;TZID=Europe/Berlin:20171103T230000
SUMMARY:HE 4. Liga Gr. 5 Grauholz II vs Bern III (15)
UID:6010be51-398c-5356-e053-1fc7a80a74f7
STATUS:CONFIRMED
LAST-MODIFIED:20171104T173005Z
DESCRIPTION:4. Liga Herren Gruppe 5\nBegegnungs-Nr: 15\nHeim: Grauholz II\nGast: Bern III\n\nAdresse: Schulhausweg 8\, 3324 Hindelbank\n
LOCATION:Schulhausweg 8\, 3324 Hindelbank
CATEGORIES:Saison 2017/18
END:VEVENT
BEGIN:VEVENT
DTSTAMP:20260424T175829Z
DTSTART;TZID=Europe/Berlin:20170901T200000
DTEND;TZID=Europe/Berlin:20170901T230000
SUMMARY:HE 4. Liga Gr. 5 Grauholz II vs Tiefenau II (5)
UID:6010be51-3995-5356-e053-1fc7a80a74f7
STATUS:CONFIRMED
LAST-MODIFIED:20170903T120020Z
DESCRIPTION:4. Liga Herren Gruppe 5\nBegegnungs-Nr: 5\nHeim: Grauholz II\nGast: Tiefenau II\n\nAdresse: Schulhausweg 8\, 3324 Hindelbank\n
LOCATION:Schulhausweg 8\, 3324 Hindelbank
CATEGORIES:Saison 2017/18
END:VEVENT
BEGIN:VEVENT
DTSTAMP:20260424T175829Z
DTSTART;TZID=Europe/Berlin:20180302T200000
DTEND;TZID=Europe/Berlin:20180302T230000
SUMMARY:HE 4. Liga Gr. 5 Grauholz II vs Regio Moossee II (19)
UID:6010be51-39c9-5356-e053-1fc7a80a74f7
STATUS:CONFIRMED
LAST-MODIFIED:20180303T173241Z
DESCRIPTION:4. Liga Herren Gruppe 5\nBegegnungs-Nr: 19\nHeim: Grauholz II\nGast: Regio Moossee II\n\nAdresse: Schulhausweg 8\, 3324 Hindelbank\n
LOCATION:Schulhausweg 8\, 3324 Hindelbank
CATEGORIES:Saison 2017/18
END:VEVENT
BEGIN:VEVENT
DTSTAMP:20260424T175829Z
DTSTART;TZID=Europe/Berlin:20171215T200000
DTEND;TZID=Europe/Berlin:20171215T230000
SUMMARY:HE 4. Liga Gr. 5 Grauholz II vs Burgdorf VI (4)
UID:6010be51-3a0a-5356-e053-1fc7a80a74f7
STATUS:CONFIRMED
LAST-MODIFIED:20171217T071005Z
DESCRIPTION:4. Liga Herren Gruppe 5\nBegegnungs-Nr: 4\nHeim: Grauholz II\nGast: Burgdorf VI\n\nAdresse: Schulhausweg 8\, 3324 Hindelbank\n
LOCATION:Schulhausweg 8\, 3324 Hindelbank
CATEGORIES:Saison 2017/18
END:VEVENT
BEGIN:VEVENT
DTSTAMP:20260424T175829Z
DTSTART;TZID=Europe/Berlin:20180126T200000
DTEND;TZID=Europe/Berlin:20180126T230000
SUMMARY:HE 4. Liga Gr. 5 Grauholz II vs Langnau II (10)
UID:6010be51-39d4-5356-e053-1fc7a80a74f7
STATUS:CONFIRMED
LAST-MODIFIED:20180127T172615Z
DESCRIPTION:4. Liga Herren Gruppe 5\nBegegnungs-Nr: 10\nHeim: Grauholz II\nGast: Langnau II\n\nAdresse: Schulhausweg 8\, 3324 Hindelbank\n
LOCATION:Schulhausweg 8\, 3324 Hindelbank
CATEGORIES:Saison 2017/18
END:VEVENT
BEGIN:VEVENT
DTSTAMP:20260424T175829Z
DTSTART;TZID=Europe/Berlin:20170921T200000
DTEND;TZID=Europe/Berlin:20170921T230000
SUMMARY:HE 4. Liga Gr. 5 Langnau II vs Grauholz II (10)
UID:6010be51-3990-5356-e053-1fc7a80a74f7
STATUS:CONFIRMED
LAST-MODIFIED:20170923T092025Z
DESCRIPTION:4. Liga Herren Gruppe 5\nBegegnungs-Nr: 10\nHeim: Langnau II\nGast: Grauholz II\n\nAdresse: Bleicheweg 11\, 3550 Langnau\n
LOCATION:Bleicheweg 11\, 3550 Langnau
CATEGORIES:Saison 2017/18
END:VEVENT
BEGIN:VEVENT
DTSTAMP:20260424T175829Z
DTSTART;TZID=Europe/Berlin:20180309T194500
DTEND;TZID=Europe/Berlin:20180309T224500
SUMMARY:HE 4. Liga Gr. 5 Münchenbuchsee IV vs Grauholz II (24)
UID:6010be51-39c5-5356-e053-1fc7a80a74f7
STATUS:CONFIRMED
LAST-MODIFIED:20180310T184625Z
DESCRIPTION:4. Liga Herren Gruppe 5\nBegegnungs-Nr: 24\nHeim: Münchenbuchsee IV\nGast: Grauholz II\n\nAdresse: Laubbergweg 41\, 3053 Münchenbuchsee\n
LOCATION:Laubbergweg 41\, 3053 Münchenbuchsee
CATEGORIES:Saison 2017/18
END:VEVENT
BEGIN:VEVENT
DTSTAMP:20260424T175829Z
DTSTART;TZID=Europe/Berlin:20180323T200000
DTEND;TZID=Europe/Berlin:20180323T230000
SUMMARY:HE 4. Liga Gr. 5 Köniz IV vs Grauholz II (28)
UID:6010be51-39ce-5356-e053-1fc7a80a74f7
STATUS:CONFIRMED
LAST-MODIFIED:20180324T131232Z
DESCRIPTION:4. Liga Herren Gruppe 5\nBegegnungs-Nr: 28\nHeim: Köniz IV\nGast: Grauholz II\n\nAdresse: Kirchstrasse 72-76\, 3084 Wabern\n
LOCATION:Kirchstrasse 72-76\, 3084 Wabern
CATEGORIES:Saison 2017/18
END:VEVENT
BEGIN:VEVENT
DTSTAMP:20260424T175829Z
DTSTART;TZID=Europe/Berlin:20180111T194500
DTEND;TZID=Europe/Berlin:20180111T224500
SUMMARY:HE 4. Liga Gr. 5 Tiefenau II vs Grauholz II (5)
UID:6010be51-3a09-5356-e053-1fc7a80a74f7
STATUS:CONFIRMED
LAST-MODIFIED:20180112T182653Z
DESCRIPTION:4. Liga Herren Gruppe 5\nBegegnungs-Nr: 5\nHeim: Tiefenau II\nGast: Grauholz II\n\nAdresse: Studerstrasse 56\, 3004 Bern\n
LOCATION:Studerstrasse 56\, 3004 Bern
CATEGORIES:Saison 2017/18
END:VEVENT
BEGIN:VEVENT
DTSTAMP:20260424T175829Z
DTSTART;TZID=Europe/Berlin:20170826T133000
DTEND;TZID=Europe/Berlin:20170826T163000
SUMMARY:HE 4. Liga Gr. 5 Burgdorf VI vs Grauholz II (4)
UID:6010be51-4872-5356-e053-1fc7a80a74f7
STATUS:CONFIRMED
LAST-MODIFIED:20170827T165824Z
DESCRIPTION:4. Liga Herren Gruppe 5\nBegegnungs-Nr: 4\nHeim: Burgdorf VI\nGast: Grauholz II\n\nAdresse: Pestalozzistrasse 69\, 3400 Burgdorf\n
LOCATION:Pestalozzistrasse 69\, 3400 Burgdorf
CATEGORIES:Saison 2017/18
END:VEVENT
BEGIN:VEVENT
DTSTAMP:20260424T175829Z
DTSTART;TZID=Europe/Berlin:20171107T200000
DTEND;TZID=Europe/Berlin:20171107T230000
SUMMARY:HE 4. Liga Gr. 5 Regio Moossee II vs Grauholz II (19)
UID:6010be51-56e7-5356-e053-1fc7a80a74f7
STATUS:CONFIRMED
LAST-MODIFIED:20171108T125956Z
DESCRIPTION:4. Liga Herren Gruppe 5\nBegegnungs-Nr: 19\nHeim: Regio Moossee II\nGast: Grauholz II\n\nAdresse: Schulhausstrasse 23-25\, 3302 Moosseedorf\n
LOCATION:Schulhausstrasse 23-25\, 3302 Moosseedorf
CATEGORIES:Saison 2017/18
END:VEVENT
BEGIN:VEVENT
DTSTAMP:20260424T175829Z
DTSTART;TZID=Europe/Berlin:20180212T193000
DTEND;TZID=Europe/Berlin:20180212T223000
SUMMARY:HE 4. Liga Gr. 5 Bern III vs Grauholz II (15)
UID:6010be51-39cd-5356-e053-1fc7a80a74f7
STATUS:CONFIRMED
LAST-MODIFIED:20180213T182717Z
DESCRIPTION:4. Liga Herren Gruppe 5\nBegegnungs-Nr: 15\nHeim: Bern III\nGast: Grauholz II\n\nAdresse: Papiermühlestrasse 81\, 3014 Bern\n
LOCATION:Papiermühlestrasse 81\, 3014 Bern
CATEGORIES:Saison 2017/18
END:VEVENT
END:VCALENDAR
