BEGIN:VCALENDAR
PRODID:-//nuDatenautomaten//framework iCal4j //DE
VERSION:2.0
CALSCALE:GREGORIAN
BEGIN:VTIMEZONE
TZID:Europe/Berlin
LAST-MODIFIED:20260306T231828Z
TZURL:https://www.tzurl.org/zoneinfo/Europe/Berlin
X-LIC-LOCATION:Europe/Berlin
X-PROLEPTIC-TZNAME:LMT
BEGIN:STANDARD
TZNAME:CET
TZOFFSETFROM:+005328
TZOFFSETTO:+0100
DTSTART:18930401T000000
END:STANDARD
BEGIN:DAYLIGHT
TZNAME:CEST
TZOFFSETFROM:+0100
TZOFFSETTO:+0200
DTSTART:19160430T230000
RDATE:19400401T020000
RDATE:19430329T020000
RDATE:19460414T020000
RDATE:19470406T030000
RDATE:19480418T020000
RDATE:19490410T020000
RDATE:19800406T020000
END:DAYLIGHT
BEGIN:STANDARD
TZNAME:CET
TZOFFSETFROM:+0200
TZOFFSETTO:+0100
DTSTART:19161001T010000
RDATE:19421102T030000
RDATE:19431004T030000
RDATE:19441002T030000
RDATE:19451118T030000
RDATE:19461007T030000
END:STANDARD
BEGIN:DAYLIGHT
TZNAME:CEST
TZOFFSETFROM:+0100
TZOFFSETTO:+0200
DTSTART:19170416T020000
RRULE:FREQ=YEARLY;UNTIL=19180415T010000Z;BYMONTH=4;BYDAY=3MO
END:DAYLIGHT
BEGIN:STANDARD
TZNAME:CET
TZOFFSETFROM:+0200
TZOFFSETTO:+0100
DTSTART:19170917T030000
RRULE:FREQ=YEARLY;UNTIL=19180916T010000Z;BYMONTH=9;BYDAY=3MO
END:STANDARD
BEGIN:DAYLIGHT
TZNAME:CEST
TZOFFSETFROM:+0100
TZOFFSETTO:+0200
DTSTART:19440403T020000
RRULE:FREQ=YEARLY;UNTIL=19450402T010000Z;BYMONTH=4;BYDAY=1MO
END:DAYLIGHT
BEGIN:DAYLIGHT
TZNAME:CEMT
TZOFFSETFROM:+0200
TZOFFSETTO:+0300
DTSTART:19450524T020000
RDATE:19470511T030000
END:DAYLIGHT
BEGIN:DAYLIGHT
TZNAME:CEST
TZOFFSETFROM:+0300
TZOFFSETTO:+0200
DTSTART:19450924T030000
RDATE:19470629T030000
END:DAYLIGHT
BEGIN:STANDARD
TZNAME:CET
TZOFFSETFROM:+0100
TZOFFSETTO:+0100
DTSTART:19460101T000000
RDATE:19800101T000000
END:STANDARD
BEGIN:STANDARD
TZNAME:CET
TZOFFSETFROM:+0200
TZOFFSETTO:+0100
DTSTART:19471005T030000
RRULE:FREQ=YEARLY;UNTIL=19491002T010000Z;BYMONTH=10;BYDAY=1SU
END:STANDARD
BEGIN:STANDARD
TZNAME:CET
TZOFFSETFROM:+0200
TZOFFSETTO:+0100
DTSTART:19800928T030000
RRULE:FREQ=YEARLY;UNTIL=19950924T010000Z;BYMONTH=9;BYDAY=-1SU
END:STANDARD
BEGIN:DAYLIGHT
TZNAME:CEST
TZOFFSETFROM:+0100
TZOFFSETTO:+0200
DTSTART:19810329T020000
RRULE:FREQ=YEARLY;BYMONTH=3;BYDAY=-1SU
END:DAYLIGHT
BEGIN:STANDARD
TZNAME:CET
TZOFFSETFROM:+0200
TZOFFSETTO:+0100
DTSTART:19961027T030000
RRULE:FREQ=YEARLY;BYMONTH=10;BYDAY=-1SU
END:STANDARD
END:VTIMEZONE
BEGIN:VEVENT
DTSTAMP:20260424T175727Z
DTSTART;TZID=Europe/Berlin:20170902T150000
DTEND;TZID=Europe/Berlin:20170902T180000
SUMMARY:R1 1.Div B Schenkon vs Baar (4)
UID:6010be51-4d30-5356-e053-1fc7a80a74f7
STATUS:CONFIRMED
LAST-MODIFIED:20170905T164318Z
DESCRIPTION:1. Runde 1. Division Gruppe B\nBegegnungs-Nr: 4\nHeim: Schenkon\nGast: Baar\n
LOCATION:
CATEGORIES:Saison 2017/18
END:VEVENT
BEGIN:VEVENT
DTSTAMP:20260424T175727Z
DTSTART;TZID=Europe/Berlin:20171216T163000
DTEND;TZID=Europe/Berlin:20171216T193000
SUMMARY:R2 2.Div Schenkon vs Rapid Luzern III (6)
UID:6010be51-5c32-5356-e053-1fc7a80a74f7
STATUS:CONFIRMED
LAST-MODIFIED:20171217T195218Z
DESCRIPTION:2. Runde 2. Division\nBegegnungs-Nr: 6\nHeim: Schenkon\nGast: Rapid Luzern III\n
LOCATION:
CATEGORIES:Saison 2017/18
END:VEVENT
BEGIN:VEVENT
DTSTAMP:20260424T175727Z
DTSTART;TZID=Europe/Berlin:20180310T150000
DTEND;TZID=Europe/Berlin:20180310T180000
SUMMARY:R3 1.Div Schenkon vs Rapid Luzern II (3)
UID:f12d6f08-e8a3-4376-8495-17b4166a59b3
STATUS:CONFIRMED
LAST-MODIFIED:20180312T053649Z
DESCRIPTION:3. Runde 1. Division\nBegegnungs-Nr: 3\nHeim: Schenkon\nGast: Rapid Luzern II\n
LOCATION:
CATEGORIES:Saison 2017/18
END:VEVENT
BEGIN:VEVENT
DTSTAMP:20260424T175727Z
DTSTART;TZID=Europe/Berlin:20180310T133000
DTEND;TZID=Europe/Berlin:20180310T163000
SUMMARY:R3 1.Div Schenkon vs Baar (2)
UID:1dd95785-8980-470a-b13b-b5b3d9fc447a
STATUS:CONFIRMED
LAST-MODIFIED:20180312T053329Z
DESCRIPTION:3. Runde 1. Division\nBegegnungs-Nr: 2\nHeim: Schenkon\nGast: Baar\n
LOCATION:
CATEGORIES:Saison 2017/18
END:VEVENT
BEGIN:VEVENT
DTSTAMP:20260424T175727Z
DTSTART;TZID=Europe/Berlin:20170902T163000
DTEND;TZID=Europe/Berlin:20170902T193000
SUMMARY:R1 1.Div B Rapid Luzern III vs Schenkon (6)
UID:6010be51-4dbb-5356-e053-1fc7a80a74f7
STATUS:CONFIRMED
LAST-MODIFIED:20170905T164439Z
DESCRIPTION:1. Runde 1. Division Gruppe B\nBegegnungs-Nr: 6\nHeim: Rapid Luzern III\nGast: Schenkon\n
LOCATION:
CATEGORIES:Saison 2017/18
END:VEVENT
BEGIN:VEVENT
DTSTAMP:20260424T175727Z
DTSTART;TZID=Europe/Berlin:20171216T150000
DTEND;TZID=Europe/Berlin:20171216T180000
SUMMARY:R2 2.Div Rapid Luzern IV vs Schenkon (4)
UID:6010be51-5c2f-5356-e053-1fc7a80a74f7
STATUS:CONFIRMED
LAST-MODIFIED:20171217T195442Z
DESCRIPTION:2. Runde 2. Division\nBegegnungs-Nr: 4\nHeim: Rapid Luzern IV\nGast: Schenkon\n
LOCATION:
CATEGORIES:Saison 2017/18
END:VEVENT
BEGIN:VEVENT
DTSTAMP:20260424T175727Z
DTSTART;TZID=Europe/Berlin:20180310T163000
DTEND;TZID=Europe/Berlin:20180310T193000
SUMMARY:R3 1.Div Rapid Luzern vs Schenkon (6)
UID:0d45cedb-f306-48fb-8068-0704b1c1805c
STATUS:CONFIRMED
LAST-MODIFIED:20180312T054027Z
DESCRIPTION:3. Runde 1. Division\nBegegnungs-Nr: 6\nHeim: Rapid Luzern\nGast: Schenkon\n
LOCATION:
CATEGORIES:Saison 2017/18
END:VEVENT
END:VCALENDAR
