BEGIN:VCALENDAR
PRODID:-//nuDatenautomaten//framework iCal4j //DE
VERSION:2.0
CALSCALE:GREGORIAN
BEGIN:VTIMEZONE
TZID:Europe/Berlin
LAST-MODIFIED:20260306T231828Z
TZURL:https://www.tzurl.org/zoneinfo/Europe/Berlin
X-LIC-LOCATION:Europe/Berlin
X-PROLEPTIC-TZNAME:LMT
BEGIN:STANDARD
TZNAME:CET
TZOFFSETFROM:+005328
TZOFFSETTO:+0100
DTSTART:18930401T000000
END:STANDARD
BEGIN:DAYLIGHT
TZNAME:CEST
TZOFFSETFROM:+0100
TZOFFSETTO:+0200
DTSTART:19160430T230000
RDATE:19400401T020000
RDATE:19430329T020000
RDATE:19460414T020000
RDATE:19470406T030000
RDATE:19480418T020000
RDATE:19490410T020000
RDATE:19800406T020000
END:DAYLIGHT
BEGIN:STANDARD
TZNAME:CET
TZOFFSETFROM:+0200
TZOFFSETTO:+0100
DTSTART:19161001T010000
RDATE:19421102T030000
RDATE:19431004T030000
RDATE:19441002T030000
RDATE:19451118T030000
RDATE:19461007T030000
END:STANDARD
BEGIN:DAYLIGHT
TZNAME:CEST
TZOFFSETFROM:+0100
TZOFFSETTO:+0200
DTSTART:19170416T020000
RRULE:FREQ=YEARLY;UNTIL=19180415T010000Z;BYMONTH=4;BYDAY=3MO
END:DAYLIGHT
BEGIN:STANDARD
TZNAME:CET
TZOFFSETFROM:+0200
TZOFFSETTO:+0100
DTSTART:19170917T030000
RRULE:FREQ=YEARLY;UNTIL=19180916T010000Z;BYMONTH=9;BYDAY=3MO
END:STANDARD
BEGIN:DAYLIGHT
TZNAME:CEST
TZOFFSETFROM:+0100
TZOFFSETTO:+0200
DTSTART:19440403T020000
RRULE:FREQ=YEARLY;UNTIL=19450402T010000Z;BYMONTH=4;BYDAY=1MO
END:DAYLIGHT
BEGIN:DAYLIGHT
TZNAME:CEMT
TZOFFSETFROM:+0200
TZOFFSETTO:+0300
DTSTART:19450524T020000
RDATE:19470511T030000
END:DAYLIGHT
BEGIN:DAYLIGHT
TZNAME:CEST
TZOFFSETFROM:+0300
TZOFFSETTO:+0200
DTSTART:19450924T030000
RDATE:19470629T030000
END:DAYLIGHT
BEGIN:STANDARD
TZNAME:CET
TZOFFSETFROM:+0100
TZOFFSETTO:+0100
DTSTART:19460101T000000
RDATE:19800101T000000
END:STANDARD
BEGIN:STANDARD
TZNAME:CET
TZOFFSETFROM:+0200
TZOFFSETTO:+0100
DTSTART:19471005T030000
RRULE:FREQ=YEARLY;UNTIL=19491002T010000Z;BYMONTH=10;BYDAY=1SU
END:STANDARD
BEGIN:STANDARD
TZNAME:CET
TZOFFSETFROM:+0200
TZOFFSETTO:+0100
DTSTART:19800928T030000
RRULE:FREQ=YEARLY;UNTIL=19950924T010000Z;BYMONTH=9;BYDAY=-1SU
END:STANDARD
BEGIN:DAYLIGHT
TZNAME:CEST
TZOFFSETFROM:+0100
TZOFFSETTO:+0200
DTSTART:19810329T020000
RRULE:FREQ=YEARLY;BYMONTH=3;BYDAY=-1SU
END:DAYLIGHT
BEGIN:STANDARD
TZNAME:CET
TZOFFSETFROM:+0200
TZOFFSETTO:+0100
DTSTART:19961027T030000
RRULE:FREQ=YEARLY;BYMONTH=10;BYDAY=-1SU
END:STANDARD
END:VTIMEZONE
BEGIN:VEVENT
DTSTAMP:20260424T193347Z
DTSTART;TZID=Europe/Berlin:20170909T153000
DTEND;TZID=Europe/Berlin:20170909T183000
SUMMARY:HE 5.Liga Gr.9 Rapperswil-Jona VII vs Glarus III (0)
UID:6010be51-485c-5356-e053-1fc7a80a74f7
STATUS:CONFIRMED
LAST-MODIFIED:20170910T085145Z
DESCRIPTION:5. Liga Herren Gruppe 9\nBegegnungs-Nr: 0\nHeim: Rapperswil-Jona VII\nGast: Glarus III\n\nAdresse: Kreuzstrasse 43\, 8640 Rapperswil\n
LOCATION:Kreuzstrasse 43\, 8640 Rapperswil
CATEGORIES:Saison 2017/18
END:VEVENT
BEGIN:VEVENT
DTSTAMP:20260424T193347Z
DTSTART;TZID=Europe/Berlin:20171209T153000
DTEND;TZID=Europe/Berlin:20171209T183000
SUMMARY:HE 5.Liga Gr.9 Rapperswil-Jona VII vs Balzers (0)
UID:6010be51-48bc-5356-e053-1fc7a80a74f7
STATUS:CONFIRMED
LAST-MODIFIED:20171213T155455Z
DESCRIPTION:5. Liga Herren Gruppe 9\nBegegnungs-Nr: 0\nHeim: Rapperswil-Jona VII\nGast: Balzers\n\nAdresse: Kreuzstrasse 43\, 8640 Rapperswil\n
LOCATION:Kreuzstrasse 43\, 8640 Rapperswil
CATEGORIES:Saison 2017/18
END:VEVENT
BEGIN:VEVENT
DTSTAMP:20260424T193347Z
DTSTART;TZID=Europe/Berlin:20171118T153000
DTEND;TZID=Europe/Berlin:20171118T183000
SUMMARY:HE 5.Liga Gr.9 Rapperswil-Jona VII vs Wollerau III (0)
UID:6010be51-48c0-5356-e053-1fc7a80a74f7
STATUS:CONFIRMED
LAST-MODIFIED:20171121T103500Z
DESCRIPTION:5. Liga Herren Gruppe 9\nBegegnungs-Nr: 0\nHeim: Rapperswil-Jona VII\nGast: Wollerau III\n\nAdresse: Kreuzstrasse 43\, 8640 Rapperswil\n
LOCATION:Kreuzstrasse 43\, 8640 Rapperswil
CATEGORIES:Saison 2017/18
END:VEVENT
BEGIN:VEVENT
DTSTAMP:20260424T193347Z
DTSTART;TZID=Europe/Berlin:20180224T153000
DTEND;TZID=Europe/Berlin:20180224T183000
SUMMARY:HE 5.Liga Gr.9 Rapperswil-Jona VII vs Schaan-Eschen/Mauren II (0)
UID:6010be51-4ca9-5356-e053-1fc7a80a74f7
STATUS:CONFIRMED
LAST-MODIFIED:20180227T101154Z
DESCRIPTION:5. Liga Herren Gruppe 9\nBegegnungs-Nr: 0\nHeim: Rapperswil-Jona VII\nGast: Schaan-Eschen/Mauren II\n\nAdresse: Kreuzstrasse 43\, 8640 Rapperswil\n
LOCATION:Kreuzstrasse 43\, 8640 Rapperswil
CATEGORIES:Saison 2017/18
END:VEVENT
BEGIN:VEVENT
DTSTAMP:20260424T193347Z
DTSTART;TZID=Europe/Berlin:20180224T130000
DTEND;TZID=Europe/Berlin:20180224T160000
SUMMARY:HE 5.Liga Gr.9 Rapperswil-Jona VII vs Flums IV (0)
UID:6010be51-4cac-5356-e053-1fc7a80a74f7
STATUS:CONFIRMED
LAST-MODIFIED:20180227T101133Z
DESCRIPTION:5. Liga Herren Gruppe 9\nBegegnungs-Nr: 0\nHeim: Rapperswil-Jona VII\nGast: Flums IV\n\nAdresse: Kreuzstrasse 43\, 8640 Rapperswil\n
LOCATION:Kreuzstrasse 43\, 8640 Rapperswil
CATEGORIES:Saison 2017/18
END:VEVENT
BEGIN:VEVENT
DTSTAMP:20260424T193347Z
DTSTART;TZID=Europe/Berlin:20180127T153000
DTEND;TZID=Europe/Berlin:20180127T183000
SUMMARY:HE 5.Liga Gr.9 Rapperswil-Jona VII vs Schaan-Eschen/Mauren III (0)
UID:6010be51-4aff-5356-e053-1fc7a80a74f7
STATUS:CONFIRMED
LAST-MODIFIED:20180129T122800Z
DESCRIPTION:5. Liga Herren Gruppe 9\nBegegnungs-Nr: 0\nHeim: Rapperswil-Jona VII\nGast: Schaan-Eschen/Mauren III\n\nAdresse: Kreuzstrasse 43\, 8640 Rapperswil\n
LOCATION:Kreuzstrasse 43\, 8640 Rapperswil
CATEGORIES:Saison 2017/18
END:VEVENT
BEGIN:VEVENT
DTSTAMP:20260424T193347Z
DTSTART;TZID=Europe/Berlin:20170914T200000
DTEND;TZID=Europe/Berlin:20170914T230000
SUMMARY:HE 5.Liga Gr.9 Schaan-Eschen/Mauren III vs Rapperswil-Jona VII (0)
UID:6010be51-4859-5356-e053-1fc7a80a74f7
STATUS:CONFIRMED
LAST-MODIFIED:20170920T094927Z
DESCRIPTION:5. Liga Herren Gruppe 9\nBegegnungs-Nr: 0\nHeim: Schaan-Eschen/Mauren III\nGast: Rapperswil-Jona VII\n\nAdresse: Simsgasse 10\, 9492 Eschen\n
LOCATION:Simsgasse 10\, 9492 Eschen
CATEGORIES:Saison 2017/18
END:VEVENT
BEGIN:VEVENT
DTSTAMP:20260424T193347Z
DTSTART;TZID=Europe/Berlin:20171109T200000
DTEND;TZID=Europe/Berlin:20171109T230000
SUMMARY:HE 5.Liga Gr.9 Schaan-Eschen/Mauren II vs Rapperswil-Jona VII (0)
UID:6010be51-48c2-5356-e053-1fc7a80a74f7
STATUS:CONFIRMED
LAST-MODIFIED:20171113T134927Z
DESCRIPTION:5. Liga Herren Gruppe 9\nBegegnungs-Nr: 0\nHeim: Schaan-Eschen/Mauren II\nGast: Rapperswil-Jona VII\n\nAdresse: Simsgasse 10\, 9492 Eschen\n
LOCATION:Simsgasse 10\, 9492 Eschen
CATEGORIES:Saison 2017/18
END:VEVENT
BEGIN:VEVENT
DTSTAMP:20260424T193347Z
DTSTART;TZID=Europe/Berlin:20171102T201500
DTEND;TZID=Europe/Berlin:20171102T231500
SUMMARY:HE 5.Liga Gr.9 Flums IV vs Rapperswil-Jona VII (0)
UID:6010be51-48c4-5356-e053-1fc7a80a74f7
STATUS:CONFIRMED
LAST-MODIFIED:20171106T095635Z
DESCRIPTION:5. Liga Herren Gruppe 9\nBegegnungs-Nr: 0\nHeim: Flums IV\nGast: Rapperswil-Jona VII\n\nAdresse: Bergstrasse\, 8890 Flums\n
LOCATION:Bergstrasse\, 8890 Flums
CATEGORIES:Saison 2017/18
END:VEVENT
BEGIN:VEVENT
DTSTAMP:20260424T193347Z
DTSTART;TZID=Europe/Berlin:20180308T201500
DTEND;TZID=Europe/Berlin:20180308T231500
SUMMARY:HE 5.Liga Gr.9 Balzers vs Rapperswil-Jona VII (0)
UID:6010be51-4ca1-5356-e053-1fc7a80a74f7
STATUS:CONFIRMED
LAST-MODIFIED:20180309T145813Z
DESCRIPTION:5. Liga Herren Gruppe 9\nBegegnungs-Nr: 0\nHeim: Balzers\nGast: Rapperswil-Jona VII\n\nAdresse: Gnetsch 41\, 9496 Balzers\n
LOCATION:Gnetsch 41\, 9496 Balzers
CATEGORIES:Saison 2017/18
END:VEVENT
BEGIN:VEVENT
DTSTAMP:20260424T193347Z
DTSTART;TZID=Europe/Berlin:20180409T200000
DTEND;TZID=Europe/Berlin:20180409T230000
SUMMARY:HE 5.Liga Gr.9 Wollerau III vs Rapperswil-Jona VII (0)
UID:6010be51-4ca6-5356-e053-1fc7a80a74f7
STATUS:CONFIRMED
LAST-MODIFIED:20180419T084745Z
DESCRIPTION:5. Liga Herren Gruppe 9\nBegegnungs-Nr: 0\nHeim: Wollerau III\nGast: Rapperswil-Jona VII\n\nAdresse: Erlenstrasse 18\, 8832 Wollerau\n
LOCATION:Erlenstrasse 18\, 8832 Wollerau
CATEGORIES:Saison 2017/18
END:VEVENT
BEGIN:VEVENT
DTSTAMP:20260424T193347Z
DTSTART;TZID=Europe/Berlin:20180112T200000
DTEND;TZID=Europe/Berlin:20180112T230000
SUMMARY:HE 5.Liga Gr.9 Glarus III vs Rapperswil-Jona VII (0)
UID:6010be51-4ce8-5356-e053-1fc7a80a74f7
STATUS:CONFIRMED
LAST-MODIFIED:20180115T092609Z
DESCRIPTION:5. Liga Herren Gruppe 9\nBegegnungs-Nr: 0\nHeim: Glarus III\nGast: Rapperswil-Jona VII\n\nAdresse: Schwertgasse 23\, 8750 Glarus\n
LOCATION:Schwertgasse 23\, 8750 Glarus
CATEGORIES:Saison 2017/18
END:VEVENT
END:VCALENDAR
