BEGIN:VCALENDAR
PRODID:-//nuDatenautomaten//framework iCal4j //DE
VERSION:2.0
CALSCALE:GREGORIAN
BEGIN:VTIMEZONE
TZID:Europe/Berlin
LAST-MODIFIED:20260306T231828Z
TZURL:https://www.tzurl.org/zoneinfo/Europe/Berlin
X-LIC-LOCATION:Europe/Berlin
X-PROLEPTIC-TZNAME:LMT
BEGIN:STANDARD
TZNAME:CET
TZOFFSETFROM:+005328
TZOFFSETTO:+0100
DTSTART:18930401T000000
END:STANDARD
BEGIN:DAYLIGHT
TZNAME:CEST
TZOFFSETFROM:+0100
TZOFFSETTO:+0200
DTSTART:19160430T230000
RDATE:19400401T020000
RDATE:19430329T020000
RDATE:19460414T020000
RDATE:19470406T030000
RDATE:19480418T020000
RDATE:19490410T020000
RDATE:19800406T020000
END:DAYLIGHT
BEGIN:STANDARD
TZNAME:CET
TZOFFSETFROM:+0200
TZOFFSETTO:+0100
DTSTART:19161001T010000
RDATE:19421102T030000
RDATE:19431004T030000
RDATE:19441002T030000
RDATE:19451118T030000
RDATE:19461007T030000
END:STANDARD
BEGIN:DAYLIGHT
TZNAME:CEST
TZOFFSETFROM:+0100
TZOFFSETTO:+0200
DTSTART:19170416T020000
RRULE:FREQ=YEARLY;UNTIL=19180415T010000Z;BYMONTH=4;BYDAY=3MO
END:DAYLIGHT
BEGIN:STANDARD
TZNAME:CET
TZOFFSETFROM:+0200
TZOFFSETTO:+0100
DTSTART:19170917T030000
RRULE:FREQ=YEARLY;UNTIL=19180916T010000Z;BYMONTH=9;BYDAY=3MO
END:STANDARD
BEGIN:DAYLIGHT
TZNAME:CEST
TZOFFSETFROM:+0100
TZOFFSETTO:+0200
DTSTART:19440403T020000
RRULE:FREQ=YEARLY;UNTIL=19450402T010000Z;BYMONTH=4;BYDAY=1MO
END:DAYLIGHT
BEGIN:DAYLIGHT
TZNAME:CEMT
TZOFFSETFROM:+0200
TZOFFSETTO:+0300
DTSTART:19450524T020000
RDATE:19470511T030000
END:DAYLIGHT
BEGIN:DAYLIGHT
TZNAME:CEST
TZOFFSETFROM:+0300
TZOFFSETTO:+0200
DTSTART:19450924T030000
RDATE:19470629T030000
END:DAYLIGHT
BEGIN:STANDARD
TZNAME:CET
TZOFFSETFROM:+0100
TZOFFSETTO:+0100
DTSTART:19460101T000000
RDATE:19800101T000000
END:STANDARD
BEGIN:STANDARD
TZNAME:CET
TZOFFSETFROM:+0200
TZOFFSETTO:+0100
DTSTART:19471005T030000
RRULE:FREQ=YEARLY;UNTIL=19491002T010000Z;BYMONTH=10;BYDAY=1SU
END:STANDARD
BEGIN:STANDARD
TZNAME:CET
TZOFFSETFROM:+0200
TZOFFSETTO:+0100
DTSTART:19800928T030000
RRULE:FREQ=YEARLY;UNTIL=19950924T010000Z;BYMONTH=9;BYDAY=-1SU
END:STANDARD
BEGIN:DAYLIGHT
TZNAME:CEST
TZOFFSETFROM:+0100
TZOFFSETTO:+0200
DTSTART:19810329T020000
RRULE:FREQ=YEARLY;BYMONTH=3;BYDAY=-1SU
END:DAYLIGHT
BEGIN:STANDARD
TZNAME:CET
TZOFFSETFROM:+0200
TZOFFSETTO:+0100
DTSTART:19961027T030000
RRULE:FREQ=YEARLY;BYMONTH=10;BYDAY=-1SU
END:STANDARD
END:VTIMEZONE
BEGIN:VEVENT
DTSTAMP:20260424T175738Z
DTSTART;TZID=Europe/Berlin:20170907T200000
DTEND;TZID=Europe/Berlin:20170907T230000
SUMMARY:HE 1.Liga Gr.1 Zürich-Affoltern II vs Wädenswil II (0)
UID:6010be51-49b1-5356-e053-1fc7a80a74f7
STATUS:CONFIRMED
LAST-MODIFIED:20170909T083447Z
DESCRIPTION:Herren 1. Liga Gruppe 1\nBegegnungs-Nr: 0\nHeim: Zürich-Affoltern II\nGast: Wädenswil II\n\nAdresse: Rümlangstr. 89\, 8052 Zürich\n
LOCATION:Rümlangstr. 89\, 8052 Zürich
CATEGORIES:Saison 2017/18
END:VEVENT
BEGIN:VEVENT
DTSTAMP:20260424T175738Z
DTSTART;TZID=Europe/Berlin:20171207T200000
DTEND;TZID=Europe/Berlin:20171207T230000
SUMMARY:HE 1.Liga Gr.1 Zürich-Affoltern II vs Wil SG III (0)
UID:6010be51-4a08-5356-e053-1fc7a80a74f7
STATUS:CONFIRMED
LAST-MODIFIED:20171213T145727Z
DESCRIPTION:Herren 1. Liga Gruppe 1\nBegegnungs-Nr: 0\nHeim: Zürich-Affoltern II\nGast: Wil SG III\n\nAdresse: Rümlangstr. 89\, 8052 Zürich\n
LOCATION:Rümlangstr. 89\, 8052 Zürich
CATEGORIES:Saison 2017/18
END:VEVENT
BEGIN:VEVENT
DTSTAMP:20260424T175738Z
DTSTART;TZID=Europe/Berlin:20171109T200000
DTEND;TZID=Europe/Berlin:20171109T230000
SUMMARY:HE 1.Liga Gr.1 Zürich-Affoltern II vs Neuhausen III (0)
UID:6010be51-4a39-5356-e053-1fc7a80a74f7
STATUS:CONFIRMED
LAST-MODIFIED:20171113T130411Z
DESCRIPTION:Herren 1. Liga Gruppe 1\nBegegnungs-Nr: 0\nHeim: Zürich-Affoltern II\nGast: Neuhausen III\n\nAdresse: Rümlangstr. 89\, 8052 Zürich\n
LOCATION:Rümlangstr. 89\, 8052 Zürich
CATEGORIES:Saison 2017/18
END:VEVENT
BEGIN:VEVENT
DTSTAMP:20260424T175738Z
DTSTART;TZID=Europe/Berlin:20171005T200000
DTEND;TZID=Europe/Berlin:20171005T230000
SUMMARY:HE 1.Liga Gr.1 Zürich-Affoltern II vs Horgen (0)
UID:6010be51-4a3f-5356-e053-1fc7a80a74f7
STATUS:CONFIRMED
LAST-MODIFIED:20171009T090119Z
DESCRIPTION:Herren 1. Liga Gruppe 1\nBegegnungs-Nr: 0\nHeim: Zürich-Affoltern II\nGast: Horgen\n\nAdresse: Rümlangstr. 89\, 8052 Zürich\n
LOCATION:Rümlangstr. 89\, 8052 Zürich
CATEGORIES:Saison 2017/18
END:VEVENT
BEGIN:VEVENT
DTSTAMP:20260424T175738Z
DTSTART;TZID=Europe/Berlin:20180322T200000
DTEND;TZID=Europe/Berlin:20180322T230000
SUMMARY:HE 1.Liga Gr.1 Zürich-Affoltern II vs Kloten III (0)
UID:6010be51-5047-5356-e053-1fc7a80a74f7
STATUS:CONFIRMED
LAST-MODIFIED:20170829T090151Z
DESCRIPTION:Herren 1. Liga Gruppe 1\nBegegnungs-Nr: 0\nHeim: Zürich-Affoltern II\nGast: Kloten III\n\nAdresse: Rümlangstr. 89\, 8052 Zürich\n
LOCATION:Rümlangstr. 89\, 8052 Zürich
CATEGORIES:Saison 2017/18
END:VEVENT
BEGIN:VEVENT
DTSTAMP:20260424T175738Z
DTSTART;TZID=Europe/Berlin:20180308T200000
DTEND;TZID=Europe/Berlin:20180308T230000
SUMMARY:HE 1.Liga Gr.1 Zürich-Affoltern II vs Affoltern A/A (0)
UID:6010be51-504f-5356-e053-1fc7a80a74f7
STATUS:CONFIRMED
LAST-MODIFIED:20180309T142956Z
DESCRIPTION:Herren 1. Liga Gruppe 1\nBegegnungs-Nr: 0\nHeim: Zürich-Affoltern II\nGast: Affoltern A/A\n\nAdresse: Rümlangstr. 89\, 8052 Zürich\n
LOCATION:Rümlangstr. 89\, 8052 Zürich
CATEGORIES:Saison 2017/18
END:VEVENT
BEGIN:VEVENT
DTSTAMP:20260424T175738Z
DTSTART;TZID=Europe/Berlin:20180125T200000
DTEND;TZID=Europe/Berlin:20180125T230000
SUMMARY:HE 1.Liga Gr.1 Zürich-Affoltern II vs Rapperswil-Jona II (0)
UID:6010be51-508d-5356-e053-1fc7a80a74f7
STATUS:CONFIRMED
LAST-MODIFIED:20180129T105029Z
DESCRIPTION:Herren 1. Liga Gruppe 1\nBegegnungs-Nr: 0\nHeim: Zürich-Affoltern II\nGast: Rapperswil-Jona II\n\nAdresse: Rümlangstr. 89\, 8052 Zürich\n
LOCATION:Rümlangstr. 89\, 8052 Zürich
CATEGORIES:Saison 2017/18
END:VEVENT
BEGIN:VEVENT
DTSTAMP:20260424T175738Z
DTSTART;TZID=Europe/Berlin:20171115T193000
DTEND;TZID=Europe/Berlin:20171115T223000
SUMMARY:HE 1.Liga Gr.1 Kloten III vs Zürich-Affoltern II (0)
UID:6010be51-4a37-5356-e053-1fc7a80a74f7
STATUS:CONFIRMED
LAST-MODIFIED:20170829T090010Z
DESCRIPTION:Herren 1. Liga Gruppe 1\nBegegnungs-Nr: 0\nHeim: Kloten III\nGast: Zürich-Affoltern II\n\nAdresse: Schluefweg 10\, 8302 Kloten\n
LOCATION:Schluefweg 10\, 8302 Kloten
CATEGORIES:Saison 2017/18
END:VEVENT
BEGIN:VEVENT
DTSTAMP:20260424T175738Z
DTSTART;TZID=Europe/Berlin:20171030T194500
DTEND;TZID=Europe/Berlin:20171030T224500
SUMMARY:HE 1.Liga Gr.1 Affoltern A/A vs Zürich-Affoltern II (0)
UID:6010be51-4a3c-5356-e053-1fc7a80a74f7
STATUS:CONFIRMED
LAST-MODIFIED:20171031T133019Z
DESCRIPTION:Herren 1. Liga Gruppe 1\nBegegnungs-Nr: 0\nHeim: Affoltern A/A\nGast: Zürich-Affoltern II\n\nAdresse: Butzenstr. 2\, 8910 Affoltern am Albis\n
LOCATION:Butzenstr. 2\, 8910 Affoltern am Albis
CATEGORIES:Saison 2017/18
END:VEVENT
BEGIN:VEVENT
DTSTAMP:20260424T175738Z
DTSTART;TZID=Europe/Berlin:20170930T153000
DTEND;TZID=Europe/Berlin:20170930T183000
SUMMARY:HE 1.Liga Gr.1 Rapperswil-Jona II vs Zürich-Affoltern II (0)
UID:6010be51-4a43-5356-e053-1fc7a80a74f7
STATUS:CONFIRMED
LAST-MODIFIED:20171002T120306Z
DESCRIPTION:Herren 1. Liga Gruppe 1\nBegegnungs-Nr: 0\nHeim: Rapperswil-Jona II\nGast: Zürich-Affoltern II\n\nAdresse: Kreuzstrasse 43\, 8640 Rapperswil\n
LOCATION:Kreuzstrasse 43\, 8640 Rapperswil
CATEGORIES:Saison 2017/18
END:VEVENT
BEGIN:VEVENT
DTSTAMP:20260424T175738Z
DTSTART;TZID=Europe/Berlin:20180312T200000
DTEND;TZID=Europe/Berlin:20180312T230000
SUMMARY:HE 1.Liga Gr.1 Neuhausen III vs Zürich-Affoltern II (0)
UID:6010be51-504b-5356-e053-1fc7a80a74f7
STATUS:CONFIRMED
LAST-MODIFIED:20180315T142942Z
DESCRIPTION:Herren 1. Liga Gruppe 1\nBegegnungs-Nr: 0\nHeim: Neuhausen III\nGast: Zürich-Affoltern II\n\nAdresse: Ebnatstrasse 35\, 8200 Schaffhausen\n
LOCATION:Ebnatstrasse 35\, 8200 Schaffhausen
CATEGORIES:Saison 2017/18
END:VEVENT
BEGIN:VEVENT
DTSTAMP:20260424T175738Z
DTSTART;TZID=Europe/Berlin:20180411T201500
DTEND;TZID=Europe/Berlin:20180411T231500
SUMMARY:HE 1.Liga Gr.1 Wil SG III vs Zürich-Affoltern II (0)
UID:6010be51-5043-5356-e053-1fc7a80a74f7
STATUS:CONFIRMED
LAST-MODIFIED:20180419T080750Z
DESCRIPTION:Herren 1. Liga Gruppe 1\nBegegnungs-Nr: 0\nHeim: Wil SG III\nGast: Zürich-Affoltern II\n\nAdresse: Lindenhofstr. 23\, 9500 Wil\n
LOCATION:Lindenhofstr. 23\, 9500 Wil
CATEGORIES:Saison 2017/18
END:VEVENT
BEGIN:VEVENT
DTSTAMP:20260424T175738Z
DTSTART;TZID=Europe/Berlin:20180207T200000
DTEND;TZID=Europe/Berlin:20180207T230000
SUMMARY:HE 1.Liga Gr.1 Horgen vs Zürich-Affoltern II (0)
UID:6010be51-5089-5356-e053-1fc7a80a74f7
STATUS:CONFIRMED
LAST-MODIFIED:20180208T110059Z
DESCRIPTION:Herren 1. Liga Gruppe 1\nBegegnungs-Nr: 0\nHeim: Horgen\nGast: Zürich-Affoltern II\n\nAdresse: Seestrasse 110\, 8810 Horgen\n
LOCATION:Seestrasse 110\, 8810 Horgen
CATEGORIES:Saison 2017/18
END:VEVENT
BEGIN:VEVENT
DTSTAMP:20260424T175738Z
DTSTART;TZID=Europe/Berlin:20180113T110000
DTEND;TZID=Europe/Berlin:20180113T140000
SUMMARY:HE 1.Liga Gr.1 Wädenswil II vs Zürich-Affoltern II (0)
UID:6010be51-5091-5356-e053-1fc7a80a74f7
STATUS:CONFIRMED
LAST-MODIFIED:20180115T093419Z
DESCRIPTION:Herren 1. Liga Gruppe 1\nBegegnungs-Nr: 0\nHeim: Wädenswil II\nGast: Zürich-Affoltern II\n\nAdresse: Fuhrstrasse 16b\, 8820 Wädenswil\n
LOCATION:Fuhrstrasse 16b\, 8820 Wädenswil
CATEGORIES:Saison 2017/18
END:VEVENT
END:VCALENDAR
