BEGIN:VCALENDAR
PRODID:-//nuDatenautomaten//framework iCal4j //DE
VERSION:2.0
CALSCALE:GREGORIAN
BEGIN:VTIMEZONE
TZID:Europe/Berlin
LAST-MODIFIED:20260306T231828Z
TZURL:https://www.tzurl.org/zoneinfo/Europe/Berlin
X-LIC-LOCATION:Europe/Berlin
X-PROLEPTIC-TZNAME:LMT
BEGIN:STANDARD
TZNAME:CET
TZOFFSETFROM:+005328
TZOFFSETTO:+0100
DTSTART:18930401T000000
END:STANDARD
BEGIN:DAYLIGHT
TZNAME:CEST
TZOFFSETFROM:+0100
TZOFFSETTO:+0200
DTSTART:19160430T230000
RDATE:19400401T020000
RDATE:19430329T020000
RDATE:19460414T020000
RDATE:19470406T030000
RDATE:19480418T020000
RDATE:19490410T020000
RDATE:19800406T020000
END:DAYLIGHT
BEGIN:STANDARD
TZNAME:CET
TZOFFSETFROM:+0200
TZOFFSETTO:+0100
DTSTART:19161001T010000
RDATE:19421102T030000
RDATE:19431004T030000
RDATE:19441002T030000
RDATE:19451118T030000
RDATE:19461007T030000
END:STANDARD
BEGIN:DAYLIGHT
TZNAME:CEST
TZOFFSETFROM:+0100
TZOFFSETTO:+0200
DTSTART:19170416T020000
RRULE:FREQ=YEARLY;UNTIL=19180415T010000Z;BYMONTH=4;BYDAY=3MO
END:DAYLIGHT
BEGIN:STANDARD
TZNAME:CET
TZOFFSETFROM:+0200
TZOFFSETTO:+0100
DTSTART:19170917T030000
RRULE:FREQ=YEARLY;UNTIL=19180916T010000Z;BYMONTH=9;BYDAY=3MO
END:STANDARD
BEGIN:DAYLIGHT
TZNAME:CEST
TZOFFSETFROM:+0100
TZOFFSETTO:+0200
DTSTART:19440403T020000
RRULE:FREQ=YEARLY;UNTIL=19450402T010000Z;BYMONTH=4;BYDAY=1MO
END:DAYLIGHT
BEGIN:DAYLIGHT
TZNAME:CEMT
TZOFFSETFROM:+0200
TZOFFSETTO:+0300
DTSTART:19450524T020000
RDATE:19470511T030000
END:DAYLIGHT
BEGIN:DAYLIGHT
TZNAME:CEST
TZOFFSETFROM:+0300
TZOFFSETTO:+0200
DTSTART:19450924T030000
RDATE:19470629T030000
END:DAYLIGHT
BEGIN:STANDARD
TZNAME:CET
TZOFFSETFROM:+0100
TZOFFSETTO:+0100
DTSTART:19460101T000000
RDATE:19800101T000000
END:STANDARD
BEGIN:STANDARD
TZNAME:CET
TZOFFSETFROM:+0200
TZOFFSETTO:+0100
DTSTART:19471005T030000
RRULE:FREQ=YEARLY;UNTIL=19491002T010000Z;BYMONTH=10;BYDAY=1SU
END:STANDARD
BEGIN:STANDARD
TZNAME:CET
TZOFFSETFROM:+0200
TZOFFSETTO:+0100
DTSTART:19800928T030000
RRULE:FREQ=YEARLY;UNTIL=19950924T010000Z;BYMONTH=9;BYDAY=-1SU
END:STANDARD
BEGIN:DAYLIGHT
TZNAME:CEST
TZOFFSETFROM:+0100
TZOFFSETTO:+0200
DTSTART:19810329T020000
RRULE:FREQ=YEARLY;BYMONTH=3;BYDAY=-1SU
END:DAYLIGHT
BEGIN:STANDARD
TZNAME:CET
TZOFFSETFROM:+0200
TZOFFSETTO:+0100
DTSTART:19961027T030000
RRULE:FREQ=YEARLY;BYMONTH=10;BYDAY=-1SU
END:STANDARD
END:VTIMEZONE
BEGIN:VEVENT
DTSTAMP:20260424T151033Z
DTSTART;TZID=Europe/Berlin:20171011T194500
DTEND;TZID=Europe/Berlin:20171011T224500
SUMMARY:Ligue 3 Gr.2\, Ph.A Onex vs Rapid-Genève II (11)
UID:6010be51-53d3-5356-e053-1fc7a80a74f7
STATUS:CONFIRMED
LAST-MODIFIED:20171012T113310Z
DESCRIPTION:3ème ligue Hommes Gr. 2 Phase A\nBegegnungs-Nr: 11\nHeim: Onex\nGast: Rapid-Genève II\n
LOCATION:
CATEGORIES:Saison 2017/18
END:VEVENT
BEGIN:VEVENT
DTSTAMP:20260424T151033Z
DTSTART;TZID=Europe/Berlin:20171213T194500
DTEND;TZID=Europe/Berlin:20171213T224500
SUMMARY:Ligue 3 Gr.2\, Ph.A Onex vs Châtelaine VI (29)
UID:6010be51-5500-5356-e053-1fc7a80a74f7
STATUS:CONFIRMED
LAST-MODIFIED:20171214T143904Z
DESCRIPTION:3ème ligue Hommes Gr. 2 Phase A\nBegegnungs-Nr: 29\nHeim: Onex\nGast: Châtelaine VI\n
LOCATION:
CATEGORIES:Saison 2017/18
END:VEVENT
BEGIN:VEVENT
DTSTAMP:20260424T151033Z
DTSTART;TZID=Europe/Berlin:20171129T194500
DTEND;TZID=Europe/Berlin:20171129T224500
SUMMARY:Ligue 3 Gr.2\, Ph.A Onex vs ZZ-Lancy XI (24)
UID:6010be51-5504-5356-e053-1fc7a80a74f7
STATUS:CONFIRMED
LAST-MODIFIED:20171130T153104Z
DESCRIPTION:3ème ligue Hommes Gr. 2 Phase A\nBegegnungs-Nr: 24\nHeim: Onex\nGast: ZZ-Lancy XI\n
LOCATION:
CATEGORIES:Saison 2017/18
END:VEVENT
BEGIN:VEVENT
DTSTAMP:20260424T151033Z
DTSTART;TZID=Europe/Berlin:20171108T194500
DTEND;TZID=Europe/Berlin:20171108T224500
SUMMARY:Ligue 3 Gr.2\, Ph.A Onex vs Carouge V (16)
UID:6010be51-550a-5356-e053-1fc7a80a74f7
STATUS:CONFIRMED
LAST-MODIFIED:20171109T123205Z
DESCRIPTION:3ème ligue Hommes Gr. 2 Phase A\nBegegnungs-Nr: 16\nHeim: Onex\nGast: Carouge V\n
LOCATION:
CATEGORIES:Saison 2017/18
END:VEVENT
BEGIN:VEVENT
DTSTAMP:20260424T151033Z
DTSTART;TZID=Europe/Berlin:20180411T194500
DTEND;TZID=Europe/Berlin:20180411T224500
SUMMARY:Ligue 3 Gr.2\, Ph.B Onex vs Mandement III (27)
UID:ae941df1-d876-4cce-83aa-a8e325d8de58
STATUS:CONFIRMED
LAST-MODIFIED:20180412T190652Z
DESCRIPTION:3ème ligue Hommes Gr. 2 Phase B\nBegegnungs-Nr: 27\nHeim: Onex\nGast: Mandement III\n
LOCATION:
CATEGORIES:Saison 2017/18
END:VEVENT
BEGIN:VEVENT
DTSTAMP:20260424T151033Z
DTSTART;TZID=Europe/Berlin:20170920T194500
DTEND;TZID=Europe/Berlin:20170920T224500
SUMMARY:Ligue 3 Gr.2\, Ph.A Onex vs Versoix III (5)
UID:6010be51-5be5-5356-e053-1fc7a80a74f7
STATUS:CONFIRMED
LAST-MODIFIED:20170921T131203Z
DESCRIPTION:3ème ligue Hommes Gr. 2 Phase A\nBegegnungs-Nr: 5\nHeim: Onex\nGast: Versoix III\n
LOCATION:
CATEGORIES:Saison 2017/18
END:VEVENT
BEGIN:VEVENT
DTSTAMP:20260424T151033Z
DTSTART;TZID=Europe/Berlin:20180131T194500
DTEND;TZID=Europe/Berlin:20180131T224500
SUMMARY:Ligue 3 Gr.2\, Ph.B Onex vs Puplinge (9)
UID:2107bedf-0c4f-4fbc-9441-0ff432683aca
STATUS:CONFIRMED
LAST-MODIFIED:20180201T132548Z
DESCRIPTION:3ème ligue Hommes Gr. 2 Phase B\nBegegnungs-Nr: 9\nHeim: Onex\nGast: Puplinge\n
LOCATION:
CATEGORIES:Saison 2017/18
END:VEVENT
BEGIN:VEVENT
DTSTAMP:20260424T151033Z
DTSTART;TZID=Europe/Berlin:20180117T194500
DTEND;TZID=Europe/Berlin:20180117T224500
SUMMARY:Ligue 3 Gr.2\, Ph.B Onex vs Carouge VII (6)
UID:f3c70405-89dd-400a-894c-2f2225d2f510
STATUS:CONFIRMED
LAST-MODIFIED:20180118T164859Z
DESCRIPTION:3ème ligue Hommes Gr. 2 Phase B\nBegegnungs-Nr: 6\nHeim: Onex\nGast: Carouge VII\n
LOCATION:
CATEGORIES:Saison 2017/18
END:VEVENT
BEGIN:VEVENT
DTSTAMP:20260424T151033Z
DTSTART;TZID=Europe/Berlin:20180418T194500
DTEND;TZID=Europe/Berlin:20180418T224500
SUMMARY:Ligue 3 Gr.2\, Ph.B Onex vs UGS-Chênois X (30)
UID:833a0f03-2209-425f-8151-ef17d935c351
STATUS:CONFIRMED
LAST-MODIFIED:20180419T120131Z
DESCRIPTION:3ème ligue Hommes Gr. 2 Phase B\nBegegnungs-Nr: 30\nHeim: Onex\nGast: UGS-Chênois X\n
LOCATION:
CATEGORIES:Saison 2017/18
END:VEVENT
BEGIN:VEVENT
DTSTAMP:20260424T151033Z
DTSTART;TZID=Europe/Berlin:20180307T194500
DTEND;TZID=Europe/Berlin:20180307T224500
SUMMARY:Ligue 3 Gr.2\, Ph.B Onex vs Migros (18)
UID:5b9eca12-a19c-4fa3-a50f-a91c3b19f18d
STATUS:CONFIRMED
LAST-MODIFIED:20180309T175446Z
DESCRIPTION:3ème ligue Hommes Gr. 2 Phase B\nBegegnungs-Nr: 18\nHeim: Onex\nGast: Migros\n
LOCATION:
CATEGORIES:Saison 2017/18
END:VEVENT
BEGIN:VEVENT
DTSTAMP:20260424T151033Z
DTSTART;TZID=Europe/Berlin:20171115T194500
DTEND;TZID=Europe/Berlin:20171115T224500
SUMMARY:Ligue 3 Gr.2\, Ph.A Versoix III vs Onex (20)
UID:6010be51-5507-5356-e053-1fc7a80a74f7
STATUS:CONFIRMED
LAST-MODIFIED:20171116T125744Z
DESCRIPTION:3ème ligue Hommes Gr. 2 Phase A\nBegegnungs-Nr: 20\nHeim: Versoix III\nGast: Onex\n
LOCATION:
CATEGORIES:Saison 2017/18
END:VEVENT
BEGIN:VEVENT
DTSTAMP:20260424T151033Z
DTSTART;TZID=Europe/Berlin:20171018T194500
DTEND;TZID=Europe/Berlin:20171018T224500
SUMMARY:Ligue 3 Gr.2\, Ph.A Châtelaine VI vs Onex (13)
UID:6010be51-550c-5356-e053-1fc7a80a74f7
STATUS:CONFIRMED
LAST-MODIFIED:20171019T114842Z
DESCRIPTION:3ème ligue Hommes Gr. 2 Phase A\nBegegnungs-Nr: 13\nHeim: Châtelaine VI\nGast: Onex\n
LOCATION:
CATEGORIES:Saison 2017/18
END:VEVENT
BEGIN:VEVENT
DTSTAMP:20260424T151033Z
DTSTART;TZID=Europe/Berlin:20170913T194500
DTEND;TZID=Europe/Berlin:20170913T224500
SUMMARY:Ligue 3 Gr.2\, Ph.A Carouge V vs Onex (1)
UID:6010be51-53d2-5356-e053-1fc7a80a74f7
STATUS:CONFIRMED
LAST-MODIFIED:20170914T114130Z
DESCRIPTION:3ème ligue Hommes Gr. 2 Phase A\nBegegnungs-Nr: 1\nHeim: Carouge V\nGast: Onex\n
LOCATION:
CATEGORIES:Saison 2017/18
END:VEVENT
BEGIN:VEVENT
DTSTAMP:20260424T151033Z
DTSTART;TZID=Europe/Berlin:20180321T194500
DTEND;TZID=Europe/Berlin:20180321T224500
SUMMARY:Ligue 3 Gr.2\, Ph.B Puplinge vs Onex (24)
UID:fe70e1cf-5362-475d-a228-50937c79fe33
STATUS:CONFIRMED
LAST-MODIFIED:20180322T183033Z
DESCRIPTION:3ème ligue Hommes Gr. 2 Phase B\nBegegnungs-Nr: 24\nHeim: Puplinge\nGast: Onex\n
LOCATION:
CATEGORIES:Saison 2017/18
END:VEVENT
BEGIN:VEVENT
DTSTAMP:20260424T151033Z
DTSTART;TZID=Europe/Berlin:20180207T194500
DTEND;TZID=Europe/Berlin:20180207T224500
SUMMARY:Ligue 3 Gr.2\, Ph.B Mandement III vs Onex (12)
UID:a7cde66d-dcf7-4ee0-8e75-8373f7d708ac
STATUS:CONFIRMED
LAST-MODIFIED:20180207T230941Z
DESCRIPTION:3ème ligue Hommes Gr. 2 Phase B\nBegegnungs-Nr: 12\nHeim: Mandement III\nGast: Onex\n
LOCATION:
CATEGORIES:Saison 2017/18
END:VEVENT
BEGIN:VEVENT
DTSTAMP:20260424T151033Z
DTSTART;TZID=Europe/Berlin:20171206T194500
DTEND;TZID=Europe/Berlin:20171206T224500
SUMMARY:Ligue 3 Gr.2\, Ph.A Rapid-Genève II vs Onex (26)
UID:6010be51-5a4c-5356-e053-1fc7a80a74f7
STATUS:CONFIRMED
LAST-MODIFIED:20171207T134047Z
DESCRIPTION:3ème ligue Hommes Gr. 2 Phase A\nBegegnungs-Nr: 26\nHeim: Rapid-Genève II\nGast: Onex\n
LOCATION:
CATEGORIES:Saison 2017/18
END:VEVENT
BEGIN:VEVENT
DTSTAMP:20260424T151033Z
DTSTART;TZID=Europe/Berlin:20170927T201500
DTEND;TZID=Europe/Berlin:20170927T231500
SUMMARY:Ligue 3 Gr.2\, Ph.A ZZ-Lancy XI vs Onex (9)
UID:6010be51-5c71-5356-e053-1fc7a80a74f7
STATUS:CONFIRMED
LAST-MODIFIED:20170928T181429Z
DESCRIPTION:3ème ligue Hommes Gr. 2 Phase A\nBegegnungs-Nr: 9\nHeim: ZZ-Lancy XI\nGast: Onex\n\nAdresse: Avenue du Curé-Baud 40\, 1212 Grand-Lancy\n
LOCATION:Avenue du Curé-Baud 40\, 1212 Grand-Lancy
CATEGORIES:Saison 2017/18
END:VEVENT
BEGIN:VEVENT
DTSTAMP:20260424T151033Z
DTSTART;TZID=Europe/Berlin:20180110T194500
DTEND;TZID=Europe/Berlin:20180110T224500
SUMMARY:Ligue 3 Gr.2\, Ph.B Migros vs Onex (3)
UID:6b233c79-5938-47ee-8070-5f52082b2bfd
STATUS:CONFIRMED
LAST-MODIFIED:20180111T172907Z
DESCRIPTION:3ème ligue Hommes Gr. 2 Phase B\nBegegnungs-Nr: 3\nHeim: Migros\nGast: Onex\n
LOCATION:
CATEGORIES:Saison 2017/18
END:VEVENT
BEGIN:VEVENT
DTSTAMP:20260424T151033Z
DTSTART;TZID=Europe/Berlin:20180314T194500
DTEND;TZID=Europe/Berlin:20180314T224500
SUMMARY:Ligue 3 Gr.2\, Ph.B Carouge VII vs Onex (21)
UID:3ce81848-5484-4621-a193-7651ae359668
STATUS:CONFIRMED
LAST-MODIFIED:20180316T080715Z
DESCRIPTION:3ème ligue Hommes Gr. 2 Phase B\nBegegnungs-Nr: 21\nHeim: Carouge VII\nGast: Onex\n
LOCATION:
CATEGORIES:Saison 2017/18
END:VEVENT
BEGIN:VEVENT
DTSTAMP:20260424T151033Z
DTSTART;TZID=Europe/Berlin:20180228T194500
DTEND;TZID=Europe/Berlin:20180228T224500
SUMMARY:Ligue 3 Gr.2\, Ph.B UGS-Chênois X vs Onex (15)
UID:b63ca335-c9fe-460b-a4df-e8dbdf920a32
STATUS:CONFIRMED
LAST-MODIFIED:20180302T205025Z
DESCRIPTION:3ème ligue Hommes Gr. 2 Phase B\nBegegnungs-Nr: 15\nHeim: UGS-Chênois X\nGast: Onex\n
LOCATION:
CATEGORIES:Saison 2017/18
END:VEVENT
BEGIN:VEVENT
DTSTAMP:20260424T151033Z
DTSTART;TZID=Europe/Berlin:20180530T194500
DTEND;TZID=Europe/Berlin:20180530T224500
SUMMARY:Ligue 3 Promo\, Ph.B Meyrin III vs Onex (1)
UID:4c379373-5630-40d2-abf6-3baa491720cd
STATUS:CONFIRMED
LAST-MODIFIED:20180531T143014Z
DESCRIPTION:3ème ligue Hommes Promo Phase B\nBegegnungs-Nr: 1\nHeim: Meyrin III\nGast: Onex\n
LOCATION:
CATEGORIES:Saison 2017/18
END:VEVENT
END:VCALENDAR
