BEGIN:VCALENDAR
PRODID:-//nuDatenautomaten//framework iCal4j //DE
VERSION:2.0
CALSCALE:GREGORIAN
BEGIN:VTIMEZONE
TZID:Europe/Berlin
LAST-MODIFIED:20260306T231828Z
TZURL:https://www.tzurl.org/zoneinfo/Europe/Berlin
X-LIC-LOCATION:Europe/Berlin
X-PROLEPTIC-TZNAME:LMT
BEGIN:STANDARD
TZNAME:CET
TZOFFSETFROM:+005328
TZOFFSETTO:+0100
DTSTART:18930401T000000
END:STANDARD
BEGIN:DAYLIGHT
TZNAME:CEST
TZOFFSETFROM:+0100
TZOFFSETTO:+0200
DTSTART:19160430T230000
RDATE:19400401T020000
RDATE:19430329T020000
RDATE:19460414T020000
RDATE:19470406T030000
RDATE:19480418T020000
RDATE:19490410T020000
RDATE:19800406T020000
END:DAYLIGHT
BEGIN:STANDARD
TZNAME:CET
TZOFFSETFROM:+0200
TZOFFSETTO:+0100
DTSTART:19161001T010000
RDATE:19421102T030000
RDATE:19431004T030000
RDATE:19441002T030000
RDATE:19451118T030000
RDATE:19461007T030000
END:STANDARD
BEGIN:DAYLIGHT
TZNAME:CEST
TZOFFSETFROM:+0100
TZOFFSETTO:+0200
DTSTART:19170416T020000
RRULE:FREQ=YEARLY;UNTIL=19180415T010000Z;BYMONTH=4;BYDAY=3MO
END:DAYLIGHT
BEGIN:STANDARD
TZNAME:CET
TZOFFSETFROM:+0200
TZOFFSETTO:+0100
DTSTART:19170917T030000
RRULE:FREQ=YEARLY;UNTIL=19180916T010000Z;BYMONTH=9;BYDAY=3MO
END:STANDARD
BEGIN:DAYLIGHT
TZNAME:CEST
TZOFFSETFROM:+0100
TZOFFSETTO:+0200
DTSTART:19440403T020000
RRULE:FREQ=YEARLY;UNTIL=19450402T010000Z;BYMONTH=4;BYDAY=1MO
END:DAYLIGHT
BEGIN:DAYLIGHT
TZNAME:CEMT
TZOFFSETFROM:+0200
TZOFFSETTO:+0300
DTSTART:19450524T020000
RDATE:19470511T030000
END:DAYLIGHT
BEGIN:DAYLIGHT
TZNAME:CEST
TZOFFSETFROM:+0300
TZOFFSETTO:+0200
DTSTART:19450924T030000
RDATE:19470629T030000
END:DAYLIGHT
BEGIN:STANDARD
TZNAME:CET
TZOFFSETFROM:+0100
TZOFFSETTO:+0100
DTSTART:19460101T000000
RDATE:19800101T000000
END:STANDARD
BEGIN:STANDARD
TZNAME:CET
TZOFFSETFROM:+0200
TZOFFSETTO:+0100
DTSTART:19471005T030000
RRULE:FREQ=YEARLY;UNTIL=19491002T010000Z;BYMONTH=10;BYDAY=1SU
END:STANDARD
BEGIN:STANDARD
TZNAME:CET
TZOFFSETFROM:+0200
TZOFFSETTO:+0100
DTSTART:19800928T030000
RRULE:FREQ=YEARLY;UNTIL=19950924T010000Z;BYMONTH=9;BYDAY=-1SU
END:STANDARD
BEGIN:DAYLIGHT
TZNAME:CEST
TZOFFSETFROM:+0100
TZOFFSETTO:+0200
DTSTART:19810329T020000
RRULE:FREQ=YEARLY;BYMONTH=3;BYDAY=-1SU
END:DAYLIGHT
BEGIN:STANDARD
TZNAME:CET
TZOFFSETFROM:+0200
TZOFFSETTO:+0100
DTSTART:19961027T030000
RRULE:FREQ=YEARLY;BYMONTH=10;BYDAY=-1SU
END:STANDARD
END:VTIMEZONE
BEGIN:VEVENT
DTSTAMP:20260424T175747Z
DTSTART;TZID=Europe/Berlin:20171128T201500
DTEND;TZID=Europe/Berlin:20171128T231500
SUMMARY:HE 4. Liga Gr. 6 Herzogenbuchsee III vs Hindelbank II (23)
UID:6010be51-3d23-5356-e053-1fc7a80a74f7
STATUS:CONFIRMED
LAST-MODIFIED:20171128T221827Z
DESCRIPTION:4. Liga Herren Gruppe 6\nBegegnungs-Nr: 23\nHeim: Herzogenbuchsee III\nGast: Hindelbank II\n\nAdresse: Ringstrasse 10\, 3360 Herzogenbuchsee\n
LOCATION:Ringstrasse 10\, 3360 Herzogenbuchsee
CATEGORIES:Saison 2017/18
END:VEVENT
BEGIN:VEVENT
DTSTAMP:20260424T175747Z
DTSTART;TZID=Europe/Berlin:20180202T200000
DTEND;TZID=Europe/Berlin:20180202T230000
SUMMARY:HE 4. Liga Gr. 6 Herzogenbuchsee III vs Utzenstorf (7)
UID:6010be51-3dff-5356-e053-1fc7a80a74f7
STATUS:CONFIRMED
LAST-MODIFIED:20180202T225021Z
DESCRIPTION:4. Liga Herren Gruppe 6\nBegegnungs-Nr: 7\nHeim: Herzogenbuchsee III\nGast: Utzenstorf\n\nAdresse: Ringstrasse 10\, 3360 Herzogenbuchsee\n
LOCATION:Ringstrasse 10\, 3360 Herzogenbuchsee
CATEGORIES:Saison 2017/18
END:VEVENT
BEGIN:VEVENT
DTSTAMP:20260424T175747Z
DTSTART;TZID=Europe/Berlin:20171010T201500
DTEND;TZID=Europe/Berlin:20171010T231500
SUMMARY:HE 4. Liga Gr. 6 Herzogenbuchsee III vs Kirchberg III (12)
UID:6010be51-3d59-5356-e053-1fc7a80a74f7
STATUS:CONFIRMED
LAST-MODIFIED:20171010T211729Z
DESCRIPTION:4. Liga Herren Gruppe 6\nBegegnungs-Nr: 12\nHeim: Herzogenbuchsee III\nGast: Kirchberg III\n\nAdresse: Ringstrasse 10\, 3360 Herzogenbuchsee\n
LOCATION:Ringstrasse 10\, 3360 Herzogenbuchsee
CATEGORIES:Saison 2017/18
END:VEVENT
BEGIN:VEVENT
DTSTAMP:20260424T175747Z
DTSTART;TZID=Europe/Berlin:20180327T201500
DTEND;TZID=Europe/Berlin:20180327T231500
SUMMARY:HE 4. Liga Gr. 6 Herzogenbuchsee III vs Wynigen II (27)
UID:6010be51-3d98-5356-e053-1fc7a80a74f7
STATUS:CONFIRMED
LAST-MODIFIED:20180327T212152Z
DESCRIPTION:4. Liga Herren Gruppe 6\nBegegnungs-Nr: 27\nHeim: Herzogenbuchsee III\nGast: Wynigen II\n\nAdresse: Ringstrasse 10\, 3360 Herzogenbuchsee\n
LOCATION:Ringstrasse 10\, 3360 Herzogenbuchsee
CATEGORIES:Saison 2017/18
END:VEVENT
BEGIN:VEVENT
DTSTAMP:20260424T175747Z
DTSTART;TZID=Europe/Berlin:20180302T200000
DTEND;TZID=Europe/Berlin:20180302T230000
SUMMARY:HE 4. Liga Gr. 6 Herzogenbuchsee III vs Langenthal III (19)
UID:6010be51-3dcd-5356-e053-1fc7a80a74f7
STATUS:CONFIRMED
LAST-MODIFIED:20180302T220918Z
DESCRIPTION:4. Liga Herren Gruppe 6\nBegegnungs-Nr: 19\nHeim: Herzogenbuchsee III\nGast: Langenthal III\n\nAdresse: Ringstrasse 10\, 3360 Herzogenbuchsee\n
LOCATION:Ringstrasse 10\, 3360 Herzogenbuchsee
CATEGORIES:Saison 2017/18
END:VEVENT
BEGIN:VEVENT
DTSTAMP:20260424T175747Z
DTSTART;TZID=Europe/Berlin:20180220T201500
DTEND;TZID=Europe/Berlin:20180220T231500
SUMMARY:HE 4. Liga Gr. 6 Herzogenbuchsee III vs Burgdorf VIII (13)
UID:6010be51-3dd5-5356-e053-1fc7a80a74f7
STATUS:CONFIRMED
LAST-MODIFIED:20180222T192235Z
DESCRIPTION:4. Liga Herren Gruppe 6\nBegegnungs-Nr: 13\nHeim: Herzogenbuchsee III\nGast: Burgdorf VIII\n\nAdresse: Ringstrasse 10\, 3360 Herzogenbuchsee\n
LOCATION:Ringstrasse 10\, 3360 Herzogenbuchsee
CATEGORIES:Saison 2017/18
END:VEVENT
BEGIN:VEVENT
DTSTAMP:20260424T175747Z
DTSTART;TZID=Europe/Berlin:20171003T201500
DTEND;TZID=Europe/Berlin:20171003T231500
SUMMARY:HE 4. Liga Gr. 6 Herzogenbuchsee III vs Port VI (2)
UID:6010be51-4ba9-5356-e053-1fc7a80a74f7
STATUS:CONFIRMED
LAST-MODIFIED:20171003T210730Z
DESCRIPTION:4. Liga Herren Gruppe 6\nBegegnungs-Nr: 2\nHeim: Herzogenbuchsee III\nGast: Port VI\n\nAdresse: Ringstrasse 10\, 3360 Herzogenbuchsee\n
LOCATION:Ringstrasse 10\, 3360 Herzogenbuchsee
CATEGORIES:Saison 2017/18
END:VEVENT
BEGIN:VEVENT
DTSTAMP:20260424T175747Z
DTSTART;TZID=Europe/Berlin:20171130T200000
DTEND;TZID=Europe/Berlin:20171130T230000
SUMMARY:HE 4. Liga Gr. 6 Wynigen II vs Herzogenbuchsee III (27)
UID:6010be51-3d20-5356-e053-1fc7a80a74f7
STATUS:CONFIRMED
LAST-MODIFIED:20171202T185205Z
DESCRIPTION:4. Liga Herren Gruppe 6\nBegegnungs-Nr: 27\nHeim: Wynigen II\nGast: Herzogenbuchsee III\n
LOCATION:
CATEGORIES:Saison 2017/18
END:VEVENT
BEGIN:VEVENT
DTSTAMP:20260424T175747Z
DTSTART;TZID=Europe/Berlin:20171104T140000
DTEND;TZID=Europe/Berlin:20171104T170000
SUMMARY:HE 4. Liga Gr. 6 Burgdorf VIII vs Herzogenbuchsee III (13)
UID:6010be51-56b6-5356-e053-1fc7a80a74f7
STATUS:CONFIRMED
LAST-MODIFIED:20171105T134928Z
DESCRIPTION:4. Liga Herren Gruppe 6\nBegegnungs-Nr: 13\nHeim: Burgdorf VIII\nGast: Herzogenbuchsee III\n\nAdresse: Pestalozzistrasse 69\, 3400 Burgdorf\n
LOCATION:Pestalozzistrasse 69\, 3400 Burgdorf
CATEGORIES:Saison 2017/18
END:VEVENT
BEGIN:VEVENT
DTSTAMP:20260424T175747Z
DTSTART;TZID=Europe/Berlin:20170921T200000
DTEND;TZID=Europe/Berlin:20170921T230000
SUMMARY:HE 4. Liga Gr. 6 Utzenstorf vs Herzogenbuchsee III (7)
UID:6010be51-4794-5356-e053-1fc7a80a74f7
STATUS:CONFIRMED
LAST-MODIFIED:20170921T210635Z
DESCRIPTION:4. Liga Herren Gruppe 6\nBegegnungs-Nr: 7\nHeim: Utzenstorf\nGast: Herzogenbuchsee III\n\nAdresse: Gotthelfstrasse 15a\, 3427 Utzenstorf\n
LOCATION:Gotthelfstrasse 15a\, 3427 Utzenstorf
CATEGORIES:Saison 2017/18
END:VEVENT
BEGIN:VEVENT
DTSTAMP:20260424T175747Z
DTSTART;TZID=Europe/Berlin:20171215T194500
DTEND;TZID=Europe/Berlin:20171215T224500
SUMMARY:HE 4. Liga Gr. 6 Port VI vs Herzogenbuchsee III (2)
UID:6010be51-3e04-5356-e053-1fc7a80a74f7
STATUS:CONFIRMED
LAST-MODIFIED:20171217T071031Z
DESCRIPTION:4. Liga Herren Gruppe 6\nBegegnungs-Nr: 2\nHeim: Port VI\nGast: Herzogenbuchsee III\n\nAdresse: Allmendstrasse 23\, 2562 Port\n
LOCATION:Allmendstrasse 23\, 2562 Port
CATEGORIES:Saison 2017/18
END:VEVENT
BEGIN:VEVENT
DTSTAMP:20260424T175747Z
DTSTART;TZID=Europe/Berlin:20180123T193000
DTEND;TZID=Europe/Berlin:20180123T223000
SUMMARY:HE 4. Liga Gr. 6 Kirchberg III vs Herzogenbuchsee III (12)
UID:6010be51-3dc4-5356-e053-1fc7a80a74f7
STATUS:CONFIRMED
LAST-MODIFIED:20180124T174557Z
DESCRIPTION:4. Liga Herren Gruppe 6\nBegegnungs-Nr: 12\nHeim: Kirchberg III\nGast: Herzogenbuchsee III\n\nAdresse: Reinhardweg\, 3422 Kirchberg\n
LOCATION:Reinhardweg\, 3422 Kirchberg
CATEGORIES:Saison 2017/18
END:VEVENT
BEGIN:VEVENT
DTSTAMP:20260424T175747Z
DTSTART;TZID=Europe/Berlin:20171106T200000
DTEND;TZID=Europe/Berlin:20171106T230000
SUMMARY:HE 4. Liga Gr. 6 Langenthal III vs Herzogenbuchsee III (19)
UID:6010be51-5ba7-5356-e053-1fc7a80a74f7
STATUS:CONFIRMED
LAST-MODIFIED:20171107T130117Z
DESCRIPTION:4. Liga Herren Gruppe 6\nBegegnungs-Nr: 19\nHeim: Langenthal III\nGast: Herzogenbuchsee III\n\nAdresse: Weststrasse 29\, 4900 Langenthal\n
LOCATION:Weststrasse 29\, 4900 Langenthal
CATEGORIES:Saison 2017/18
END:VEVENT
BEGIN:VEVENT
DTSTAMP:20260424T175747Z
DTSTART;TZID=Europe/Berlin:20180309T200000
DTEND;TZID=Europe/Berlin:20180309T230000
SUMMARY:HE 4. Liga Gr. 6 Hindelbank II vs Herzogenbuchsee III (23)
UID:6010be51-3dca-5356-e053-1fc7a80a74f7
STATUS:CONFIRMED
LAST-MODIFIED:20180310T185132Z
DESCRIPTION:4. Liga Herren Gruppe 6\nBegegnungs-Nr: 23\nHeim: Hindelbank II\nGast: Herzogenbuchsee III\nHalle: Turnhalle Oberstufenzentrum\nAdresse: Schulhausweg 8\, 3324 Hindelbank\n
LOCATION:Turnhalle Oberstufenzentrum Schulhausweg 8\, 3324 Hindelbank
CATEGORIES:Saison 2017/18
END:VEVENT
END:VCALENDAR
